BEGIN:VCALENDAR
VERSION:2.0
PRODID:-//WA Innovation Calendar - ECPv6.15.20//NONSGML v1.0//EN
CALSCALE:GREGORIAN
METHOD:PUBLISH
X-WR-CALNAME:WA Innovation Calendar
X-ORIGINAL-URL:https://wainnovationcalendar.com.au
X-WR-CALDESC:Events for WA Innovation Calendar
REFRESH-INTERVAL;VALUE=DURATION:PT1H
X-Robots-Tag:noindex
X-PUBLISHED-TTL:PT1H
BEGIN:VTIMEZONE
TZID:Australia/Perth
BEGIN:STANDARD
TZOFFSETFROM:+0800
TZOFFSETTO:+0800
TZNAME:AWST
DTSTART:20210101T000000
END:STANDARD
END:VTIMEZONE
BEGIN:VTIMEZONE
TZID:Africa/Abidjan
BEGIN:STANDARD
TZOFFSETFROM:+0000
TZOFFSETTO:+0000
TZNAME:GMT
DTSTART:20230101T000000
END:STANDARD
END:VTIMEZONE
BEGIN:VEVENT
DTSTART;TZID=Australia/Perth:20251111T081500
DTEND;TZID=Australia/Perth:20251111T180000
DTSTAMP:20260421T081121
CREATED:20251008T083010Z
LAST-MODIFIED:20251015T060818Z
UID:10003907-1762848900-1762884000@wainnovationcalendar.com.au
SUMMARY:Remix Summit Perth 2025
DESCRIPTION:REMIX Summits explore the future of the Creative Industries\, Creative Places\, and the Creative Economy; join us at WA Museum Boola Bardip for a field guide to what’s coming next.\nIt is part of a network of summits held in leafing creative cities including New York\, Sydney\, London\, Istanbul and Dubai; attended by hundreds of innovation leaders each year. \nSpeakers at REMIX Summit Perth include: \n\nJohn McGrath (UK)\, CEO\, Factory International (Aviva Studios)\, Manchester International Festival – “World’s Greatest Places” Time Magazine\nJérôme de Baecque\, Director (APAC)\, Moment Factory – “Most Innovative Live Event Company” in the world\, Fast Company\nHon Simone McGurk\, Minister for Creative Industries; Heritage; Industrial Relations; Aged Care and Seniors; Women\nKen Arnold (Denmark)\, International Museum Leader including the Wellcome Collection (UK Museum of the Year) &amp; Medical Museion (Copenhagen)\nDaisy Angus\, Founding Creative Director\, Nuanu Creative City (Bali\, Indonesia) &amp; Founder\, Oshom – Nuanu Creative City is a $250m creative industries led city and community of the future in Bali founded by billionaire Bade Subono. with 3 million annual visitors it aims to reshape culture\, creativity and sustainable destinations\nJoel McGuinness\, Director Experience\, State Library Victoria &amp; former CEO\, Geelong Arts Centre – winner\, Performing Arts Centre of the Year\nKate Fielding\, CEO\, A New Approach – Australia’s national arts &amp; culture think tank\nSean Lee (South Korea)\, CEO\, ARTE Museum – 10 million visitors to immersive galleries in USA\, UAE\, South Korea &amp; China\nDenise Damianos\, Marketing &amp; Partnerships Director\, Melbourne International Comedy Festival on using AI to support audience engagement\nNimrod Weis\, Artist &amp; Founder\, ENESS – award-winning experiential art studio inc. Exhibition of the Year (FRAME) &amp; collaborator Balloon Museum (10 million visitors)\n\nREMIX Summit Perth is supported by the City of Perth\, the Department of Creative Industries\, Tourism and Sport\, ECU\, UWA Creative Australia \nREMIX Summit Perth 2025
URL:https://wainnovationcalendar.com.au/event/remix-summit-perth-2025/
LOCATION:WA Museum Boola Bardip\, Perth Cultural Centre\, Perth\, WA\, 6000\, Australia
CATEGORIES:Conference / Summit / Symposium
ATTACH;FMTTYPE=image/jpeg:https://wainnovationcalendar.com.au/wp-content/uploads/2025/10/lon-resized-2-2.jpg
ORGANIZER;CN="REMIX Summits":MAILTO:hello@remixsummits.com
END:VEVENT
BEGIN:VEVENT
DTSTART;TZID=Australia/Perth:20250618T170000
DTEND;TZID=Australia/Perth:20250618T200000
DTSTAMP:20260421T081121
CREATED:20250606T111716Z
LAST-MODIFIED:20250607T022354Z
UID:10003365-1750266000-1750276800@wainnovationcalendar.com.au
SUMMARY:A Night of Innovation // The Fifth Industrial Revolution
DESCRIPTION:Imagine a future where WA leads the world in ethical disruption – a future where technological advancement amplifies humanity. \nWe’re thrilled to announce ‘A Night of Innovation // The Fifth Industrial Revolution\,’ a bigger\, bolder\, and brighter edition of our Night of Innovation series.  \nIn the era of the Fifth Industrial Revolution\, bold ideas don’t just happen — they transform industries by blending human intelligence with the power of generative AI. \nJoin our live discussion as we fire up debates such as: \n\nHumans and Machines collaborating? Real or imagined?\nWhat they aren’t telling us about AGI\nA.I. Agents – the risks and opportunities\nWill A.I. make our brains smaller?\n\n\n\nECU together with supporters Modern People\, Creative Tech Village\, SoMedia and WA Museum Boola Bardip are joining forces to deliver our most disruptive edition of a Night of Innovation yet. Once again\, we’re committing to propelling as many WA startups as possible on their path to success\, but this time\, we’re upping the ante. Expect a strong investor presence\, a streamlined group of startups with longer pitch times\, and more generous prizes than ever before. \nWhat can you expect from the night? \n\nLisa Longman\, Director\, Bloom\nDr. Laurie Hughes\, Assoc. Professor at Edith Cowan University\nSophie Bull\, Senior Strategist at Frog\n\n\nA future-focused evening hosted by the energetic Andy Lamb as MC\, guiding us through conversations that matter. \n🔑 Keynote Presentation\nHear from Nathan Moane\, Director of Business Development at Worley\, as he explores Reinvention through A.I.\, an insider’s take on how a global leader is embracing transformation through technology. \n💬 Panel Discussion: Industry 5.0 Human + Machine Collaboration – Risks + Opportunities\nUnpack the risks and opportunities of Industry 5.0 with our expert panel: \nDon’t miss this chance to experience the future of innovation in WA — book your spot and be part of the revolution. \n(If you’re interested in showcasing or partnering with us\, please contact: purpose@modernpeople.com.au.  We are excited to hear your innovative ideas!) \nLearn more and register: A Night of Innovation // The Fifth Industrial Revolution
URL:https://wainnovationcalendar.com.au/event/a-night-of-innovation-the-fifth-industrial-revolution/
LOCATION:WA Museum Boola Bardip\, Perth Cultural Centre\, Perth\, WA\, 6000\, Australia
CATEGORIES:Showcase / Pitch / Demo / Tour
ATTACH;FMTTYPE=image/png:https://wainnovationcalendar.com.au/wp-content/uploads/2025/06/MASTER-LOGO-1.png
END:VEVENT
BEGIN:VEVENT
DTSTART;TZID=Australia/Perth:20250321T073000
DTEND;TZID=Australia/Perth:20250321T093000
DTSTAMP:20260421T081121
CREATED:20250304T015937Z
LAST-MODIFIED:20250304T015937Z
UID:10002995-1742542200-1742549400@wainnovationcalendar.com.au
SUMMARY:2024-2025 National Innovation Policy Forum
DESCRIPTION:The Australian Innovation system – Policy Innovation to foster a new Australian Business Model \nA panel of experts will provoke discussion of what a future Australian business model could be to ensure the nation is able to prosper into the future. If what got us here won’t get us to where we want to go\, what do we need to change and how do we do it? \n 
URL:https://wainnovationcalendar.com.au/event/2024-2025-national-innovation-policy-forum/
LOCATION:WA Museum Boola Bardip\, Perth Cultural Centre\, Perth\, WA\, 6000\, Australia
CATEGORIES:Seminar / Panel Discussion / Conversation
END:VEVENT
BEGIN:VEVENT
DTSTART;TZID=Australia/Perth:20241121T080000
DTEND;TZID=Australia/Perth:20241121T190000
DTSTAMP:20260421T081121
CREATED:20241109T042136Z
LAST-MODIFIED:20241109T042241Z
UID:10002715-1732176000-1732215600@wainnovationcalendar.com.au
SUMMARY:REMIX Summit Perth 2024 – Culture\, Technology\, Entrepreneurship
DESCRIPTION:Culture\, Tech & Entrepreneurship \nREMIX Summits explore the future of the Creative Industries; join us at WA Museum Boola Bardip for a field guide to what’s coming next. \nSpeakers at REMIX Summit Perth include: \n– Ana Brzezinska\, Immersive Curator\, Tribeca Festival (USA)\n– Sarah Ellis Director of Digital Development\, RSC (Royal Shakespeare Company\, UK)\, and one of the most influential people working in arts and technology today\n– Dr Helen Charman\, Director of Learning & National Programmes\, V&A – led the development of the new Young V&A museum – Art Fund Museum of the Year\, the world’s biggest museum prize “child’s play with added wonder” The Guardian \n– Other speakers include Moment Factory – “the most innovative live event company in the world” (Fast Company) – behind projects including the Aura Invalides immersive experience in Paris and Fever – the billion-dollar Netflix of Experiences featuring Candlelight Concerts\, The Queen’s Ball: A Bridgerton Experience\, Stranger Things Experience\, Secret Media Network. We are also joined by the Creative Technologist & Artist-in-Residence of Leonardo.Ai (Canva) who is also a leading digital artist with works exhibited at Sundance Film Festival\, SXSW\, Cannes & Tate on what the AI revolution means for creatives & many more. Other speakers include Wētā (Lord of the Rings\, Deadpool\, Avatar) and Epic Games (Unreal Engine & E-sports phenomenon ‘Fortnite’). WA speakers include Perth Festival\, the WA Museum and the new Perth Film Studios. \nREMIX Summit Perth is supported by the City of Perth\, ECU\, UWA\, Creative Australia and the Department of Local Government\, Sport and Cultural Industries & Creative Australia.
URL:https://wainnovationcalendar.com.au/event/remix-summit-perth-2024-culture-technology-entrepreneurship/
LOCATION:WA Museum Boola Bardip\, Perth Cultural Centre\, Perth\, WA\, 6000\, Australia
CATEGORIES:Conference / Summit / Symposium
ATTACH;FMTTYPE=image/jpeg:https://wainnovationcalendar.com.au/wp-content/uploads/2024/11/REMIX-Perth.jpg
ORGANIZER;CN="REMIX Summits":MAILTO:hello@remixsummits.com
END:VEVENT
BEGIN:VEVENT
DTSTART;TZID=Africa/Abidjan:20241121T080000
DTEND;TZID=Africa/Abidjan:20241121T170000
DTSTAMP:20260421T081121
CREATED:20240906T035531Z
LAST-MODIFIED:20260312T052034Z
UID:10002547-1732176000-1732208400@wainnovationcalendar.com.au
SUMMARY:REMIX Summit 2024
DESCRIPTION:REMIX Summit Perth brings together pioneers from a myriad of industries to explore the future of the creative and cultural industries\, creative cities and the creative economy. REMIX Perth is part of a network of summits held in leading creative cities including New York\, London\, Istanbul and Dubai; attended by thousands of creative leaders. \nBack for its fifth edition\, REMIX Perth explores the trends shaping the future of the creative economy in Western Australia: from cultural tourism to the future of work\, new models for cultural organisations to data insights\, and plenty more.
URL:https://wainnovationcalendar.com.au/event/remix-summit-2024/
LOCATION:WA Museum Boola Bardip\, Perth Cultural Centre\, Perth\, WA\, 6000\, Australia
CATEGORIES:Conference / Summit / Symposium
END:VEVENT
BEGIN:VEVENT
DTSTART;TZID=Australia/Perth:20240515T170000
DTEND;TZID=Australia/Perth:20240515T193000
DTSTAMP:20260421T081121
CREATED:20240315T064318Z
LAST-MODIFIED:20260407T055733Z
UID:10002024-1715792400-1715801400@wainnovationcalendar.com.au
SUMMARY:Alchemy: A Night of Innovation
DESCRIPTION:Embark on an alchemical journey of transformation at the WA Museum as we present Alchemy | A Night of Innovation. In collaboration with Modern People\, StartupWA\, So Perth\, and StartupNews\, and hosted within the captivating ambiance of Boola Bardip\, this is an unparalled pitch night that promises to transmute ideas into gold and redefine the startup ecosystem in Western Australian. \n\nWHAT CAN YOU EXPECT?  \n\nExclusive Pitches: Witness ten visionary startups unveil their formulas for success. Guided by intensive mentorship\, these innovators will distill their ideas into potent 4-minute pitches\, aiming to capture the imagination of investors\, a revered panel\, and the wider startup community\nStartup Alley: Immerse yourself in the alchemical laboratory of the Startup Alley\, a dynamic space where attendees can engage with the minds behind the pitches. Here\, you’ll have the opportunity to explore the transformative potential of each project and uncover investment opportunities before and after the main presentations.\nInteractive and Engaging: Become an active participant in the process. Cast your vote for the most promising innovations\, witness stage interviews with the top three startups\, and forge connections with fellow innovators\, investors\, and thought leaders in the field.\n\n\nWHO SHOULD ATTEND? \nEntrepreneurs\, investors\, business leaders\, tech enthusiasts\, and anyone passionate about innovation and the future of our planet. Whether you’re looking to invest\, collaborate\, or simply immerse yourself in the world of startups and innovation\, ALCHEMY offers an unparalleled opportunity to be at the forefront of WA’s startup scene. \nWednesday 15th May\n5-7:30PM Hackett Hall\, WA Museum Boola Bardip\n\nWe’re dedicated to fostering connections that support business growth and innovation development.\nOur commitment extends beyond the night\, ensuring that connections are nurtured and brilliant ideas pitched don’t just remain ideas but are alchemised into tangible\, impactful realities. \nDon’t miss out on this standout event in the startup calendar.\nTogether\, let’s propel WA into a future where innovation knows no bounds.\n\n** This is a cash bar event.
URL:https://wainnovationcalendar.com.au/event/alchemy-a-night-of-innovation/
LOCATION:WA Museum Boola Bardip\, Perth Cultural Centre\, Perth\, WA\, 6000\, Australia
CATEGORIES:Networking / Group Meetup,Showcase / Pitch / Demo / Tour
END:VEVENT
BEGIN:VEVENT
DTSTART;TZID=Australia/Perth:20230914T081500
DTEND;TZID=Australia/Perth:20230914T171500
DTSTAMP:20260421T081121
CREATED:20230823T112142Z
LAST-MODIFIED:20260407T042323Z
UID:10001620-1694679300-1694711700@wainnovationcalendar.com.au
SUMMARY:REMIX Summit Perth 2023
DESCRIPTION:REMIX Summits explore the future of the Creative Industries\, Creative Places\, and the Creative Economy.\nIt is a field guide to what’s coming next: a day of inspirational talks\, discussions and networking.\nHear from and meet innovators and changemakers from sectors including the creative industries\, media\, technology & more. \nREMIX Perth is part of a network of summits held in leafing creative cities including New York\, Sydney\, London\, Istanbul and Dubai; attended by thousands of creative leaders. \nThe 2023 REMIX Perth Summit features over 15 speakers including: \n• Jody Malam – Creative Director\, OUTERNET GLOBAL (UK) a new billion-pound creative precinct featuring “the largest digital exhibition space in Europe” – Forbes\n• Rohan Silva – Co-Founder\, SECOND HOME (UK) “the new creative hothouse” Wallpaper* Magazine & former innovation advisor to the UK Prime Minister\n• Helen Simondson – General Manager\, WA MUSEUM BOOLA BARDIP\n• Colin Walker – Director\, AGWA (ART GALLERY OF WESTERN AUSTRALIA\n• Shelagh Magadza – Executive Director\, Culture and the Arts\, DEPARTMENT OF LOCAL GOVERNMENT\, SPORT & CULTURAL INDUSTRIES \nSocial events are integral to the REMIX experience and all tickets include access to the official reception on the new rooftop bar at AGWA. \nREMIX Summit Perth is made possible through a partnership with the City of Perth and the Department of Local Government\, Sport and Cultural Industries.\nThis is a critical time in the development of the creative industries in WA with both opportunities and challenges on the horizon in a changing world and REMIX Perth will play a key role in exploring the future of the sector. \nOur last event in Perth was a sellout so don’t miss out & book now!
URL:https://wainnovationcalendar.com.au/event/remix-summit-perth-2023/
LOCATION:WA Museum Boola Bardip\, Perth Cultural Centre\, Perth\, WA\, 6000\, Australia
CATEGORIES:Conference / Summit / Symposium
ATTACH;FMTTYPE=image/jpeg:https://wainnovationcalendar.com.au/wp-content/uploads/2023/08/REMIX-Summit-Perth.jpg
ORGANIZER;CN="REMIX Summits":MAILTO:hello@remixsummits.com
END:VEVENT
BEGIN:VEVENT
DTSTART;TZID=Australia/Perth:20230912T170000
DTEND;TZID=Australia/Perth:20230912T200000
DTSTAMP:20260421T081121
CREATED:20230808T041114Z
LAST-MODIFIED:20260407T042316Z
UID:10001609-1694538000-1694548800@wainnovationcalendar.com.au
SUMMARY:Pitch Night: A Night of Innovation // Breakthrough
DESCRIPTION:Imagine a future where WA leads the world in ethical disruption; where every truly brilliant idea can break through.\n\nWe’re thrilled to announce ‘A Night of Innovation // Breakthrough\,’ a bigger\, bolder\, and brighter edition of our Night of Innovation tradition. \nThis September\, Modern People\, Evolv3 and WA Museum Boola Bardip are joining forces with StartupWA for Breakthrough. Once again\, we’re committing to propelling as many WA startups as possible on their path to success\, but this time\, we’re upping the ante. Expect a strong investor presence\, a streamlined group of startups with longer pitch times\, and more generous prizes than ever before. \nWhat can you expect from the night? \n\nA keynote on Breaking Through in WA by industry experts\nA series of speed pitches from some far-reaching innovators in WA\nAn opportunity to network with start-ups\, innovators and investors\nThe Panel’s Choice and People’s Choice finalists\nOn-stage interviews with the top 3\nPrizes\nAnd much more\n\nDon’t miss out on this golden opportunity to support breakthrough innovation in WA; book now. \n(If you’re interested in pitching on the night\, please reach out to info@startupwa.org. We are excited to hear your innovative ideas!)
URL:https://wainnovationcalendar.com.au/event/pitch-night-a-night-of-innovation-breakthrough/
LOCATION:WA Museum Boola Bardip\, Perth Cultural Centre\, Perth\, WA\, 6000\, Australia
CATEGORIES:Showcase / Pitch / Demo / Tour
END:VEVENT
BEGIN:VEVENT
DTSTART;TZID=Australia/Perth:20230810T183000
DTEND;TZID=Australia/Perth:20230810T203000
DTSTAMP:20260421T081121
CREATED:20230704T080003Z
LAST-MODIFIED:20260407T071222Z
UID:10001533-1691692200-1691699400@wainnovationcalendar.com.au
SUMMARY:In Conversation: The Rise of AI
DESCRIPTION:Explore the potential of AI with Professor Ajmal Mian as he examines its benefits and risks. \nAI technology has the potential to revolutionize our world with its promised benefits of personalized medicine\, workplace efficiency\, and autonomous vehicles. However\, it also poses significant concerns such as perpetuating biases\, displacing human workers\, and spreading misinformation. \nAs AI rapidly evolves\, join our panel of experts in an exploration of these complex issues. We’ll discuss how we can harness its power while ensuring responsible and ethical use before we’re outrun by its speed. \nMeet the Facilitator \nBen O’Shea hosts The West Australian’s flagship news podcast\, The West Live. Before that he was editor of Inside Cover\, and currently also writes a weekly NFL column for The Sunday Times\, hosts a movie show called Reel Talk and regularly reports on science. \nMeet the Speakers \nAjmal Mian is a Professor of Artificial Intelligence at The University of Western Australia is a renowned scholar with numerous achievements. He has received three esteemed national fellowships\, including the 2022 Future Fellowship award from the Australian Research Council. As a Fellow of the International Association for Pattern Recognition\, a Distinguished Speaker of the Association for Computing Machinery\, and President of the Australian Pattern Recognition Society\, his expertise is widely recognized. \nAjmal has been honoured with awards like the West Australian Early Career Scientist of the Year (2012) and the HBF Mid-Career Scientist of the Year (2022). He serves as a Chief Investigator on various AI research projects and an editor for multiple scientific journals. He has supervised 24 PhD students to completion and published over 270 scientific papers. \nMore speakers to be announced in future. \nIn Conversation \nIn Conversation is a monthly conversation series held at WA Museum Boola Bardip. Listen to previous conversations.
URL:https://wainnovationcalendar.com.au/event/in-conversation-the-rise-of-ai/
LOCATION:WA Museum Boola Bardip\, Perth Cultural Centre\, Perth\, WA\, 6000\, Australia
CATEGORIES:Seminar / Panel Discussion / Conversation
END:VEVENT
BEGIN:VEVENT
DTSTART;TZID=Australia/Perth:20230321T170000
DTEND;TZID=Australia/Perth:20230321T200000
DTSTAMP:20260421T081121
CREATED:20230127T091455Z
LAST-MODIFIED:20260408T014747Z
UID:10001104-1679418000-1679428800@wainnovationcalendar.com.au
SUMMARY:Pitch Night at the Museum 3
DESCRIPTION:Every year\, the innovation industry is growing and expanding even further. With new ideas and creations propelling us faster forward into the future – now is the time to showcase the innovations we have right here in WA! \nJoin us in Perth’s hub of art\, culture and technology on Tuesday 21st March for our THIRD Pitch Night in partnership with the WA Museum\, helping as many WA Startups as we can to accelerate their journey! \nThis year we’re focusing on the new global movement towards Net Positivity. All across the globe\, more companies and innovators are working towards putting back more into society\, the environment and the global economy than they take out. This means taking into consideration your impact through every product\, every operation\, every region and country and for every stakeholder\, including employees\, suppliers\, communities and customers\, and even future generations and the planet itself. \nLess ‘bad’ leads us down the wrong path. We should be creating MORE good. Net Zero is not the end goal. \nWhat does the night look like? \n\nA Net Positive keynote by guest speaker\n2 minute speed pitches from WA’s top innovators;\nnetworking so you can meet them;\nvoting for your favourites; and\nStage interviews with your top 3.\n\n(Reach out to steve@evolv3.net if you are interested in pitching on the night!)
URL:https://wainnovationcalendar.com.au/event/pitch-night-at-the-museum-3/
LOCATION:WA Museum Boola Bardip\, Perth Cultural Centre\, Perth\, WA\, 6000\, Australia
END:VEVENT
BEGIN:VEVENT
DTSTART;TZID=Australia/Perth:20220907T173000
DTEND;TZID=Australia/Perth:20220907T200000
DTSTAMP:20260421T081121
CREATED:20220418T065117Z
LAST-MODIFIED:20260407T062835Z
UID:10000684-1662571800-1662580800@wainnovationcalendar.com.au
SUMMARY:Pitch Night at the Museum 2
DESCRIPTION:What happens when you give a handful of start-ups and innovators 2 minutes each\, put them in the heart of culture\, technology\, arts and surround them with an energetic group of innovation supporters\, facilitators and educators? \nAn incredible showcase of emerging talent who are trailblazing in all kinds of industries\, from education to medical technology. \nModern People and The Unleashed Zone are hosting our second pitch night for the year – a night to celebrate the innovation we have right here in our city. Whether you’d like to share your new ideas and creations with the audience\, or you’d like to sit back and experience the magic for yourself – we’re opening the door to expressions of interest early. The room filled up quickly last time\, don’t miss out – grab your spot below!
URL:https://wainnovationcalendar.com.au/event/pitch-night-at-the-museum-2/
LOCATION:WA Museum Boola Bardip\, Perth Cultural Centre\, Perth\, WA\, 6000\, Australia
CATEGORIES:Showcase / Pitch / Demo / Tour
END:VEVENT
BEGIN:VEVENT
DTSTART;TZID=Australia/Perth:20220406T173000
DTEND;TZID=Australia/Perth:20220406T200000
DTSTAMP:20260421T081121
CREATED:20220127T110109Z
LAST-MODIFIED:20260408T021416Z
UID:10000608-1649266200-1649275200@wainnovationcalendar.com.au
SUMMARY:Pitch Night at The Museum
DESCRIPTION:The past couple years have seen a boom in innovation\, with new ideas and creations propelling us faster forward into the future. \n  \nAre you a supporter of WA Startups? \nDo you want to find a Startup to invest in? \n  \nJoin us in Perth’s hub of art\, culture and technology on the 6th April\, we are running a pitching and networking night to help as many WA Startups as we can to accelerate their journey! \n  \nWhat does this look like? \n  \n● 2 minute speed pitches from WA’s top innovators; \n● networking so you can meet them; \n● voting for your favourites; and \n● Stage interviews with your top 3. \n  \nThis will be a hybrid live and online session with limited tickets available for the live event. \n  \nBook NOW!
URL:https://wainnovationcalendar.com.au/event/pitch-night/
LOCATION:WA Museum Boola Bardip\, Perth Cultural Centre\, Perth\, WA\, 6000\, Australia
CATEGORIES:Showcase / Pitch / Demo / Tour
END:VEVENT
END:VCALENDAR