BEGIN:VCALENDAR
VERSION:2.0
PRODID:-//WA Innovation Calendar - ECPv6.15.20//NONSGML v1.0//EN
CALSCALE:GREGORIAN
METHOD:PUBLISH
X-WR-CALNAME:WA Innovation Calendar
X-ORIGINAL-URL:https://wainnovationcalendar.com.au
X-WR-CALDESC:Events for WA Innovation Calendar
REFRESH-INTERVAL;VALUE=DURATION:PT1H
X-Robots-Tag:noindex
X-PUBLISHED-TTL:PT1H
BEGIN:VTIMEZONE
TZID:Australia/Perth
BEGIN:STANDARD
TZOFFSETFROM:+0800
TZOFFSETTO:+0800
TZNAME:AWST
DTSTART:20220101T000000
END:STANDARD
END:VTIMEZONE
BEGIN:VEVENT
DTSTART;TZID=Australia/Perth:20240821T133000
DTEND;TZID=Australia/Perth:20240821T160000
DTSTAMP:20260423T083404
CREATED:20240801T023157Z
LAST-MODIFIED:20260407T031323Z
UID:10002401-1724247000-1724256000@wainnovationcalendar.com.au
SUMMARY:Mining Industry Emerging Products Innovation Summit
DESCRIPTION:Mining Industry Emerging Products Innovation Summit\, hosted by Innovate Australia\, is a pivotal event dedicated to advancing sustainable mining practices through the innovative recycling and reuse of mine tailings.\n This summit brings together leading mining experts\, environmental scientists\, and policy influencers to explore cutting-edge technologies and methodologies that transform waste into wealth. Focusing on the sustainability and circular economy within the mining sector\, the event aims to highlight effective strategies for tailings management\, resource recovery\, and environmental rehabilitation.\n As a critical platform for dialogue and partnership\, the summit facilitates the exchange of insights and case studies\, driving the mining industry towards more sustainable and responsible practices. This initiative by Innovate Australia marks a crucial step in promoting environmental stewardship and operational efficiency in the global mining landscape.
URL:https://wainnovationcalendar.com.au/event/mining-industry-emerging-products-innovation-summit/
LOCATION:The Rise\, 28 Eight Avenue\, Maylands\, WA\, Australia
CATEGORIES:Conference / Summit / Symposium
ORGANIZER;CN="Innovate Australia":MAILTO:steve.carroll@innovateaustralia.org
END:VEVENT
BEGIN:VEVENT
DTSTART;TZID=Australia/Perth:20240724T133000
DTEND;TZID=Australia/Perth:20240724T160000
DTSTAMP:20260423T083404
CREATED:20240702T075847Z
LAST-MODIFIED:20260407T033141Z
UID:10002327-1721827800-1721836800@wainnovationcalendar.com.au
SUMMARY:Data Innovation Summit
DESCRIPTION:The Data Innovation Summit: Data Infrastructure: From Edge Computing to Cloud Mastery\, hosted by Innovate Australia\, is a pivotal event dedicated to the evolution of data infrastructure. This summit brings together leading experts in data centers\, cloud computing\, and edge technologies to discuss the latest advancements and best practices in the industry\, focusing on building efficient\, secure\, and scalable data ecosystems. \n\n\n\nThe summit will explore critical aspects of data infrastructure\, including the design and optimization of data centers\, power backup solutions\, and cutting-edge storage technologies. Participants will delve into the integration of hybrid cloud solutions and the role of edge computing in reducing latency and enhancing data processing capabilities. \nThe event aims to drive the data industry towards more resilient and sustainable practices by highlighting real-world case studies and innovative solutions. Innovate Australia is committed to promoting technological excellence and environmental stewardship in the data sector through this initiative. This summit serves as a crucial platform for fostering collaboration and innovation\, ensuring data infrastructure is robust\, efficient\, and prepared for the future of digital transformation. \n\nPresenters: \n– Russell Wilson\, Business Development and Deployment\, Ecocentric Energy \n– David Lucido\, Managing Director\, Sentient Hubs \n– Dr Maciej Cytowski\, Head of Scientific Services\, Pawsey Supercomputing Centre \n– Joshua J Morley GAICD\, Global Head of Artificial Intelligence Data & Analytics\, Akkodis
URL:https://wainnovationcalendar.com.au/event/data-innovation-summit/
LOCATION:The Rise\, 28 Eight Avenue\, Maylands\, WA\, Australia
CATEGORIES:Conference / Summit / Symposium
ATTACH;FMTTYPE=image/png:https://wainnovationcalendar.com.au/wp-content/uploads/2024/07/dataInnovationSummit.png
ORGANIZER;CN="Innovate Australia":MAILTO:steve.carroll@innovateaustralia.org
END:VEVENT
BEGIN:VEVENT
DTSTART;TZID=Australia/Perth:20240706T100000
DTEND;TZID=Australia/Perth:20240706T140000
DTSTAMP:20260423T083404
CREATED:20240214T051213Z
LAST-MODIFIED:20260407T055653Z
UID:10001908-1720260000-1720274400@wainnovationcalendar.com.au
SUMMARY:Innovation Technology Festival
DESCRIPTION:Join us at The RISE Community Centre Maylands for an immersive technology festival on July 6\, 2024. Connect with industry experts. \n\n\n\n\n\n\n\nINNOVATION TECHNOLOGY FESTIVAL – The RISE \nCome join us at The RISE\, located at 28 Eighth Av\, Maylands\, WA\, 6051\, for an exciting and immersive technology festival on Saturday\, July 6\, 2024. Get ready to dive into the world of innovation and explore the latest advancements in technology. \nAt this in-person event\, you’ll have the opportunity to connect with industry experts\, attend engaging workshops\, and witness awe-inspiring demonstrations. Whether you’re a tech enthusiast\, a budding entrepreneur\, or simply curious about the future\, this festival is perfect for you. \nDiscover cutting-edge gadgets\, robotics\, virtual reality\, artificial intelligence\, and much more. Immerse yourself in the interactive exhibits and gain insights from renowned speakers who are at the forefront of technological innovation. \nDon’t miss out on this incredible opportunity to be a part of the INNOVATION TECHNOLOGY FESTIVAL @ The RISE COMMUNITY CENTRE MAYLANDS \n. Mark your calendars and get ready to experience the future firsthand. See you there!
URL:https://wainnovationcalendar.com.au/event/innovation-technology-festival/
LOCATION:The Rise\, 28 Eight Avenue\, Maylands\, WA\, Australia
CATEGORIES:Conference / Summit / Symposium
END:VEVENT
BEGIN:VEVENT
DTSTART;TZID=Australia/Perth:20240515T133000
DTEND;TZID=Australia/Perth:20240515T160000
DTSTAMP:20260423T083404
CREATED:20240426T070930Z
LAST-MODIFIED:20260407T035500Z
UID:10002162-1715779800-1715788800@wainnovationcalendar.com.au
SUMMARY:Innovation Summit: Food Hubs and Vertical Farming
DESCRIPTION:Exploring sustainable agriculture’s future at the Food Hubs & Vertical Farming Innovation Summit\, focusing on tech and efficiency. \n\n\n\n\n\n\n\n\n\n\nThe Food Hubs and Vertical Farming Innovation Summit\, organized by Innovate Australia\, aims to spotlight sustainable agriculture advancements through the exploration of food hubs and vertical farming. This gathering invites agricultural innovators\, industry experts\, and entrepreneurs to engage in discussions on urban agriculture\, resource optimization\, and sustainable food production techniques. The summit focuses on practical applications\, showcasing technological breakthroughs and fostering collaboration within the sector. As an initiative by Innovate Australia\, it seeks to promote innovative practices for more effective food production and distribution\, thereby contributing to environmental sustainability and enhancing community well-being. This event represents a significant opportunity for professionals to learn\, network\, and discover solutions that will shape the future of agriculture.
URL:https://wainnovationcalendar.com.au/event/innovation-summit-food-hubs-and-vertical-farming/
LOCATION:The Rise\, 28 Eight Avenue\, Maylands\, WA\, Australia
CATEGORIES:Conference / Summit / Symposium
ORGANIZER;CN="Innovate Australia":MAILTO:steve.carroll@innovateaustralia.org
END:VEVENT
BEGIN:VEVENT
DTSTART;TZID=Australia/Perth:20240326T133000
DTEND;TZID=Australia/Perth:20240326T160000
DTSTAMP:20260423T083404
CREATED:20240312T081357Z
LAST-MODIFIED:20260407T055724Z
UID:10002017-1711459800-1711468800@wainnovationcalendar.com.au
SUMMARY:Innovation Summit: Decarbonising Supply Chain Logistics
DESCRIPTION:Empowering Sustainability\, Transforming Logistics: Driving the Future of Carbon Neutral Supply Chains \n\n\n\n\n\n\n\n\n\n\nDecarbonising Supply Chain Logistics Innovation Summit\, organised by Innovate Australia\, serves as a cornerstone event aimed at revolutionising the global supply chain landscape with sustainability and innovation at its core. This summit assembles industry forerunners\, breakthrough innovators\, and influential policymakers to delve into advanced strategies and technologies essential for achieving carbon neutrality across the supply chain spectrum. Highlighting sustainable sourcing\, eco-conscious manufacturing\, green logistics\, and waste minimization\, the summit is dedicated to knowledge exchange\, collaborative ventures\, and showcasing practical solutions for minimising carbon emissions. As a pivotal gathering orchestrated by Innovate Australia\, it represents a significant leap towards fostering resilient\, efficient\, and environmentally sustainable supply chains\, underpinning a greener global economy. \n\n\n\n\n\n\n\n🌟 Summit Highlights:\nDecarbonising Supply Chain Logistics Innovation Summit is a landmark event that brings together thought leaders\, industry experts\, and innovators from around the globe to address the critical challenge of reducing carbon emissions within supply chain logistics. Highlights of the summit include cutting-edge presentations on sustainable practices\, panel discussions on the future of green logistics\, and workshops on implementing circular economy principles. Attendees will explore advancements in electric transportation\, renewable energy integration\, and digital technologies that enhance efficiency and transparency. This summit is a pivotal platform for sharing insights\, fostering partnerships\, and driving actionable strategies toward achieving a carbon-neutral supply chain\, marking a significant step forward in the global effort to combat climate change.
URL:https://wainnovationcalendar.com.au/event/innovation-summit-decarbonising-supply-chain-logistics/
LOCATION:The Rise\, 28 Eight Avenue\, Maylands\, WA\, Australia
CATEGORIES:Conference / Summit / Symposium
ORGANIZER;CN="Innovate Australia":MAILTO:steve.carroll@innovateaustralia.org
END:VEVENT
BEGIN:VEVENT
DTSTART;TZID=Australia/Perth:20240228T180000
DTEND;TZID=Australia/Perth:20240228T200000
DTSTAMP:20260423T083404
CREATED:20240209T045440Z
LAST-MODIFIED:20260407T055646Z
UID:10001896-1709143200-1709150400@wainnovationcalendar.com.au
SUMMARY:AI Innovation Summit Australia-Poland
DESCRIPTION:Showcasing Poland & Australia’s AI Achievements – Independent Innovations\, Converging Visions for Tomorrow! \n\n\n\n\n\n\nGet ready to embark on an international AI journey at the AI Innovation Summit: Australia-Poland. We are excited to bring an international dimension to this summit\, bridging connections between AI enthusiasts\, professionals\, and experts from both Australia and Poland. This complimentary public event is your gateway to exploring the unique AI developments emerging from these countries\, promoting an exchange of knowledge and showcasing the forefront of AI innovations. Look forward to dynamic discussions\, invaluable networking opportunities\, and insights from leading figures in the industry. Moreover\, we will delve into the ethical and societal impacts of AI across different cultural landscapes. Join us in celebrating the synergy of AI innovation from the Land Down Under and the heart of Central Europe.\n\n\n🎤 Our MC/Moderator: \n🔹 Peter Kasprzak\, Chairman\, Innovate Australia\nAs the Chairman of Innovate Australia\, Peter Kasprzak is dedicated to promoting innovation and entrepreneurship. With decades of experience in various industries\, Peter is passionate about connecting people and ideas to drive positive change. An enthusiastic user of AI\, particularly ChatGPT\, Peter appreciates its cutting-edge innovation but also advocates for responsible and ethical use to address potential concerns. \n🎙️ Our Presenters:\n🔹 Paul Bitdorf\, Executive Chairman\, Nicheliving; Honorary Consul of Poland in Perth\nPaul Bitdorf stands as a distinguished figure in both the business and diplomatic landscapes\, serving as the Executive Chairman of Nicheliving\, a forefront innovator in affordable housing solutions in Australia\, and as the Honorary Consul of Poland in Perth\, Australia. His dual roles exemplify his dedication to fostering strong economic ties and cultural exchanges between Australia and Poland. Paul’s leadership at Nicheliving has been pivotal in driving the company’s growth and success\, leveraging his vast experience to navigate the complex intersections of real estate development and international diplomacy. His work as Honorary Consul underscores his commitment to enhancing bilateral relationships\, offering a bridge for collaboration and mutual understanding between the two nations. \n🔹 Tym Pieglowski\, President at Polish Australian Business Forum (PABF)\nTym Pieglowski is an advisor and entrepreneur\, passionate about simple solutions to complex problems. He has expertiese in public and private sector clients on transport infrastructure solutions. He is a civil engineer specialising in travel demand forecasting for highway\, public transport\, freight and aviation. Untill recently Tim was a Director of the PwC Financial Advisory team. Prior to joining PwC\, Tym was the founding Director of TMK Consult providing project management\, transport planning and travel demand forecasting services for the NSW Government transport infrastructure projects. He has over 15 years of experience working in Australia\, the UK and Poland. \n🔹 Professor Piotr Skrzypczyński\, Deputy Leader – Robotics and Artificial Intelligence\, Centre for Artificial Intelligence and Cybersecurity\, Poznań University of Technology in Poland\nProfessor Piotr Skrzypczyński serves as the Deputy Leader of Robotics and Artificial Intelligence at the Centre for Artificial Intelligence and Cybersecurity\, Poznań University of Technology\, Poland. With a distinguished academic and research career\, Skrzypczyński has contributed significantly to the fields of robotics and computer science\, authoring over 160 technical papers. His expertise spans AI-based robotics\, robot navigation\, SLAM (Simultaneous Localization and Mapping)\, computer vision\, and machine learning. Holding a Ph.D. and D.Sc. in robotics from the Poznań University of Technology\, his work is pivotal in advancing the understanding and application of AI and robotics. Skrzypczyński’s leadership at the Institute of Robotics and Machine Intelligence underscores his commitment to driving innovation and excellence in AI research and development. \n🔹 Dr. Richard Kowalczyk\, Chair in Artificial Intelligence at SmartSat CRC at the University of South Australia\nDr. Richard Kowalczyk holds the esteemed position of SmartSat CRC Chair in Artificial Intelligence at the University of South Australia in Adelaide. With a prolific background that includes serving as the Director of Swinburne Key Lab for Intelligent Software Systems and leading the Distributed AI Systems Research Group\, as well as being the inaugural Wipro Chair of Artificial Intelligence at Swinburne University of Technology in Melbourne\, his contributions to AI are profound. Before his current roles\, he spearheaded AI research at CSIRO and various international R&D centers. Professor Kowalczyk’s research spans AI\, autonomous software agents\, and collective intelligence\, focusing on their integration into cyber-physical-social ecosystems for enhanced decision-making. His work facilitates advancements in smart cities\, industry 4.0\, and\, notably\, AI applications for space systems autonomy and resilience. \n🔹 Bartosz Ziolko\, AI Expert specialising in Automatic Speech Recognition (ASR) and Natural Language Processing (NLP) in Poland\nDr. Bartosz Ziółko is a distinguished computer scientist\, entrepreneur\, and an expert in Automatic Speech Recognition (ASR) and Natural Language Processing (NLP). He served as a professor at the University of Science and Technology (AGH) in Krakow\, and was a co-founder and CEO of Techmo. Ziółko completed his education in Krakow\, earning his doctorate from the University of York. He achieved his habilitation in 2017\, focusing on speech and natural language processing methods. He specialises in speech processing and AI. Bartosz has authored over 100 scientific papers\, holds patents in the U.S. and Europe\, and has led projects that developed Polish speech recognition systems. He was the organiser of the XXII Annual Pacific Voice Conference and has collaborated with Hokkaido University as a National Institute of Information and Communications Technology (NICT) fellow from December 2020 till end of 2021. \n🔹 Dr. Fedja Hadzic\, Chief Scientist and Managing Director at September AI Labs\, in Perth.\nDr. Fedja Hadzic\, is the Chief Scientist and Managing Director at September AI Labs. He has been at the forefront of machine learning and data science innovation since the company’s inception in September 2018. Under his leadership\, September AI Labs has developed groundbreaking medical applications in partnership with local universities and delivered novel AI solutions that have significantly automated and enhanced critical business processes across various industries. With a career that began in 2002\, developing simulations for AI and cognitive science\, Fedja’s passion for machine learning was further ignited by his involvement with the September AI Labs in September 2018. His academic contributions include over 50 peer-reviewed publications and a pioneering book on data mining with complex structures published by Springer. \nThe presentations will be followed by a panel discussion moderated by Peter Kasprzak\, Chairman of Innovate Australia. \n🌟 Summit Highlights:\nThis summit aims to add an international flair\, creating a bridge between AI aficionados\, professionals\, and thought leaders from both Australia and Poland. As a free event open to the public\, it serves as a portal to discover the distinctive AI advancements from these nations\, fostering knowledge sharing and highlighting cutting-edge AI breakthroughs. Anticipate engaging conversations\, priceless networking chances\, and wisdom from industry pioneers. Additionally\, the summit will address the ethical and societal implications of AI within varied cultural contexts. Embrace the fusion of AI ingenuity from Australia and Poland’s vibrant centers.
URL:https://wainnovationcalendar.com.au/event/ai-innovation-summit-australia-poland/
LOCATION:The Rise\, 28 Eight Avenue\, Maylands\, WA\, Australia
CATEGORIES:Networking / Group Meetup
ORGANIZER;CN="Innovate Australia":MAILTO:steve.carroll@innovateaustralia.org
END:VEVENT
BEGIN:VEVENT
DTSTART;TZID=Australia/Perth:20230316T080000
DTEND;TZID=Australia/Perth:20230316T170000
DTSTAMP:20260423T083404
CREATED:20230114T054800Z
LAST-MODIFIED:20260407T052919Z
UID:10000810-1678953600-1678986000@wainnovationcalendar.com.au
SUMMARY:Innovate Australia: Housing Innovation Summit
DESCRIPTION:Save the Date: WA Housing Innovation Summit \nRegister your interest now and we will keep you up to date with the speakers and topics as they are confirmed and we will email you when the agenda is finalised and tickets go on sale. \nThe day long Summit will focus on innovation across four key areas and end with a networking function: \n• Construction; \n• Financing; \n• Utilities & Infrastructure; and \n• Business Models. \nIf you would like to register your interest to speak\, collaborate with or sponsor the summit please contact our CEO\, Steve Carroll: steve.carroll@innovateaustralia.org.
URL:https://wainnovationcalendar.com.au/event/innovate-australia-housing-innovation-summit/
LOCATION:The Rise\, 28 Eight Avenue\, Maylands\, WA\, Australia
CATEGORIES:Conference / Summit / Symposium
ORGANIZER;CN="Innovate Australia":MAILTO:steve.carroll@innovateaustralia.org
END:VEVENT
END:VCALENDAR