BEGIN:VCALENDAR
VERSION:2.0
PRODID:-//WA Innovation Calendar - ECPv6.15.20//NONSGML v1.0//EN
CALSCALE:GREGORIAN
METHOD:PUBLISH
X-WR-CALNAME:WA Innovation Calendar
X-ORIGINAL-URL:https://wainnovationcalendar.com.au
X-WR-CALDESC:Events for WA Innovation Calendar
REFRESH-INTERVAL;VALUE=DURATION:PT1H
X-Robots-Tag:noindex
X-PUBLISHED-TTL:PT1H
BEGIN:VTIMEZONE
TZID:Australia/Perth
BEGIN:STANDARD
TZOFFSETFROM:+0800
TZOFFSETTO:+0800
TZNAME:AWST
DTSTART:20230101T000000
END:STANDARD
END:VTIMEZONE
BEGIN:VEVENT
DTSTART;TZID=Australia/Perth:20250330T100000
DTEND;TZID=Australia/Perth:20250330T130000
DTSTAMP:20260421T043343
CREATED:20250220T083318Z
LAST-MODIFIED:20250220T083318Z
UID:10002950-1743328800-1743339600@wainnovationcalendar.com.au
SUMMARY:Investor Strategy Workshop & Roundtable
DESCRIPTION:Explore investment thesis for cross-sector opportunities\, discuss the emerging paradigm shift from Angel Investor to Angel Philanthropist and enjoy lunch overlooking stunning Geographe Bay! \nYour ticket includes: \n\nParticipation in the Investor workshop and roundtable discussion\nMorning tea\nLunch at Shelter Brewery
URL:https://wainnovationcalendar.com.au/event/investor-strategy-workshop-roundtable/
LOCATION:Shelter Brewery\, 11 Foreshore Parade\, Busselton\, WA\, 6280\, Australia
CATEGORIES:Seminar / Panel Discussion / Conversation,Workshop / Masterclass
END:VEVENT
BEGIN:VEVENT
DTSTART;TZID=Australia/Perth:20240219T090000
DTEND;TZID=Australia/Perth:20240219T110000
DTSTAMP:20260421T043343
CREATED:20240216T042330Z
LAST-MODIFIED:20260407T055709Z
UID:10001919-1708333200-1708340400@wainnovationcalendar.com.au
SUMMARY:Strategic Investor Workshop
DESCRIPTION:This event is part of the South West Investor Tour\, a sideline program activity for  Agrifutures EvokeAG 2024 conference. \nStrategic Investment Workshop: \nExperienced investors to share their strategies and investment mandates\, tips for the founders.  Explore opportunities for syndicates\, attracting more investment to agtech sector \nCoffee and Morning tea provided \nSpecial guest speaker: Matthew Macfarlane \nMatt is the non-executive Chair of icetana (ASX:ICE) an AI-first video analytics company serving the global security industry\, having previously served as CEO when the company went public on the ASX.  Matt joined the Board of AgriFutures in October 2023 as an independent non-executive director and has been a non-executive director of the Australian Export Grains Innovation Centre (AEGIC) since its founding in 2012; he is also the Chair of PetRescue\, a not-for-profit charity helping rescue pets find new homes through innovative technology solutions.   \nPrior to moving to non-executive roles Matt spent 11 years in Europe working in mergers and acquisitions; co-founded a $40m venture capital fund in Perth; and contributed to early stage startups as an angel investor and mentor. VC/angel investments include exits from: Agworld\, Dimerix\, BusyBot and Kanopy Streaming.  Current investments include: Appbot\, icetana\, uDrew\, Functionally\, Nyfty.ai\, Bamboo\, and the Vocus/Amcom Upstart accelerator companies. Matt has deployed over $1m of his own cash into startups and scaleups as an angel investor. \nHe is a passionate advocate for the knowledge economy and commercialisation of great ideas through amazing people.
URL:https://wainnovationcalendar.com.au/event/strategic-investor-workshop/
LOCATION:Shelter Brewery\, 11 Foreshore Parade\, Busselton\, WA\, 6280\, Australia
CATEGORIES:Workshop / Masterclass
END:VEVENT
END:VCALENDAR