BEGIN:VCALENDAR
VERSION:2.0
PRODID:-//WA Innovation Calendar - ECPv6.15.20//NONSGML v1.0//EN
CALSCALE:GREGORIAN
METHOD:PUBLISH
X-WR-CALNAME:WA Innovation Calendar
X-ORIGINAL-URL:https://wainnovationcalendar.com.au
X-WR-CALDESC:Events for WA Innovation Calendar
REFRESH-INTERVAL;VALUE=DURATION:PT1H
X-Robots-Tag:noindex
X-PUBLISHED-TTL:PT1H
BEGIN:VTIMEZONE
TZID:Australia/Perth
BEGIN:STANDARD
TZOFFSETFROM:+0800
TZOFFSETTO:+0800
TZNAME:AWST
DTSTART:20220101T000000
END:STANDARD
END:VTIMEZONE
BEGIN:VEVENT
DTSTART;TZID=Australia/Perth:20250619T173000
DTEND;TZID=Australia/Perth:20250619T220000
DTSTAMP:20260420T184504
CREATED:20250504T065851Z
LAST-MODIFIED:20250607T031202Z
UID:10003244-1750354200-1750370400@wainnovationcalendar.com.au
SUMMARY:WA Social Enterprise Awards
DESCRIPTION:Across Western Australia\, social enterprises are transforming lives – creating jobs\, empowering communities\, protecting our environment\, and building a fairer\, more inclusive economy. Now it’s time to shine a spotlight on the incredible people behind that change. \nJoin the WA Social Enterprise Council (WASEC) for a night of celebration\, connection\, and impact at the inaugural WA Social Enterprise Awards 2025 – the first event of its kind in WA dedicated entirely to celebrating our state’s purpose-led businesses and social innovators. \nLearn more HERE
URL:https://wainnovationcalendar.com.au/event/wa-social-enterprise-awards/
LOCATION:Perth City Farm\, 1 City Farm Pl\, East Perth\, Perth\, Western Australia\, 6004\, Australia
CATEGORIES:Awards Night / Celebratory Event
ATTACH;FMTTYPE=image/png:https://wainnovationcalendar.com.au/wp-content/uploads/2025/05/Screenshot-2025-05-27-082741.png
ORGANIZER;CN="WA Social Enterprise Council (WASEC)":MAILTO:hello@wasec.org.au
END:VEVENT
BEGIN:VEVENT
DTSTART;TZID=Australia/Perth:20230621T160000
DTEND;TZID=Australia/Perth:20230621T183000
DTSTAMP:20260420T184504
CREATED:20230607T151334Z
LAST-MODIFIED:20260408T013813Z
UID:10001467-1687363200-1687372200@wainnovationcalendar.com.au
SUMMARY:People\, Purpose & Planet: Embedding Circular Economy & Sustainability Into Social Enterprise
DESCRIPTION:WASEC invites you to a panel\, Q&A and networking afternoon where you will hear from WA social enterprises who are kicking goals in the circular economy & sustainability space.  \nListen to start-up stories\, pick-apart greenwashing\, identify barriers and opportunities in the sector\, meet like-minded people and gain tools and resources to help you embed sustainable practices into your social enterprise\, small business or everyday life. \nThe Panel kicks off at 4:00 leading into an interactive Q&A. Stay for drinks and snacks as we watch the winter sun set over Perth City Farm’s beautiful gardens.
URL:https://wainnovationcalendar.com.au/event/people-purpose-planet-embedding-circular-economy-sustainability-into-social-enterprise/
LOCATION:Perth City Farm\, 1 City Farm Pl\, East Perth\, Perth\, Western Australia\, 6004\, Australia
CATEGORIES:Seminar / Panel Discussion / Conversation
ATTACH;FMTTYPE=image/png:https://wainnovationcalendar.com.au/wp-content/uploads/2023/06/People-Profit-Planet.png
ORGANIZER;CN="WA Social Enterprise Council (WASEC)":MAILTO:hello@wasec.org.au
END:VEVENT
END:VCALENDAR