BEGIN:VCALENDAR
VERSION:2.0
PRODID:-//WA Innovation Calendar - ECPv6.15.20//NONSGML v1.0//EN
CALSCALE:GREGORIAN
METHOD:PUBLISH
X-ORIGINAL-URL:https://wainnovationcalendar.com.au
X-WR-CALDESC:Events for WA Innovation Calendar
REFRESH-INTERVAL;VALUE=DURATION:PT1H
X-Robots-Tag:noindex
X-PUBLISHED-TTL:PT1H
BEGIN:VTIMEZONE
TZID:Australia/Perth
BEGIN:STANDARD
TZOFFSETFROM:+0800
TZOFFSETTO:+0800
TZNAME:AWST
DTSTART:20220101T000000
END:STANDARD
END:VTIMEZONE
BEGIN:VEVENT
DTSTART;TZID=Australia/Perth:20231012T170000
DTEND;TZID=Australia/Perth:20231012T190000
DTSTAMP:20260424T123230
CREATED:20230928T035753Z
LAST-MODIFIED:20260407T063842Z
UID:10001681-1697130000-1697137200@wainnovationcalendar.com.au
SUMMARY:WA Agtech meetup: Carbon – the why\, the how and the role for tech
DESCRIPTION:Measuring and managing carbon – the why\, the how and the role for tech\nJoin us either in person or virtually for the next instalment of the WA Agtech Meetups. \nThis month we will be discussing all things carbon – diving into the drivers for starting on this path\, the steps and lessons along the way and the role for agtech across the journey to support the transition to a lower carbon future. \nWe will hear from tech providers delivering impactful solutions for the industry\, as well as innovative producers leading the charge on reducing carbon emissions.\n \nTo begin we will hear from AIA Consultant Agi Reefman on the AIA Environmental Accounting Platform. \nFollowed by a panel discussion with: \n\nToby Wright\, Head of Sustainability at CBH\nSam Brown\, CEO of Agriculture Innovation Australia (AIA)\nGlenn Briggs\, National Business Development Manager\, Aglytica\nPlus more to come\n\nFor those attending in person\, this will be followed by a chance to catch up and network over some nibbles & drinks. \nThis event will be hosted at BASE @ FLUX in Perth City as well as virtually via zoom so if you can’t make it in person make sure you register for the live stream (livestream details will be shared after registration). \nAgenda (AWST):\n5:00pm Onsite registrations\, drinks & nibbles\n5:30pm Keynote presentation (virtual attendees to join from 5:30pm)\n5:45pm Panel discussion\n6:30pm Onsite Networking
URL:https://wainnovationcalendar.com.au/event/wa-agtech-meetup-carbon-the-why-the-how-and-the-role-for-tech/
LOCATION:Online & In person\, Australia
CATEGORIES:Seminar / Panel Discussion / Conversation
END:VEVENT
BEGIN:VEVENT
DTSTART;TZID=Australia/Perth:20230831T113000
DTEND;TZID=Australia/Perth:20230831T133000
DTSTAMP:20260424T123230
CREATED:20230614T081143Z
LAST-MODIFIED:20260407T061901Z
UID:10001478-1693481400-1693488600@wainnovationcalendar.com.au
SUMMARY:HSA Webinar Series #4: Hydrogen geo-storage: challenges and opportunities
DESCRIPTION:HSA Hybrid Webinar Presentation: Hydrogen geo-storage: challenges and opportunities\nMore details coming soon…\n\nDate \n24th August 2023 \nAbout the presenters \nAlireza Keshavarz – ECU \nThis event is part of  Hydrogen Links\, the HSA Webinar Series \nHydrogen Links\, an Industry Focused Academic Research webinar series presented monthly by HSA with Academic and Industry Collaborators \nThe Hydrogen Society of Australia (HSA) has grown considerably over the past year\, with successful initiatives which have engaged junior researchers\, such as our poster competition on the Australian Hydrogen Day (2022 10 08).  This year\, we wish to further bridge the gap between industry and academia\, launching the Academics webinar series\, on a monthly basis from May onwards. \n \nThe objective of this initiative is both to raise the level of industry awareness and expertise\, and deepen the relationships between industry and academia within the HSA. \nProminent Australian academics will be invited to provide a short overview of their research areas (20-30 mins)\, across the hydrogen ecosystem (ie. hydrogen production\, storage\, and utilization)\, followed by an industry focussed Q&A (30 mins). \n 
URL:https://wainnovationcalendar.com.au/event/hsa-webinar-series-4-hydrogen-geo-storage-challenges-and-opportunities/
LOCATION:Online & In person\, Australia
CATEGORIES:Seminar / Panel Discussion / Conversation
END:VEVENT
BEGIN:VEVENT
DTSTART;TZID=Australia/Perth:20230721T140000
DTEND;TZID=Australia/Perth:20230723T150000
DTSTAMP:20260424T123230
CREATED:20230620T111745Z
LAST-MODIFIED:20260407T061908Z
UID:10001492-1689948000-1690124400@wainnovationcalendar.com.au
SUMMARY:Humanitarian Innovation Hackathon
DESCRIPTION:This Hackathon is a weekend long hybrid program with industry leading speakers\, team bonding\, facilitated mentoring\, and exciting diversions that mix up the digital and face to face competition.\n\nThis year you can join in real time at the Hackathon hub at The University of Sydney or join us online from wherever you feel most creative! The Hackathon is digital-first\, with every single aspect streamed online.  \n\n\n\n\n\n\n\n\n\n\nPrizes\n\n\n\n• $5\,000 – 1st Prize RedR Ron Johnston Rapid Response \n• $3\,000 – Hackathon 2nd Place \n• $1\,000 – Hackathon 3rd Place \n\nRegister your interest here
URL:https://wainnovationcalendar.com.au/event/humanitarian-innovation-hackathon/
LOCATION:Online & In person\, Australia
CATEGORIES:Workshop / Masterclass
END:VEVENT
END:VCALENDAR