BEGIN:VCALENDAR
VERSION:2.0
PRODID:-//WA Innovation Calendar - ECPv6.15.20//NONSGML v1.0//EN
CALSCALE:GREGORIAN
METHOD:PUBLISH
X-WR-CALNAME:WA Innovation Calendar
X-ORIGINAL-URL:https://wainnovationcalendar.com.au
X-WR-CALDESC:Events for WA Innovation Calendar
REFRESH-INTERVAL;VALUE=DURATION:PT1H
X-Robots-Tag:noindex
X-PUBLISHED-TTL:PT1H
BEGIN:VTIMEZONE
TZID:Australia/Perth
BEGIN:STANDARD
TZOFFSETFROM:+0800
TZOFFSETTO:+0800
TZNAME:AWST
DTSTART:20230101T000000
END:STANDARD
END:VTIMEZONE
BEGIN:VEVENT
DTSTART;TZID=Australia/Perth:20241207T100000
DTEND;TZID=Australia/Perth:20241207T143000
DTSTAMP:20260425T042036
CREATED:20241008T060513Z
LAST-MODIFIED:20241008T060513Z
UID:10002658-1733565600-1733581800@wainnovationcalendar.com.au
SUMMARY:Mandurah Tech Fest 2024
DESCRIPTION:DONT MISS OUT ON THE BIGGEST TECH EVENT IN MANDURAH OF 2024 \nMandurah Tech Fest 2024 is at the Mandurah Offshore Fishing & Sailing Club with a mix of events from 10am to 2:30pm. \n– Tech Expo\, see the latest and greatest Tech! \n– Tech Panel Discussions including PropTech\, TourismTech\, ResourceTech & Food/Beverage Innovation! \n– Tech Demo’s\, get to see behind the scenes of innovative Tech products! \n– Perth Giants\, four innovators will pitch to high net wealth giants of industry in the hope of raising scale-up investment! \n– Stall Holders\, Sponsors & VIP’s have tickets to enjoy being on our chartered yacht cruising along the Mandurah Canals and networking. Talk to the PropTech Hub WA team to learn how you can get a ticket! \nDress Code: Shorts & Shirts are perfectly ok! \nThanks to our major sponsors and partners; City of Mandurah\, Peel Development Commission\, Builderz WA\, JJ Leach Group\, Cgynet West\, Visit Mandurah\, FIPWA\, Radium Capital\, ComTech\, OneBrand\, Core Vision\, Peel Chamber of Commerce & Industry\, Carbon Group\, Happy Monkey\, and Beyond Bank Australia. \nMandurah Tech Fest 2024 is a satellite event within West Tech Fest 2024. \n# MandurahTechFest2024 #PropTechHubWA
URL:https://wainnovationcalendar.com.au/event/mandurah-tech-fest-2024/
LOCATION:Mandurah Offshore Fishing and Sailing Club\, Mandurah\, WA\, Australia
CATEGORIES:Conference / Summit / Symposium,Showcase / Pitch / Demo / Tour
END:VEVENT
END:VCALENDAR