BEGIN:VCALENDAR
VERSION:2.0
PRODID:-//WA Innovation Calendar - ECPv6.15.20//NONSGML v1.0//EN
CALSCALE:GREGORIAN
METHOD:PUBLISH
X-ORIGINAL-URL:https://wainnovationcalendar.com.au
X-WR-CALDESC:Events for WA Innovation Calendar
REFRESH-INTERVAL;VALUE=DURATION:PT1H
X-Robots-Tag:noindex
X-PUBLISHED-TTL:PT1H
BEGIN:VTIMEZONE
TZID:Australia/Perth
BEGIN:STANDARD
TZOFFSETFROM:+0800
TZOFFSETTO:+0800
TZNAME:AWST
DTSTART:20170101T000000
END:STANDARD
END:VTIMEZONE
BEGIN:VEVENT
DTSTART;TZID=Australia/Perth:20260210T100000
DTEND;TZID=Australia/Perth:20260210T110000
DTSTAMP:20260424T012520
CREATED:20260206T061621Z
LAST-MODIFIED:20260206T061621Z
UID:10004175-1770717600-1770721200@wainnovationcalendar.com.au
SUMMARY:Spacecubed Breakfast Club\, February 2026
DESCRIPTION:Start your year with great coffee\, meaningful conversations and new connections at our first Spacecubed Breakfast Club for 2026 – Valentines Day edition! \nJoin on Tuesday 10 February at FLUX\, powered by Spacecubed\, for a relaxed morning catch-up bringing together founders\, freelancers\, operators and teams from across our community. Whether you’re reconnecting after the break or meeting new faces for the first time\, this is the perfect way to ease into the year ahead. \nCome along to share what you’re working on\, swap ideas\, and build relationships\, all over breakfast in one of Perth’s most dynamic coworking spaces.
URL:https://wainnovationcalendar.com.au/event/spacecubed-breakfast-club-february-2026/
LOCATION:Flux\, 191 St Georges Tce\, Perth\, WA\, Australia
CATEGORIES:Networking / Group Meetup
END:VEVENT
BEGIN:VEVENT
DTSTART;TZID=Australia/Perth:20250610T100000
DTEND;TZID=Australia/Perth:20250610T110000
DTSTAMP:20260424T012520
CREATED:20250606T022930Z
LAST-MODIFIED:20250606T022930Z
UID:10003352-1749549600-1749553200@wainnovationcalendar.com.au
SUMMARY:Spacecubed Breakfast Club June
DESCRIPTION:Start your morning with purpose at Spacecubed’s Breakfast Club – returning Tuesday\, June 10th at FLUX\, powered by Spacecubed.\nThis is your chance to take a mid-year pause\, connect with fellow changemakers\, and fuel up with Joey Zaza’s signature breakfast bites\, and freshly brewed coffee. Whether you’re diving into a big project\, looking to build new connections\, or just want to start your day surrounded by inspiring people\, our Breakfast Club event is the perfect place to do it.\n \n\nLearn more here: Spacecubed Breakfast Club June
URL:https://wainnovationcalendar.com.au/event/spacecubed-breakfast-club-june/
LOCATION:Flux\, 191 St Georges Tce\, Perth\, WA\, Australia
CATEGORIES:Networking / Group Meetup
END:VEVENT
BEGIN:VEVENT
DTSTART;TZID=Australia/Perth:20250211T100000
DTEND;TZID=Australia/Perth:20250211T110000
DTSTAMP:20260424T012520
CREATED:20250124T090801Z
LAST-MODIFIED:20250124T090801Z
UID:10002874-1739268000-1739271600@wainnovationcalendar.com.au
SUMMARY:Spacecubed Breakfast Club\, February 2025
DESCRIPTION:Join us for our first community event of the year\, Spacecubed Breakfast Club\, on Tuesday\, February 11th at FLUX\, powered by Spacecubed. This special morning gathering is the perfect way to shake off the holiday haze\, reconnect with familiar faces\, and meet some of the newest members of our vibrant community. \n📅 When: Tuesday\, February 11\, 2025\, 10:00AM – 11:00AM\n📍 Where: Level 1\, FLUX\, powered by Spacecubed (191 St Georges Terrace\, Perth) \n🎟️ Free for Spacecubed members! RSVP is essential for catering purposes.\nNot a member? Tickets are just $20 + booking fees and includes access to a full day of coworking at our innovative space\, prior to and following the event.
URL:https://wainnovationcalendar.com.au/event/spacecubed-breakfast-club-february-2025/
LOCATION:Flux\, 191 St Georges Tce\, Perth\, WA\, Australia
CATEGORIES:Networking / Group Meetup
END:VEVENT
BEGIN:VEVENT
DTSTART;TZID=Australia/Perth:20231123T163000
DTEND;TZID=Australia/Perth:20231123T183000
DTSTAMP:20260424T012520
CREATED:20231102T021211Z
LAST-MODIFIED:20260407T070539Z
UID:10001726-1700757000-1700764200@wainnovationcalendar.com.au
SUMMARY:Connect & Collaborate: Speed Networking Night at Spacecubed
DESCRIPTION:Make 30 Connections in just one night at Spacecubed’s Speed Networking Night! \nJoin us for a night of meaningful connections and productive conversations at Spacecubed’s ‘Connect & Collaborate: Speed Networking Night’\, taking place at FLUX Basement from 4:30pm on Thursday\, November 23. \nThis event is not just about making small talk; it’s your opportunity to unlock a world of new possibilities and partnerships. \nWhy Attend? \n\nExpand Your Network: This is your chance to meet a diverse group of professionals from within and outside the Spacecubed community. Forge connections that could lead to new clients\, partners\, or collaborations.\nAccelerate Your Business Growth: Every conversation could be a potential game-changer for your business\, and here you can find the right people to support your growth\nEfficient and Fun: Speed networking is not your typical networking event. It’s fast\, it’s fun\, and it’s incredibly efficient. Meet a variety of people in a short amount of time.\nPersonal Development: Improve your communication and interpersonal skills as you engage in a series of short\, meaningful conversations. You’ll learn to pitch your ideas\, listen actively\, and make lasting impression.\nRegistrations for this event are strictly limited. Tickets are FREE for Spacecubed members\, and just $10 + Booking Fee + GST for non-members. \nDrinks and light grazing will be provided. \nWe hope to see you there!
URL:https://wainnovationcalendar.com.au/event/connect-collaborate-speed-networking-night-at-spacecubed/
LOCATION:Flux\, 191 St Georges Tce\, Perth\, WA\, Australia
CATEGORIES:Networking / Group Meetup
END:VEVENT
BEGIN:VEVENT
DTSTART;TZID=Australia/Perth:20231116T170000
DTEND;TZID=Australia/Perth:20231116T200000
DTSTAMP:20260424T012520
CREATED:20231102T021055Z
LAST-MODIFIED:20260407T070539Z
UID:10001725-1700154000-1700164800@wainnovationcalendar.com.au
SUMMARY:Plus Eight Pre-Accelerator Pitch Night
DESCRIPTION:Join us for the Plus Eight Pre-Accelerator Program Final Showcase and Pitch Night on Thursday\, November 16th\, as we celebrate the cohort who will pitch their business to a room full of like-minded startup founders and a community of supporters! \nOur Plus Eight Pre-Accelerator cohort have been navigating their way through our six-week program\, and are ready to showcase what they’ve been working on\, meet people who have been there and done that\, and celebrate their hard work. \nThroughout the evening you can: \n\nEnjoy the opportunity to hear the teams pitch their businesses\nNetwork and connect with other local founders\, investors and startup ecosystem supporters\nHave a seat in the audience as the winning pitch receives their Golden Ticket to pitch at Freo Startup Fest!\n\nThe Plus Eight Sprint Pre-Accelerator program is made possible thanks to the City of Perth and Spacecubed. You can find out more about Plus Eight here\, and stay up to date with us by following us on Facebook\, Twitter and LinkedIn. \nBeverages and light grazing will be provided. \nWe look forward to seeing you there!
URL:https://wainnovationcalendar.com.au/event/plus-eight-pre-accelerator-pitch-night/
LOCATION:Flux\, 191 St Georges Tce\, Perth\, WA\, Australia
CATEGORIES:Showcase / Pitch / Demo / Tour
END:VEVENT
BEGIN:VEVENT
DTSTART;TZID=Australia/Perth:20230720T170000
DTEND;TZID=Australia/Perth:20230720T190000
DTSTAMP:20260424T012520
CREATED:20230626T152331Z
LAST-MODIFIED:20260408T013446Z
UID:10001514-1689872400-1689879600@wainnovationcalendar.com.au
SUMMARY:Spacecubed’s Networking Evening: Pitch Night\, presented by Plus Eight
DESCRIPTION:Spacecubed is home to hundreds of innovators and leaders within our spaces\, so what happens when we bring 50 startup founders together for an hour? Connections happen!\n\nJoin us on Thursday\, July 20th from 5pm at FLUX Basement for a special edition of Spacecubed’s Monthly Networking Evening\, partnering with Plus Eight. This event will bring together local founders\, and we’ll have the chance to hear pitches from the 2023 City of Canning Pre-Accelerator cohort. Through Lotterywest IdeaStarter funding\, there is $10\,000 available for these startups! So come along to find out who will take home the crown. \nHere we welcome you\, the Perth startup community to come along\, support the City of Canning cohort\, connect with other like-minded founders and create new professional connections. Tickets are complimentary for Spacecubed members and only $15 for non-members. \nBeverages and light grazing will be provided. \nWe look forward to seeing you there!
URL:https://wainnovationcalendar.com.au/event/spacecubeds-networking-evening-pitch-night-presented-by-plus-eight/
LOCATION:Flux\, 191 St Georges Tce\, Perth\, WA\, Australia
CATEGORIES:Networking / Group Meetup,Showcase / Pitch / Demo / Tour
END:VEVENT
BEGIN:VEVENT
DTSTART;TZID=Australia/Perth:20230517T163000
DTEND;TZID=Australia/Perth:20230517T180000
DTSTAMP:20260424T012520
CREATED:20230511T060307Z
LAST-MODIFIED:20260408T013446Z
UID:10001419-1684341000-1684346400@wainnovationcalendar.com.au
SUMMARY:Networking Evening ‘Rising to your Potential’
DESCRIPTION:Spacecubed is home to hundreds of innovators and leaders within our spaces. So what happens when we bring 50 people all together for an hour?\n\nJoin us on Wednesday\, May 17th for a special edition of Spacecubed’s monthly Networking Evening\, which will be featuring Matt Ainsworth\, Founder of Biz.Mind. \nHere Matt will be facilitating a session on Rising to your Potential. This is an energiser session for individuals and small groups\, aimed to help you reflect on their past\, assess your present situation\, and create a clear vision for the future. Through a series of activities\, you’ll identify strengths\, overcome limitations\, and develop a plan of action to achieve your goals. The group activities are designed to empower you to unlock your full potential\, leaving you feeling inspired and ready to take action. \nGet to know Matt Ainsworth\nMatt is a coach with 20+ years of business experience. He helps startups to thrive by building founders’ growth mindset. He also offers leadership coaching for executives and managers to improve their communication\, emotional intelligence\, and decision-making skills. Matt is also building a consulting service catering to businesses looking to establish themselves in the Japanese market. \nSo come along from 4:30PM on Wednesday May 17th where both Spacecubed members and non-members are welcome to join us for an informal evening of networking where you will be able to create long lasting professional and personal connections\, regardless of industry \nTickets are complimentary for Spacecubed members and only $15 for non-members. \nBeverages and light grazing will be provided. \nWe look forward to seeing you there!
URL:https://wainnovationcalendar.com.au/event/networking-evening-rising-to-your-potential/
LOCATION:Flux\, 191 St Georges Tce\, Perth\, WA\, Australia
CATEGORIES:Networking / Group Meetup
END:VEVENT
BEGIN:VEVENT
DTSTART;TZID=Australia/Perth:20221025T073000
DTEND;TZID=Australia/Perth:20221025T090000
DTSTAMP:20260424T012520
CREATED:20221009T083024Z
LAST-MODIFIED:20260407T052824Z
UID:10000724-1666683000-1666688400@wainnovationcalendar.com.au
SUMMARY:VentureX HQ & IP Australia: Leveraging IP Throughout the Business Journey
DESCRIPTION:For many startups and entrepreneurs\, good Intellectual Property (IP) means being able to compete with and stay ahead of larger corporations. Registered IP such as patents for inventions\, trademarks for brands\, designs for the way a product looks and feels or colours it uses or is known for\, is a source of market power. So\, how do we make sure we stay ahead\, access the right tools and support\, and be protected? \nProudly supported by the Department of Jobs\,Tourism\, Science and Innovation New Industries Fund WA\, VentureX HQ is delighted to present this event with special guest flying in from Canberra\, Michael Schwager\, Director General of IP Australia on Tuesday\, 25 October from 7:30am to 9:15am. IP Australia is currently offering multiple avenues to assist businesses across Australia\, these include research into how the IP system can better support Aboriginal and Torres Strait Islander people\, an SME IP Portal to support smaller businesses through a range of tailored resources\, and a Small Businesses Upskill educational program.
URL:https://wainnovationcalendar.com.au/event/venturex-hq-ip-australia-leveraging-ip-throughout-the-business-journey/
LOCATION:Flux\, 191 St Georges Tce\, Perth\, WA\, Australia
CATEGORIES:Workshop / Masterclass
ORGANIZER;CN="VentureX HQ":MAILTO:info@venturexhq.com.au
END:VEVENT
BEGIN:VEVENT
DTSTART;TZID=Australia/Perth:20220720T170000
DTEND;TZID=Australia/Perth:20220720T190000
DTSTAMP:20260424T012520
CREATED:20220710T004644Z
LAST-MODIFIED:20260407T063835Z
UID:10000992-1658336400-1658343600@wainnovationcalendar.com.au
SUMMARY:HARVEST Agtech Accelerator: Agtech Innovation Showcase x WA Agtech Meetups
DESCRIPTION:This Agtech Innovation Showcase x WA Agtech Meetups event will be held on Wednesday 20th July from 5-7pm at BASE @ FLUX\, Perth. \nThe Showcase is an expo style networking event featuring the latest businesses looking to innovate in the Agtech industry. \nThese start-ups and SME’s will have their innovations on display and pitch for investment opportunities. \nThe businesses have all been participants in our HARVEST Agtech Accelerator program. For more details see https://www.agristart.com.au/h…   HARVEST is WA’s leading business development program for businesses looking to innovate in the Agtech industry. \nThis event is in collaboration with the WA Agtech Meetups\, a project led by Beanstalk AgTech and supported by the Department of Primary Industries and Regional Development and Agrifutures. \nDrinks and canapes will be provided. \nWe would be so grateful if you could please RSVP as soon as possible as the in-person event is strictly limited to 100 guests for spacing requirements. \nEvent details:\nDate: Wednesday 20th July\nLocation:  BASE @ FLUX\, 191\, St Georges Terraces\, Perth\, or virtually.\nTime: 5pm – 7pm
URL:https://wainnovationcalendar.com.au/event/harvest-agtech-accelerator-agtech-innovation-showcase-x-wa-agtech-meetups/
LOCATION:Flux\, 191 St Georges Tce\, Perth\, WA\, Australia
CATEGORIES:Showcase / Pitch / Demo / Tour
END:VEVENT
BEGIN:VEVENT
DTSTART;TZID=Australia/Perth:20211110T073000
DTEND;TZID=Australia/Perth:20211110T090000
DTSTAMP:20260424T012520
CREATED:20260414T074924Z
LAST-MODIFIED:20260414T074926Z
UID:10007395-1636529400-1636534800@wainnovationcalendar.com.au
SUMMARY:Pitch your startup!
DESCRIPTION:Presented by: Morning Startup \nMorning Startup is a fortnightly morning catchup where founders\, potential entrepreneurs and others in the startup community (VCs and Angels welcome) get together to learn something interesting\, get feedback on idea\, vent frustrations\, and meet some new friends in the game. \nVENUE CHANGE Due to rain damage at Riff overnight\, this event will now be held down the road at Flux Basement 191 St Georges tce….
URL:https://wainnovationcalendar.com.au/event/pitch-your-startup-3/
LOCATION:Flux\, 191 St Georges Tce\, Perth\, WA\, Australia
CATEGORIES:Networking / Group Meetup
ORGANIZER;CN="Morning Startup":MAILTO:contact@morningstartup.com
END:VEVENT
BEGIN:VEVENT
DTSTART;TZID=Australia/Perth:20181128T073000
DTEND;TZID=Australia/Perth:20181128T090000
DTSTAMP:20260424T012520
CREATED:20260414T074336Z
LAST-MODIFIED:20260414T074337Z
UID:10007332-1543390200-1543395600@wainnovationcalendar.com.au
SUMMARY:2 Years of muru-D Plus Eight and How To Apply For The 2019 Cohort
DESCRIPTION:Presented by: muru-D Plus Eight \nMorning Startup is a fortnightly morning catchup where founders\, potential entrepreneurs and others in the startup community (VCs and Angels welcome) get together to learn something interesting\, get feedback on idea\, vent frustrations\, and meet some new friends in the game. \n!!! VENUE CHANGE This week we’re at the Flux Basement-191 St Georges Terrace. Perth WA 6000\, due to renovations at Riff. !!!
URL:https://wainnovationcalendar.com.au/event/2-years-of-muru-d-plus-eight-and-how-to-apply-for-the-2019-cohort/
LOCATION:Flux\, 191 St Georges Tce\, Perth\, WA\, Australia
CATEGORIES:Networking / Group Meetup
ORGANIZER;CN="Morning Startup":MAILTO:contact@morningstartup.com
END:VEVENT
END:VCALENDAR