BEGIN:VCALENDAR
VERSION:2.0
PRODID:-//WA Innovation Calendar - ECPv6.15.20//NONSGML v1.0//EN
CALSCALE:GREGORIAN
METHOD:PUBLISH
X-WR-CALNAME:WA Innovation Calendar
X-ORIGINAL-URL:https://wainnovationcalendar.com.au
X-WR-CALDESC:Events for WA Innovation Calendar
REFRESH-INTERVAL;VALUE=DURATION:PT1H
X-Robots-Tag:noindex
X-PUBLISHED-TTL:PT1H
BEGIN:VTIMEZONE
TZID:Australia/Perth
BEGIN:STANDARD
TZOFFSETFROM:+0800
TZOFFSETTO:+0800
TZNAME:AWST
DTSTART:20230101T000000
END:STANDARD
END:VTIMEZONE
BEGIN:VEVENT
DTSTART;TZID=Australia/Perth:20260311T183000
DTEND;TZID=Australia/Perth:20260311T210000
DTSTAMP:20260422T164732
CREATED:20260214T033736Z
LAST-MODIFIED:20260214T033736Z
UID:10004220-1773253800-1773262800@wainnovationcalendar.com.au
SUMMARY:Coders for Causes (CFC) Industry Night 2026
DESCRIPTION:2026 CFC Industry Night will be bringing together students\, industry professionals\, and organisations from across the tech ecosystem for an evening of networking and career insights. \nThis event provides an opportunity to connect with industry representatives\, explore pathways in software development and data\, and gain practical advice to support your professional journey.
URL:https://wainnovationcalendar.com.au/event/coders-for-causes-cfc-industry-night-2026/
LOCATION:EZONE UWA Student Hub\, 35 Stirling Highway\, Perth\, WA\, 6009\, Australia
CATEGORIES:Seminar / Panel Discussion / Conversation
END:VEVENT
BEGIN:VEVENT
DTSTART;TZID=Australia/Perth:20250501T173000
DTEND;TZID=Australia/Perth:20250501T203000
DTSTAMP:20260422T164732
CREATED:20250418T075451Z
LAST-MODIFIED:20250418T075451Z
UID:10003202-1746120600-1746131400@wainnovationcalendar.com.au
SUMMARY:Venture UWA x Enitiate: Case Night
DESCRIPTION:Are you an engineering student looking to apply your skills to a real-world challenge? Venture UWA and Enitiate are teaming up to bring you a FREE EVENT — a practical engineering challenge designed to give you hands-on experience in solving industry-based problems.Open to all engineering disciplines. Whether you’re looking to build experience\, connect with industry\, or just enjoy a good challenge—Case Night is a great place to start. \n\nLearn more HERE
URL:https://wainnovationcalendar.com.au/event/venture-uwa-x-enitiate-case-night/
LOCATION:EZONE UWA Student Hub\, 35 Stirling Highway\, Perth\, WA\, 6009\, Australia
CATEGORIES:Showcase / Pitch / Demo / Tour
ORGANIZER;CN="Venture UWA":MAILTO:venture@guild.uwa.edu.au
END:VEVENT
BEGIN:VEVENT
DTSTART;TZID=Australia/Perth:20250409T180000
DTEND;TZID=Australia/Perth:20250409T203000
DTSTAMP:20260422T164732
CREATED:20250406T060009Z
LAST-MODIFIED:20250406T060009Z
UID:10003149-1744221600-1744230600@wainnovationcalendar.com.au
SUMMARY:Beyond the Hype: AI in Industry
DESCRIPTION:Join the Venture UWA team for this amazing Free Event! \n📅 Date: Wednesday\, 9th April \n📍 Location: EZONE CENTRAL [207] Giumelli Learning Studio 2 \n⏰ Start Time: 6:00 PM An engaging panel discussion and networking event designed to cut through the hype surrounding AI. The event will provide students with tangible\, actionable insights into how AI is being applied across different industries here in WA.  \nAttendees will hear directly from industry experts who use AI in their roles\, learn about emerging opportunities\, and gain practical advice on how to prepare for an AI-driven future.  \n 
URL:https://wainnovationcalendar.com.au/event/beyond-the-hype-ai-in-industry/
LOCATION:EZONE UWA Student Hub\, 35 Stirling Highway\, Perth\, WA\, 6009\, Australia
CATEGORIES:Seminar / Panel Discussion / Conversation
ORGANIZER;CN="Venture UWA":MAILTO:venture@guild.uwa.edu.au
END:VEVENT
BEGIN:VEVENT
DTSTART;TZID=Australia/Perth:20250403T180000
DTEND;TZID=Australia/Perth:20250403T220000
DTSTAMP:20260422T164732
CREATED:20250329T071234Z
LAST-MODIFIED:20250329T072632Z
UID:10003105-1743703200-1743717600@wainnovationcalendar.com.au
SUMMARY:CRC TiME Life of Mine: Closure and Rehabilitation Industry Panel
DESCRIPTION:Discover diverse career pathways\, gain insights from industry leaders and network with professionals & students from various disciplines. Featuring expert panelists from CRC TiME\, K2Fly\, Alcoa & more! The event aims to connect students with professionals in the post-mine transitions space\, providing education on the processes involved and showcasing career opportunities within the sector.
URL:https://wainnovationcalendar.com.au/event/crc-time-life-of-mine-closure-and-rehabilitation-industry-panel/
LOCATION:EZONE UWA Student Hub\, 35 Stirling Highway\, Perth\, WA\, 6009\, Australia
CATEGORIES:Seminar / Panel Discussion / Conversation
END:VEVENT
BEGIN:VEVENT
DTSTART;TZID=Australia/Perth:20240930T183000
DTEND;TZID=Australia/Perth:20240930T203000
DTSTAMP:20260422T164732
CREATED:20240923T071802Z
LAST-MODIFIED:20240923T071802Z
UID:10002617-1727721000-1727728200@wainnovationcalendar.com.au
SUMMARY:Be part of TEDxKings Park – Information Session
DESCRIPTION:Meet the TEDxKings Park Team — find out how to be part of Australia’s most energetic TEDx. \nTED and TEDx are the world’s most popular and respected platforms for ideas. Be part of the upcoming TEDxKings Park Youth on 23 November at the State Theatre Centre. \nAt Australia’s largest TEDx Youth event\, 9 world-premiere TEDx talks from Perth’s most remarkable young people are joined by live music\, food and hands-on experiences. \nWe are looking for energetic\, friendly and motivated people to join our incredible team for the day\, making sure our audience have an unforgettable experience. Is that you? \nEven better\, being an event day Volunteer is a pathway to joining the core team. \nThis is event is for you if you: \n\nWant to be a day volunteer and become part of the global TEDx movement\nHave an idea you want to spread. Find out about the 30 Second Ideas Competition\n\nAsk questions\, meet members of the core team and discover the opportunities on offer. \n________________________ \nAn alternative information session runs on Tuesday 1 October at 1pm at Think Space\, Curtin University – click here to register
URL:https://wainnovationcalendar.com.au/event/be-part-of-tedxkings-park-information-session/
LOCATION:EZONE UWA Student Hub\, 35 Stirling Highway\, Perth\, WA\, 6009\, Australia
CATEGORIES:Information Session / Launch
END:VEVENT
BEGIN:VEVENT
DTSTART;TZID=Australia/Perth:20240516T120000
DTEND;TZID=Australia/Perth:20240516T130000
DTSTAMP:20260422T164732
CREATED:20240417T044858Z
LAST-MODIFIED:20260407T055857Z
UID:10002136-1715860800-1715864400@wainnovationcalendar.com.au
SUMMARY:Inspiring Australians University Forum: From Passion to Purpose
DESCRIPTION:A FREE university forum to hear from inspiring problem solvers and positive change makers. \nFind out how to turn your passion into purpose from people who have successfully done it already. \nCome along to UWA EZONE Social to hear from leaders within mental health\, sustainability and social justice: \n\nNick Hudson – Founder of The Push-Up Challenge and 2024 WA Local Hero\nSamuel Thomas – Founder of Sam’s Spares and 2024 WA Young Australian of the Year Finalist\nCatherine MacDougall – Co-founder of Prepare Produce Provide and 2024 WA Local Hero Finalist\n\nFree food and soft drinks included! $50 vouchers up for grabs! \nPresented by Auspire – Australia Day Council WA and Perdaman Group\, with support from the University of Western Australia. \nPlease be advised this event may include photography.
URL:https://wainnovationcalendar.com.au/event/inspiring-australians-university-forum-from-passion-to-purpose/
LOCATION:EZONE UWA Student Hub\, 35 Stirling Highway\, Perth\, WA\, 6009\, Australia
CATEGORIES:Seminar / Panel Discussion / Conversation
END:VEVENT
END:VCALENDAR