BEGIN:VCALENDAR
VERSION:2.0
PRODID:-//WA Innovation Calendar - ECPv6.15.20//NONSGML v1.0//EN
CALSCALE:GREGORIAN
METHOD:PUBLISH
X-ORIGINAL-URL:https://wainnovationcalendar.com.au
X-WR-CALDESC:Events for WA Innovation Calendar
REFRESH-INTERVAL;VALUE=DURATION:PT1H
X-Robots-Tag:noindex
X-PUBLISHED-TTL:PT1H
BEGIN:VTIMEZONE
TZID:Australia/Perth
BEGIN:STANDARD
TZOFFSETFROM:+0800
TZOFFSETTO:+0800
TZNAME:AWST
DTSTART:20230101T000000
END:STANDARD
END:VTIMEZONE
BEGIN:VEVENT
DTSTART;TZID=Australia/Perth:20240325T163000
DTEND;TZID=Australia/Perth:20240325T183000
DTSTAMP:20260424T042029
CREATED:20240303T051419Z
LAST-MODIFIED:20260407T035452Z
UID:10001967-1711384200-1711391400@wainnovationcalendar.com.au
SUMMARY:Climate Change Academy
DESCRIPTION:A collaboration between Curtin School of Education\, AISWA\, The Climate Academy (Brussels\, Belgium) and News Decoder (France). \n\n\n\n\n\n\n\n\n\n\nThis event marks the launch of a professional learning series for all teachers and school leaders who are interested in climate change education. \nMatthew Pye (Founder of Climate Academy) is travelling to Perth and will be delivering the presentation in person. As a public speaker\, Matthew has given lectures at the EU Commission\, Cambridge University\, VU Amsterdam\, other leading universities and many international schools. He featured in The Eurasian Media Forum (Kazakhstan\, 2021)\, The NATO Youth Conference (2023)\, and the ZEG Storytelling Festival (Tblisi\, 2023). \nThe aim is to provide an overview of the work of the Climate Academy and to give attending schools the opportunity to sign up for a professional learning series in semester 2 2024. \n\n\n\n\n\n\n\n\n\nMatthew Pye is the Founder of The Climate Academy (est. 2011) and has been co-ordinator of Philosophy at the European School Brussels II (since 2007). His book “Plato Tackles Climate Change” (2021) examines the blind-spots of democracy concerning the crisis\, and points forward to the power of the law as a key leverage point for change. “Arendt Tackles Climate Change” (2024) will be out soon.
URL:https://wainnovationcalendar.com.au/event/climate-change-academy/
LOCATION:Curtin University\, School of Education\, Kent Street Building 501\, 2/203\, Bentley\, WA\, 6102\, Australia
CATEGORIES:Information Session / Launch
END:VEVENT
END:VCALENDAR