BEGIN:VCALENDAR
VERSION:2.0
PRODID:-//WA Innovation Calendar - ECPv6.15.20//NONSGML v1.0//EN
CALSCALE:GREGORIAN
METHOD:PUBLISH
X-WR-CALNAME:WA Innovation Calendar
X-ORIGINAL-URL:https://wainnovationcalendar.com.au
X-WR-CALDESC:Events for WA Innovation Calendar
REFRESH-INTERVAL;VALUE=DURATION:PT1H
X-Robots-Tag:noindex
X-PUBLISHED-TTL:PT1H
BEGIN:VTIMEZONE
TZID:Australia/Perth
BEGIN:STANDARD
TZOFFSETFROM:+0800
TZOFFSETTO:+0800
TZNAME:AWST
DTSTART:20240101T000000
END:STANDARD
END:VTIMEZONE
BEGIN:VEVENT
DTSTART;TZID=Australia/Perth:20260414T090000
DTEND;TZID=Australia/Perth:20260414T153000
DTSTAMP:20260426T042636
CREATED:20260322T054322Z
LAST-MODIFIED:20260322T054322Z
UID:10004378-1776157200-1776180600@wainnovationcalendar.com.au
SUMMARY:Defence Ready: Workshop Series | Demystifying Defence Supply Chains
DESCRIPTION:The Henderson Alliance is pleased to offer an exclusive opportunity to attend a full day workshop facilitated by Defence and security experts De Stefano & Co in partnership with their friends at BidWrite and UBH Group. \nDemystifying Defence Supply Chains\, will provide a practical introduction to Australia’s defence sector and the key steps organisations need to take to successfully engage with Defence and its supply chain. \nDesigned for businesses looking to better understand the Defence sector opportunity\, the program will guide participants through the structure of the Defence ecosystem\, the expectations placed on industry\, the processes involved in securing Defence work\, and the emerging opportunities created by AUKUS.
URL:https://wainnovationcalendar.com.au/event/defence-ready-workshop-series-demystifying-defence-supply-chains/
LOCATION:AMC Jakovich Function Centre\, 4 McGrath Road\, Henderson\, WA\, 6166\, Australia
CATEGORIES:Workshop / Masterclass
END:VEVENT
BEGIN:VEVENT
DTSTART;TZID=Australia/Perth:20260204T173000
DTEND;TZID=Australia/Perth:20260204T200000
DTSTAMP:20260426T042636
CREATED:20260201T052653Z
LAST-MODIFIED:20260201T052653Z
UID:10004159-1770226200-1770235200@wainnovationcalendar.com.au
SUMMARY:Henderson Alliance | February 2026 Network & Learn
DESCRIPTION:This is a key opportunity for professionals in the defence sector to connect\, collaborate\, and gain valuable insights in a relaxed\, engaging setting. Whether you’re a returning attendee or joining us for the first time\, this event is your chance to expand your network and explore new opportunities in the industry. \n💳 Non-members – $50.00 each \n(Limited numbers – first in) \nPlease note:\nPlease contact events@hendersonalliance.org.au for Access code to these limited tickets.
URL:https://wainnovationcalendar.com.au/event/henderson-alliance-february-2026-network-learn/
LOCATION:Old Courthouse\, 45 Henderson Street\, Fremantle\, WA\, 6160\, Australia
CATEGORIES:Networking / Group Meetup
END:VEVENT
BEGIN:VEVENT
DTSTART;TZID=Australia/Perth:20251114T174500
DTEND;TZID=Australia/Perth:20251114T233000
DTSTAMP:20260426T042636
CREATED:20251019T070103Z
LAST-MODIFIED:20260416T023712Z
UID:10003945-1763142300-1763163000@wainnovationcalendar.com.au
SUMMARY:WA Defence Industry 2025 Gala Dinner
DESCRIPTION:The WA Defence Industry Gala Dinner celebrates the strength\, resilience\, and capability of Western Australia’s Defence Industry – with a special focus on our vibrant local SME community and the dedicated service of the Australian Defence Force.\nProudly hosted by the Henderson Alliance and the AIDN this signature event brings together industry leaders\, government\, primes\, and SMEs for an evening of networking\, recognition\, and celebration. \nThe evening will also host the annual Awards Presentation: \n\nMinister’s Award for Excellence in Defence Industry (SME)\nMinister’s Award for Services to Defence Industry (Individual)
URL:https://wainnovationcalendar.com.au/event/wa-defence-industry-2025-gala-dinner/
LOCATION:Optus Stadium\, 333 Victoria Park Drive\, Burswood\, Western Australia\, 6100\, Australia
CATEGORIES:Awards Night / Celebratory Event
END:VEVENT
BEGIN:VEVENT
DTSTART;TZID=Australia/Perth:20250828T070000
DTEND;TZID=Australia/Perth:20250828T093000
DTSTAMP:20260426T042636
CREATED:20250812T085637Z
LAST-MODIFIED:20250812T085637Z
UID:10003569-1756364400-1756373400@wainnovationcalendar.com.au
SUMMARY:Building SME Capability in Defence: Workshop Series Launch
DESCRIPTION:Henderson Alliance\, in partnership with the City of Cockburn\, is launching a series of focused workshops designed to equip SME’s with the skills needed to enter and grow within the defence supply chain.\nAttendees will gain practical strategies to navigate current workforce challenges and build safer\, more resilient teams that drive performance and wellbeing. \nLocated in one of Australia’s most significant maritime and defence precincts\, Cockburn is home to a strong and growing community of small to medium enterprises supporting the wider defence ecosystem. It also supports a $15 billion cluster of marine infrastructure and major industry players including Austal\, BAE Systems\, Civmec\, and Luerssen Australia. The region hosts the Australian Marine Complex\, a vital sustainment hub for the Royal Australian Navy’s operations in Western Australia. \nThis workshop offers an important opportunity for SMEs to align with a strategically critical industry and take the first step toward defence sector readiness. \nWhether you’re an established SME or just beginning your journey into the defence sector\, this session is designed to help you build capability\, confidence\, and connection with industry expectations.
URL:https://wainnovationcalendar.com.au/event/building-sme-capability-in-defence-workshop-series-launch/
LOCATION:City of Cockburn\, 9 Coleville Crescent\, Spearwood\, WA\, 6163\, Australia
CATEGORIES:Workshop / Masterclass
ATTACH;FMTTYPE=image/jpeg:https://wainnovationcalendar.com.au/wp-content/uploads/2025/08/Presenters.jpg
END:VEVENT
BEGIN:VEVENT
DTSTART;TZID=Australia/Perth:20250812T173000
DTEND;TZID=Australia/Perth:20250812T200000
DTSTAMP:20260426T042636
CREATED:20250405T071604Z
LAST-MODIFIED:20250405T071604Z
UID:10003128-1755019800-1755028800@wainnovationcalendar.com.au
SUMMARY:Henderson Alliance | Network & Learn
DESCRIPTION:This is a must-attend gathering for industry professionals looking to connect\, collaborate\, and gain insights in a relaxed and engaging environment. Whether you’re a regular attendee or joining us for the first time\, this event is the perfect chance to expand your network and explore new opportunities in the Defence Industry.
URL:https://wainnovationcalendar.com.au/event/henderson-alliance-network-learn/2025-08-12/
LOCATION:Old Courthouse\, 45 Henderson Street\, Fremantle\, WA\, 6160\, Australia
CATEGORIES:Networking / Group Meetup
ATTACH;FMTTYPE=image/png:https://wainnovationcalendar.com.au/wp-content/uploads/2025/04/images.png
END:VEVENT
END:VCALENDAR