BEGIN:VCALENDAR
VERSION:2.0
PRODID:-//WA Innovation Calendar - ECPv6.15.20//NONSGML v1.0//EN
CALSCALE:GREGORIAN
METHOD:PUBLISH
X-WR-CALNAME:WA Innovation Calendar
X-ORIGINAL-URL:https://wainnovationcalendar.com.au
X-WR-CALDESC:Events for WA Innovation Calendar
REFRESH-INTERVAL;VALUE=DURATION:PT1H
X-Robots-Tag:noindex
X-PUBLISHED-TTL:PT1H
BEGIN:VTIMEZONE
TZID:Australia/Perth
BEGIN:STANDARD
TZOFFSETFROM:+0800
TZOFFSETTO:+0800
TZNAME:AWST
DTSTART:20240101T000000
END:STANDARD
END:VTIMEZONE
BEGIN:VEVENT
DTSTART;TZID=Australia/Perth:20250904T140000
DTEND;TZID=Australia/Perth:20250904T160000
DTSTAMP:20260426T123237
CREATED:20250902T061620Z
LAST-MODIFIED:20250902T061907Z
UID:10003800-1756994400-1757001600@wainnovationcalendar.com.au
SUMMARY:Submission Workshop: 'Harnessing Data & Digital Technology'
DESCRIPTION:Join this workshop session to help prepare submissions in response to the Productivity Commision’s Interim Report \n\n\n\n\n\n\n\n\n\nThe Productivity Commission’s Interim Report on ‘Harnessing Data and Digital Technology’ can be found at https://www.pc.gov.au/inquiries/current/data-digital#interim \nThis session will primarily focus on the Artificial Intelligence issues covered in the Interim Report\, with a particular focus on the Productivity Commission’s request for feedback on a high profile and controversial topic\, the issue of copyright materials being used to train AI models. \n\nIntroduction and overview of the Productivity Commission’s ‘Harnessing Data and Digital Technology’ Interim Report\nMachine Learning & the Copyright Act – should text & data mining (TDM) be made an exception to copyright infringement?\nOverview of other issues in the Interim Report – Data Access\, Privacy Regulation\, Digital Financial Reporting\nSubmission process (deadline for submissions is 15 September 2025).\n\n\n\n\n\n\n\n\n\nThis event is a joint initiative of the WA Data Science Innovation Hub\, Perth Machine Learning Group\, Stratocumulus Legal and Stirling & Rose.
URL:https://wainnovationcalendar.com.au/event/submission-workshop-harnessing-data-digital-technology/
LOCATION:Curtin\, 137 St Georges Tce\, 137 St Georges Terrace\, Perth\, WA\, 6000\, Australia
CATEGORIES:Workshop / Masterclass
ATTACH;FMTTYPE=image/png:https://wainnovationcalendar.com.au/wp-content/uploads/2025/09/Harnessing-Data-Digital-Technology-e1756793897798.png
ORGANIZER;CN="WADSIH":MAILTO:wadsih@curtin.edu.au
END:VEVENT
END:VCALENDAR