BEGIN:VCALENDAR
VERSION:2.0
PRODID:-//WA Innovation Calendar - ECPv6.15.20//NONSGML v1.0//EN
CALSCALE:GREGORIAN
METHOD:PUBLISH
X-WR-CALNAME:WA Innovation Calendar
X-ORIGINAL-URL:https://wainnovationcalendar.com.au
X-WR-CALDESC:Events for WA Innovation Calendar
REFRESH-INTERVAL;VALUE=DURATION:PT1H
X-Robots-Tag:noindex
X-PUBLISHED-TTL:PT1H
BEGIN:VTIMEZONE
TZID:Australia/Perth
BEGIN:STANDARD
TZOFFSETFROM:+0800
TZOFFSETTO:+0800
TZNAME:AWST
DTSTART:20220101T000000
END:STANDARD
END:VTIMEZONE
BEGIN:VEVENT
DTSTART;TZID=Australia/Perth:20250731T170000
DTEND;TZID=Australia/Perth:20250731T190000
DTSTAMP:20260420T131318
CREATED:20250726T012120Z
LAST-MODIFIED:20250726T012120Z
UID:10003519-1753981200-1753988400@wainnovationcalendar.com.au
SUMMARY:Meshpoints Regional Town Hall Sundowner
DESCRIPTION:Join for a relaxed evening to introduce you to the Meshpoints and Startup WA ecosystems. Connect with like-minded individuals and businesses and hear how you can be supported and assist with building a thriving network in the South West. \nProudly supported by Margaret River Business Network\, Creative Corner\, Creative Tech Village\, Shire of Augusta Margaret River\, Flow Gallery and Edwards Wines. Drinks and nibbles provided – limited places please be sure to register. \nMargaret River Business Network and Creative Corner Members only.
URL:https://wainnovationcalendar.com.au/event/meshpoints-regional-town-hall-sundowner/
LOCATION:Flow Gallery\, 687 Ellen Brook Road\, Cowaramup\, Australia
CATEGORIES:Networking / Group Meetup
ATTACH;FMTTYPE=image/png:https://wainnovationcalendar.com.au/wp-content/uploads/2025/07/Screenshot-2025-07-26-092013.png
END:VEVENT
BEGIN:VEVENT
DTSTART;TZID=Australia/Perth:20240326T163000
DTEND;TZID=Australia/Perth:20240326T193000
DTSTAMP:20260420T131318
CREATED:20240221T041612Z
LAST-MODIFIED:20260407T055709Z
UID:10001925-1711470600-1711481400@wainnovationcalendar.com.au
SUMMARY:WA Pulse
DESCRIPTION:WA Pulse is back\, bringing together the vibrant startup ecosystem of Western Australia! 🌟 Join us for an evening of networking\, insights and collaboration. \n📅 Save the Date: March 26th\, 2024\n🕟 Time: 4:30 pm – 7:30 pm\n📍 Venue: Perth Town Hall \nWhat’s WA Pulse all about?\nWA Pulse highlights the diverse array of initiatives driving growth in the WA startup landscape. Expect a showcase of impactful projects and collaborations shaping our ecosystem. The biannual WA Pulse gatherings unite a spectrum of stakeholders\, from government representatives to educators\, investors\, and beyond. Together\, we aim to cultivate a more informed\, interconnected and collaborative startup environment. \nWhat can you look forward to?\nAt WA Pulse\, 20 handpicked speakers will deliver rapid-fire updates on the latest ecosystem developments. Each presentation clocks in at just 3 minutes\, ensuring you’re up to speed on new programs and ongoing endeavours. But it doesn’t stop there – we want your input too! Engage directly with program creators during networking breaks\, offering feedback and fresh perspectives to shape future initiatives. \nPlus\, seize the chance to forge valuable connections during our networking sessions. Whether you’re seeking collaborators or simply sharing ideas\, WA Pulse provides the perfect platform. \n\nTicket Options\nYou can choose from two ticket options: \n1. In-Person Ticket – $55\,\n2. Online Live Stream Ticket – $15. \nJust so you know\, if you choose to buy the online ticket\, we’ll send you the link to the live stream via email on the event day. \nIf you are joining us in person\, we’ve got you covered with delicious refreshments throughout the event.
URL:https://wainnovationcalendar.com.au/event/wa-pulse-2/
LOCATION:Perth Town Hall\, 601 Hay Street\, Perth\, WA\, Australia
CATEGORIES:Conference / Summit / Symposium
END:VEVENT
BEGIN:VEVENT
DTSTART;TZID=Australia/Perth:20230912T170000
DTEND;TZID=Australia/Perth:20230912T200000
DTSTAMP:20260420T131318
CREATED:20230808T041114Z
LAST-MODIFIED:20260407T042316Z
UID:10001609-1694538000-1694548800@wainnovationcalendar.com.au
SUMMARY:Pitch Night: A Night of Innovation // Breakthrough
DESCRIPTION:Imagine a future where WA leads the world in ethical disruption; where every truly brilliant idea can break through.\n\nWe’re thrilled to announce ‘A Night of Innovation // Breakthrough\,’ a bigger\, bolder\, and brighter edition of our Night of Innovation tradition. \nThis September\, Modern People\, Evolv3 and WA Museum Boola Bardip are joining forces with StartupWA for Breakthrough. Once again\, we’re committing to propelling as many WA startups as possible on their path to success\, but this time\, we’re upping the ante. Expect a strong investor presence\, a streamlined group of startups with longer pitch times\, and more generous prizes than ever before. \nWhat can you expect from the night? \n\nA keynote on Breaking Through in WA by industry experts\nA series of speed pitches from some far-reaching innovators in WA\nAn opportunity to network with start-ups\, innovators and investors\nThe Panel’s Choice and People’s Choice finalists\nOn-stage interviews with the top 3\nPrizes\nAnd much more\n\nDon’t miss out on this golden opportunity to support breakthrough innovation in WA; book now. \n(If you’re interested in pitching on the night\, please reach out to info@startupwa.org. We are excited to hear your innovative ideas!)
URL:https://wainnovationcalendar.com.au/event/pitch-night-a-night-of-innovation-breakthrough/
LOCATION:WA Museum Boola Bardip\, Perth Cultural Centre\, Perth\, WA\, 6000\, Australia
CATEGORIES:Showcase / Pitch / Demo / Tour
END:VEVENT
END:VCALENDAR