BEGIN:VCALENDAR
VERSION:2.0
PRODID:-//WA Innovation Calendar - ECPv6.15.20//NONSGML v1.0//EN
CALSCALE:GREGORIAN
METHOD:PUBLISH
X-WR-CALNAME:WA Innovation Calendar
X-ORIGINAL-URL:https://wainnovationcalendar.com.au
X-WR-CALDESC:Events for WA Innovation Calendar
REFRESH-INTERVAL;VALUE=DURATION:PT1H
X-Robots-Tag:noindex
X-PUBLISHED-TTL:PT1H
BEGIN:VTIMEZONE
TZID:Australia/Perth
BEGIN:STANDARD
TZOFFSETFROM:+0800
TZOFFSETTO:+0800
TZNAME:AWST
DTSTART:20230101T000000
END:STANDARD
END:VTIMEZONE
BEGIN:VEVENT
DTSTART;TZID=Australia/Perth:20260415T173000
DTEND;TZID=Australia/Perth:20260415T203000
DTSTAMP:20260420T124443
CREATED:20260302T073448Z
LAST-MODIFIED:20260302T073448Z
UID:10004332-1776274200-1776285000@wainnovationcalendar.com.au
SUMMARY:Society for Underwater Technology April ETM
DESCRIPTION:“Beneath the Surface: Uncovering Maritime Mysteries Through Underwater Technology” \nThe SUT April ETM will showcase how advancements in underwater technology are redefining maritime archaeological research and underwater exploration. \nHighlighting the intersection between engineering\, science\, archaeology and underwater exploration\, this event will demonstrate how technological innovations are progressing investigations of our submerged cultural heritage\, support more engaging communication to the public and how these methods can translate into broader industry applications. \nLearn more and register here: https://www.eventbrite.com.au/e/april-evening-technical-meeting-tickets-1983737789128
URL:https://wainnovationcalendar.com.au/event/society-for-underwater-technology-april-etm/
LOCATION:Parmelia Hilton\, 14 Mill Street\, Perth\, WA\, 6000\, Australia
CATEGORIES:Networking / Group Meetup,Seminar / Panel Discussion / Conversation
END:VEVENT
BEGIN:VEVENT
DTSTART;TZID=Australia/Perth:20260414T173000
DTEND;TZID=Australia/Perth:20260414T190000
DTSTAMP:20260420T124443
CREATED:20260329T061235Z
LAST-MODIFIED:20260329T061235Z
UID:10004395-1776187800-1776193200@wainnovationcalendar.com.au
SUMMARY:2026 SUT YES! UWA Lab Visit
DESCRIPTION:Join SUT YES! for an exclusive visit to UWA’s Indian Ocean Marine Research Centre in Crawley. \nAttendees will have the opportunity to tour the centrifuge facility\, gaining a first-hand look at advanced geotechnical testing equipment and techniques. Following the lab tour\, enjoy a BBQ networking session\, a great chance to connect with industry professionals. \nWhether you’re studying\, working in the field\, or simply interested in underwater technology\, this is a great chance to expand your knowledge and network in a relaxed setting.
URL:https://wainnovationcalendar.com.au/event/2026-sut-yes-uwa-lab-visit/
LOCATION:Indian Ocean Marine Research Centre\, 64 Fairway\, Crawley\, WA\, 6009\, Australia
CATEGORIES:Showcase / Pitch / Demo / Tour
END:VEVENT
BEGIN:VEVENT
DTSTART;TZID=Australia/Perth:20260211T173000
DTEND;TZID=Australia/Perth:20260211T203000
DTSTAMP:20260420T124443
CREATED:20260201T032237Z
LAST-MODIFIED:20260201T032237Z
UID:10004155-1770831000-1770841800@wainnovationcalendar.com.au
SUMMARY:Society for Underwater Technology February ETM
DESCRIPTION:February ETM – Data and Visual Analytics in Subsea Asset Management\nThis evening will focus on the following three topics: \n\nSubsea Inspection Supported by AI Driven Computer Vision\nData and Visual Analytics in Subsea Asset Management\nVibration Sensor Data Analysis and Visualisation for Asset Management of Subsea Pipelines
URL:https://wainnovationcalendar.com.au/event/society-for-underwater-technology-february-etm/
LOCATION:Parmelia Hilton\, 14 Mill Street\, Perth\, WA\, 6000\, Australia
CATEGORIES:Networking / Group Meetup
END:VEVENT
BEGIN:VEVENT
DTSTART;TZID=Australia/Perth:20251029T083000
DTEND;TZID=Australia/Perth:20251030T180000
DTSTAMP:20260420T124443
CREATED:20250711T094127Z
LAST-MODIFIED:20250711T094237Z
UID:10003475-1761726600-1761847200@wainnovationcalendar.com.au
SUMMARY:Autonomous Marine Technology (AMT) Conference
DESCRIPTION:TOPIC: “Scaling the seas: Building and operating robust autonomous maritime systems”. \nReturning in 2025\, the Autonomous Marine Technology Conference (AMT) – formerly Autonomous Underwater Technology Conference\, will be held in Perth\, Western Australia in October. The conference aims to showcase the rapid advances in the AMT field along with demonstrating real world and future potential applications of the different technologies within our marine environment. \nThis long running and well reputed conference continues to be one of the most globally essential knowledge centres and networking opportunities in this field\, allowing delegates to meet with industry leaders\, academics and researchers in this innovative section of subsea development. \nIn addition\, you’ll gain invaluable insights and new learnings about technology advances and recent case studies of AMT equipment to assist in your professional development. \n 
URL:https://wainnovationcalendar.com.au/event/autonomous-marine-technology-amt-conference/
LOCATION:Parmelia Hilton\, 14 Mill Street\, Perth\, WA\, 6000\, Australia
CATEGORIES:Conference / Summit / Symposium
ATTACH;FMTTYPE=image/png:https://wainnovationcalendar.com.au/wp-content/uploads/2025/07/Screenshot-2025-07-11-174155.png
END:VEVENT
BEGIN:VEVENT
DTSTART;TZID=Australia/Perth:20251015T173000
DTEND;TZID=Australia/Perth:20251015T203000
DTSTAMP:20260420T124443
CREATED:20250906T091541Z
LAST-MODIFIED:20250906T091541Z
UID:10003825-1760549400-1760560200@wainnovationcalendar.com.au
SUMMARY:Lessons Learnt in Subsea and New Energy
DESCRIPTION:The Society for Underwater Technology invite you to their Evening Technical Meeting & Annual General Meeting on 15th October 2025 \nThe evening will focus on the following three topics: \n1. Lessons Learned Within Subsea: Leveraging Monitoring\, Connectivity and Data for Robust Asset Integrity Management – by Thomas McCudden\, Viper \n\n\n\n\n\n\n\n\n\n2. The fatigue life of flexible risers is a critical factor in offshore system design due to inherent safety implication – by Dr Craig Booth\, Atteris \n3. Management of CCS Pipeline Networks: State of the Art – by Callum Peace\, Wood PLC
URL:https://wainnovationcalendar.com.au/event/lessons-learnt-in-subsea-and-new-energy/
LOCATION:Parmelia Hilton\, 14 Mill Street\, Perth\, WA\, 6000\, Australia
CATEGORIES:Networking / Group Meetup,Seminar / Panel Discussion / Conversation
END:VEVENT
BEGIN:VEVENT
DTSTART;TZID=Australia/Perth:20250611T173000
DTEND;TZID=Australia/Perth:20250611T203000
DTSTAMP:20260420T124443
CREATED:20250506T072126Z
LAST-MODIFIED:20250506T072126Z
UID:10003254-1749663000-1749673800@wainnovationcalendar.com.au
SUMMARY:Driving Innovation in Offshore Wave Energy
DESCRIPTION:The Society for Underwater Technology invite you to the June 2025 Evening Technical Meeting: \nDriving Innovation in Offshore Wave Energy\nThe evening will focus on the following three topics: \n1. Role of wave energy in future renewable grids by Dr Jana Orszaghova\, UWA \n2. Leveraging Oil and Gas Industry Experience for Sustainable Wave Energy: The D-Spar Technology by Tim Green\, WaveX \n3. The M4 wave energy deployment in Albany by Dr Hugh Wolgamot\, UWA \nRegister here: Driving Innovation in Offshore Wave Energy
URL:https://wainnovationcalendar.com.au/event/driving-innovation-in-offshore-wave-energy/
LOCATION:Parmelia Hilton\, 14 Mill Street\, Perth\, WA\, 6000\, Australia
CATEGORIES:Seminar / Panel Discussion / Conversation
END:VEVENT
BEGIN:VEVENT
DTSTART;TZID=Australia/Perth:20250505T074500
DTEND;TZID=Australia/Perth:20250509T163000
DTSTAMP:20260420T124443
CREATED:20250412T072619Z
LAST-MODIFIED:20250412T230643Z
UID:10003182-1746431100-1746808200@wainnovationcalendar.com.au
SUMMARY:Subsea Awareness Course
DESCRIPTION:Subsea Engineering deals with the design\, construction\, installation\, operation\, maintenance and decommissioning of equipment in the ocean or on the seabed. \nThis is an essential course delivered by industry experts\, providing a greater understanding of the subsea environment. \nLearn moreHERE
URL:https://wainnovationcalendar.com.au/event/subsea-awareness-course/
LOCATION:Parmelia Hilton\, 14 Mill Street\, Perth\, WA\, 6000\, Australia
CATEGORIES:Workshop / Masterclass
END:VEVENT
BEGIN:VEVENT
DTSTART;TZID=Australia/Perth:20250219T173000
DTEND;TZID=Australia/Perth:20250219T203000
DTSTAMP:20260420T124443
CREATED:20241221T103127Z
LAST-MODIFIED:20241221T103127Z
UID:10002812-1739986200-1739997000@wainnovationcalendar.com.au
SUMMARY:Society for Underwater Technology ETM: Decommissioning
DESCRIPTION:The Society for Underwater Technology invite you to the February 2025 Evening Technical Meeting. \nThe evening will focus on the following three topics: \n\nCASE STUDY ON EFFICIENT REMOVAL OF SUBSEA EQUIPMENT\nNOVEL APPROACHES TO RE-PURPOSING AND SUSTAINABLE DECOMMISSIONING OF AGING OFFSHORE ASSETS\nINNOVATING OFFSHORE DECOMMISSIONING: PROTECTING BIODIVERSITY AND MICROPLASTIC GUIDELINE DEVELOPMENT
URL:https://wainnovationcalendar.com.au/event/society-for-underwater-technology-etm-decommissioning/
LOCATION:Parmelia Hilton\, 14 Mill Street\, Perth\, WA\, 6000\, Australia
CATEGORIES:Networking / Group Meetup,Seminar / Panel Discussion / Conversation
END:VEVENT
BEGIN:VEVENT
DTSTART;TZID=Australia/Perth:20241028T173000
DTEND;TZID=Australia/Perth:20241030T170000
DTSTAMP:20260420T124443
CREATED:20241024T021049Z
LAST-MODIFIED:20241024T021049Z
UID:10002674-1730136600-1730307600@wainnovationcalendar.com.au
SUMMARY:Subsea Controls Down Under Conference
DESCRIPTION:The Perth branch of the Society for Underwater Technology host their 7th Subsea Controls technical conference and Exhibition \n\n\n\n\n\n\n\n\nThis international conference in the field of “Subsea Controls & Data Acquisition” is aimed at the diverse disciplines engaged in subsea controls technology. The goal is to share experiences by networking\, discussing global and regional challenges\, showcasing ways of bringing new ideas and technology to the market\, sharing learnings and providing an understanding from an operator’s viewpoint on how the industry can benefit from operational and project experiences. \nThe Conference will be held at the Parmelia Hilton in Perth on the 29th & 30th October 2024\, with a networking/welcome Ice Breaker Function to be held on the 28th October 2024 at Frasers Restaurant.
URL:https://wainnovationcalendar.com.au/event/subsea-controls-down-under-conference/
LOCATION:Parmelia Hilton\, 14 Mill Street\, Perth\, WA\, 6000\, Australia
CATEGORIES:Conference / Summit / Symposium
END:VEVENT
BEGIN:VEVENT
DTSTART;TZID=Australia/Perth:20241009T173000
DTEND;TZID=Australia/Perth:20241009T203000
DTSTAMP:20260420T124443
CREATED:20240919T044932Z
LAST-MODIFIED:20240923T062922Z
UID:10002581-1728495000-1728505800@wainnovationcalendar.com.au
SUMMARY:Society for Underwater Technology: Artifishal Intelligence
DESCRIPTION:” \n\n\nThe Society for Underwater Technology invite you to our Evening Technical Meeting & Annual General Meeting on 9th October 2024 \n\n\n\n\n\n\n\n\nThe evening will focus on the following three topics: \n\nOptimising Subsea Tieback Iteration with Machine Learning\nAn application of machine learning to the motion response prediction of floating assets\nUse of Digital Twin to Assist in Operational Asset Management
URL:https://wainnovationcalendar.com.au/event/society-for-underwater-technology-artifishal-intelligence/
LOCATION:Parmelia Hilton\, 14 Mill Street\, Perth\, WA\, 6000\, Australia
CATEGORIES:Seminar / Panel Discussion / Conversation
ATTACH;FMTTYPE=image/png:https://wainnovationcalendar.com.au/wp-content/uploads/2024/09/SUT-techmeeting.png
END:VEVENT
BEGIN:VEVENT
DTSTART;TZID=Australia/Perth:20240814T173000
DTEND;TZID=Australia/Perth:20240814T203000
DTSTAMP:20260420T124443
CREATED:20240814T081111Z
LAST-MODIFIED:20260407T031339Z
UID:10002428-1723656600-1723667400@wainnovationcalendar.com.au
SUMMARY:Society for Underwater Technology – Offshore Wind Foundations
DESCRIPTION:The Society for Underwater Technology invite you to the August 2024 Evening Technical Meeting: \n“OFFSHORE WIND FOUNDATIONS”
URL:https://wainnovationcalendar.com.au/event/society-for-underwater-technology-offshore-wind-foundations/
LOCATION:Parmelia Hilton\, 14 Mill Street\, Perth\, WA\, 6000\, Australia
CATEGORIES:Networking / Group Meetup
END:VEVENT
BEGIN:VEVENT
DTSTART;TZID=Australia/Perth:20240612T173000
DTEND;TZID=Australia/Perth:20240612T203000
DTSTAMP:20260420T124443
CREATED:20240530T055214Z
LAST-MODIFIED:20260407T033031Z
UID:10002247-1718213400-1718224200@wainnovationcalendar.com.au
SUMMARY:Subsea Defence Meeting
DESCRIPTION:The Society for Underwater Technology invite you to our Evening Technical Meeting on 12th June 2024 \n\n\n\n\n\n\n\n\n\n\n\n\n\nWelcome to June 2024 Evening Technical Meeting \nTheme: SUBSEA DEFENCE – AUKUS\, Extra Large UUV and Advanced Maritime Autonomy \nDate: Wednesday\, June 12\, 2024 \nTime: 5:30 PM \nLocation: Parmelia Hilton Perth \nCome join us for an exciting event where we will be discussing the latest advancements in autonomous defence technology. Learn from industry experts and network with like-minded individuals. \nFollowing the presentations\, we invite attendees to engage in the mini exhibition and networking drinks in the foyer. Don’t miss out on this opportunity to stay ahead of the curve in the world of AUKUS\, Extra Large Uncrewed Underwater Vehicles (XLUUV) and Advanced Maritime Autonomy. See you there!
URL:https://wainnovationcalendar.com.au/event/subsea-defence-meeting/
LOCATION:Parmelia Hilton\, 14 Mill Street\, Perth\, WA\, 6000\, Australia
CATEGORIES:Networking / Group Meetup
END:VEVENT
BEGIN:VEVENT
DTSTART;TZID=Australia/Perth:20240424T080000
DTEND;TZID=Australia/Perth:20240424T100000
DTSTAMP:20260420T124443
CREATED:20240414T055748Z
LAST-MODIFIED:20260407T055841Z
UID:10002114-1713945600-1713952800@wainnovationcalendar.com.au
SUMMARY:Monthly Marine Renewables Coffee Morning: April
DESCRIPTION:Monthly Marine Renewables Coffee Morning: April \nWelcome to our **Monthly Marine Renewables Coffee Morning** for April! Join us for an open forum for those interested in Marine Renewables to create discussion and invite collaboration around industry solutions and problems between developers\, supply chain\, academia\, and government. \nThis in-person event is a great opportunity to connect with like-minded individuals\, discuss the latest trends\, and enjoy some good coffee. Don’t miss out on this chance to expand your network and knowledge in a relaxed setting. We can’t wait to see you there!
URL:https://wainnovationcalendar.com.au/event/monthly-marine-renewables-coffee-morning-april/
LOCATION:Samuels on Mill\, 14 Mill Street\, Perth\, WA\, 6000\, Australia
CATEGORIES:Networking / Group Meetup
END:VEVENT
END:VCALENDAR