BEGIN:VCALENDAR
VERSION:2.0
PRODID:-//WA Innovation Calendar - ECPv6.15.20//NONSGML v1.0//EN
CALSCALE:GREGORIAN
METHOD:PUBLISH
X-WR-CALNAME:WA Innovation Calendar
X-ORIGINAL-URL:https://wainnovationcalendar.com.au
X-WR-CALDESC:Events for WA Innovation Calendar
REFRESH-INTERVAL;VALUE=DURATION:PT1H
X-Robots-Tag:noindex
X-PUBLISHED-TTL:PT1H
BEGIN:VTIMEZONE
TZID:Australia/Perth
BEGIN:STANDARD
TZOFFSETFROM:+0800
TZOFFSETTO:+0800
TZNAME:AWST
DTSTART:20230101T000000
END:STANDARD
END:VTIMEZONE
BEGIN:VEVENT
DTSTART;TZID=Australia/Perth:20251007T080000
DTEND;TZID=Australia/Perth:20251009T170000
DTSTAMP:20260421T192501
CREATED:20250321T050342Z
LAST-MODIFIED:20260325T085646Z
UID:10003074-1759824000-1760029200@wainnovationcalendar.com.au
SUMMARY:Indo-Pacific Robotics\, Autonomy\, AI and Cyber Conference
DESCRIPTION:From the team that brought you the Indo-Pacific Space and Earth Conference (IPSEC) \nAfter a resounding success of IPSEC in 2023 and 2024\, we are proud to announce the launch of the Indo-Pacific Robotics\, Autonomy\, AI and Cyber Conference (IPRAAC) in 2025. \nFollowing the same format of IPSEC\, the conference is aimed at bringing together leading minds\, thought leaders and industry experts from around the globe for opportunities  in robotics\, autonomy\, AI and cyber. Through interactive sessions\, workshops and discussions\, the conference provides a unique platform for attendees to explore the infinite possibilities of robotics and related technologies and their impact around the world\, forging collaborations that will drive innovation in various sectors. \nJoin us in October 2025 for the new installment of IPRAAC for invaluable opportunities to share knowledge\, collaborate and network among key industry leaders.
URL:https://wainnovationcalendar.com.au/event/indo-pacific-robotics-autonomy-ai-and-cyber-conference/
LOCATION:Pan Pacific Hotel Perth\, 207 Adelaide Tce\, Perth\, WA\, 6000\, Australia
CATEGORIES:Conference / Summit / Symposium
END:VEVENT
BEGIN:VEVENT
DTSTART;TZID=Australia/Perth:20241126T080000
DTEND;TZID=Australia/Perth:20241128T170000
DTSTAMP:20260421T192501
CREATED:20240709T011928Z
LAST-MODIFIED:20240923T054933Z
UID:10002351-1732608000-1732813200@wainnovationcalendar.com.au
SUMMARY:Indo-Pacific Space & Earth Conference (IPSEC)
DESCRIPTION:After a resounding success in 2023\, The Indo-Pacific Space and Earth Conference (IPSEC) is back again in November 2024. \nThe conference is aimed at bringing together leading minds\, thought leaders and industry experts from around the globe for opportunities in space and cross-sector technologies and innovation. Through interactive sessions\, workshops and discussions\, the conference provides a unique platform for attendees to explore the infinite possibilities of space technologies and their impact on Earth\, forging collaborations that will drive innovation in various sectors. \nJoin us again in November 2024 for the next installment of IPSEC for invaluable opportunities to share knowledge\, collaborate and network among key industry leaders.
URL:https://wainnovationcalendar.com.au/event/indo-pacific-space-earth-conference-ipsec/
LOCATION:Crown Perth\, Great Eastern Highway\, Perth\, WA\, Australia
CATEGORIES:Conference / Summit / Symposium
END:VEVENT
END:VCALENDAR