BEGIN:VCALENDAR
VERSION:2.0
PRODID:-//WA Innovation Calendar - ECPv6.15.20//NONSGML v1.0//EN
CALSCALE:GREGORIAN
METHOD:PUBLISH
X-WR-CALNAME:WA Innovation Calendar
X-ORIGINAL-URL:https://wainnovationcalendar.com.au
X-WR-CALDESC:Events for WA Innovation Calendar
REFRESH-INTERVAL;VALUE=DURATION:PT1H
X-Robots-Tag:noindex
X-PUBLISHED-TTL:PT1H
BEGIN:VTIMEZONE
TZID:Australia/Perth
BEGIN:STANDARD
TZOFFSETFROM:+0800
TZOFFSETTO:+0800
TZNAME:AWST
DTSTART:20250101T000000
END:STANDARD
END:VTIMEZONE
BEGIN:VEVENT
DTSTART;TZID=Australia/Perth:20260131T080000
DTEND;TZID=Australia/Perth:20260131T090000
DTSTAMP:20260424T001050
CREATED:20251126T053637Z
LAST-MODIFIED:20251126T053637Z
UID:10004036-1769846400-1769850000@wainnovationcalendar.com.au
SUMMARY:DEADLINE: MSWA Multiple Sclerosis & Neurological Care Accelerator
DESCRIPTION:Backing breakthrough technologies to improve life for people with neurological conditions\n\nMSWA and Founders Factory have partnered to fast-track global startups developing innovations that transform care for people living with MS and other neurological conditions. \nThe program supports early-stage ventures harnessing AI\, robotics\, wearables\, and digital health to address multiple sclerosis\, stroke\, Parkinson’s disease\, Huntington’s disease\, motor neurone disease and acquired brain injury. \nFounders gain access to investment\, expert-led workshops\, 1:1 mentoring\, and access to a global network of clinicians\, researchers\, and health tech leaders. Together\, our goal is to turn breakthrough ideas into tangible improvements in care\, mobility\, and independence. \nLearn more and apply here: https://foundersfactory.com/mswa-ms-neurological-care-accelerator/
URL:https://wainnovationcalendar.com.au/event/deadline-mswa-multiple-sclerosis-neurological-care-accelerator/
LOCATION:Apply online\, Australia
CATEGORIES:DEADLINE: Accelerator / Incubator
END:VEVENT
END:VCALENDAR