BEGIN:VCALENDAR
VERSION:2.0
PRODID:-//WA Innovation Calendar - ECPv6.15.20//NONSGML v1.0//EN
CALSCALE:GREGORIAN
METHOD:PUBLISH
X-WR-CALNAME:WA Innovation Calendar
X-ORIGINAL-URL:https://wainnovationcalendar.com.au
X-WR-CALDESC:Events for WA Innovation Calendar
REFRESH-INTERVAL;VALUE=DURATION:PT1H
X-Robots-Tag:noindex
X-PUBLISHED-TTL:PT1H
BEGIN:VTIMEZONE
TZID:Australia/Perth
BEGIN:STANDARD
TZOFFSETFROM:+0800
TZOFFSETTO:+0800
TZNAME:AWST
DTSTART:20210101T000000
END:STANDARD
END:VTIMEZONE
BEGIN:VEVENT
DTSTART;TZID=Australia/Perth:20250820T170000
DTEND;TZID=Australia/Perth:20250820T193000
DTSTAMP:20260424T123444
CREATED:20250816T063300Z
LAST-MODIFIED:20250816T063300Z
UID:10003588-1755709200-1755718200@wainnovationcalendar.com.au
SUMMARY:The Opportunity for Naturally Occurring Hydrogen
DESCRIPTION:An emerging area of interest in the hydrogen ecosystem is the opportunity for naturally occurring hydrogen. This Seminar will explore the theory and practice of exploring\, appraising and producing naturally occurring hydrogen from leading practitioners in WA\nPresenters \n\nDr Agu Kantsler – Managing Director of Transform Petroleum Pty Ltd – Director of Central Petroleum\nVitaly Vidavskiy – Founder and CEO of Avalio Pty Ltd
URL:https://wainnovationcalendar.com.au/event/the-opportunity-for-naturally-occurring-hydrogen/
LOCATION:The Platform\, 256 Adelaide Terrace #3 Perth\, WA 6000 Australia\, Perth\, Australia\, 6000\, Australia
CATEGORIES:Seminar / Panel Discussion / Conversation
ATTACH;FMTTYPE=image/png:https://wainnovationcalendar.com.au/wp-content/uploads/2025/08/WAInnovationCalendarWebsite-3.png
END:VEVENT
BEGIN:VEVENT
DTSTART;TZID=Australia/Perth:20250625T120000
DTEND;TZID=Australia/Perth:20250625T133000
DTSTAMP:20260424T123444
CREATED:20250606T031800Z
LAST-MODIFIED:20250606T031800Z
UID:10003360-1750852800-1750858200@wainnovationcalendar.com.au
SUMMARY:Hydrogen Society Australia (HSA): Hydrogen Links
DESCRIPTION:Discover how electrotechnologies are transforming the hydrogen industry\, making production\, storage\, and utilization more modular and scalable. This presentation will showcase the powerful synergy between academia and industry in delivering groundbreaking translational research\, from QUT’s H2Xport pilot plant to our cutting-edge labs on campus. Learn how this paradigm shift is not only accelerating research\, development\, and deployment but also paving the way for a more accessible and sustainable hydrogen future. \nBoth in-person (QLD) and online. \nLearn more and register: Hydrogen Society Australia (HSA): Hydrogen Links
URL:https://wainnovationcalendar.com.au/event/hydrogen-society-australia-hsa-hydrogen-links/
LOCATION:online\, Australia
CATEGORIES:Networking / Group Meetup,Seminar / Panel Discussion / Conversation
END:VEVENT
BEGIN:VEVENT
DTSTART;TZID=Australia/Perth:20250410T123000
DTEND;TZID=Australia/Perth:20250410T151500
DTSTAMP:20260424T123444
CREATED:20250329T071217Z
LAST-MODIFIED:20250411T041342Z
UID:10003099-1744288200-1744298100@wainnovationcalendar.com.au
SUMMARY:HSA Tour: Curtin Hydrogen Storage Research Group Tour and Seminar WA
DESCRIPTION:Hydrogen Society of Australia is pleased to invite you to an upcoming seminar showcasing the latest achievements of Curtin University’s Hydrogen Storage Research Group (HSRG) and the John de Laeter Centre.
URL:https://wainnovationcalendar.com.au/event/hsa-tour-curtin-hydrogen-storage-research-group-tour-and-seminar-wa/
LOCATION:Curtin University\, Australia
CATEGORIES:Showcase / Pitch / Demo / Tour
END:VEVENT
BEGIN:VEVENT
DTSTART;TZID=Australia/Perth:20241214T160000
DTEND;TZID=Australia/Perth:20241214T180000
DTSTAMP:20260424T123444
CREATED:20241029T060205Z
LAST-MODIFIED:20241029T060205Z
UID:10002686-1734192000-1734199200@wainnovationcalendar.com.au
SUMMARY:HSA WA Chapter Inauguration
DESCRIPTION:Join us on the 14th of December in Perth\, in person\, for the inauguration of the HSA Western Australia Chapter\, hear a presentation by David Cavanagh discussing the COP28 Initiatives\, enjoy an end-of-year HSA networking celebration in Perth\, and raise a glass to achievements in the past twelve months.
URL:https://wainnovationcalendar.com.au/event/hsa-wa-chapter-inauguration/
LOCATION:Bon Marche Arcade\, Level 1\, 74-84 Barrack Street\, Perth\, WA\, 6000\, Australia
CATEGORIES:Networking / Group Meetup
END:VEVENT
BEGIN:VEVENT
DTSTART;TZID=Australia/Perth:20241007T170000
DTEND;TZID=Australia/Perth:20241007T200000
DTSTAMP:20260424T123444
CREATED:20240829T061606Z
LAST-MODIFIED:20240923T062537Z
UID:10002490-1728320400-1728331200@wainnovationcalendar.com.au
SUMMARY:Green Hydrogen: Where To Next?
DESCRIPTION:Green hydrogen is back in the news after one of its biggest champions\, Fortescue\, announced 700 job cuts and pared back production targets. \nIs this the beginning of the end of the road for green hydrogen\, or just a speedbump along the way? \nLike everything connected with energy\, people have very strong opinions about the future of green hydrogen. \nSustainable Energy Now is partnering with the Hydrogen Society of Australia to bring you four green hydrogen experts who will share their experiences and discuss the role it could play in the clean energy transition in WA\, given the constraints\, drivers and possible alternatives. \nDon’t know your green hydrogen from your blue hydrogen\, or you’re wondering what all the fuss is all about? This event is also for you! \nQ&A to follow. Light refreshments available. Networking opportunities aplenty.
URL:https://wainnovationcalendar.com.au/event/green-hydrogen-where-to-next/
LOCATION:State Library Theatre\, 25 Francis Street\, Perth\, WA\, 6000\, Australia
CATEGORIES:Seminar / Panel Discussion / Conversation
END:VEVENT
BEGIN:VEVENT
DTSTART;TZID=Australia/Perth:20240213T083000
DTEND;TZID=Australia/Perth:20240215T173000
DTSTAMP:20260424T123444
CREATED:20240110T080756Z
LAST-MODIFIED:20260407T035413Z
UID:10001777-1707813000-1708018200@wainnovationcalendar.com.au
SUMMARY:National Hydrogen Industry Technical Masterclass – Perth
DESCRIPTION:A 3-day masterclass for current or aspiring hydrogen industry stakeholders on hydrogen electrolysis\, compression\, refueling\, hydrogen process safety\, and many more key topics\, delivered by Australia’s leading hydrogen industry professionals. \nRegistration through Eventbrite here \nRegister before the 31st of January and benefit from the Early Bird Pricing \nHSA members discount code available here \nA collaboration between \n  \nTue\, 13 Feb 2024 8:30 AM – Thu\, 15 Feb 2024 5:30 PM AWST \nLocation(s): Engineers Australia – WA\, 77 Saint Georges Terrace #Level 10 Perth\, WA 6000 \nA 3-day masterclass for all current and aspiring hydrogen industry stakeholders\, delivered by Australia’s leading hydrogen industry professionals. \nGain practical knowledge that you can take to the office tomorrow\, with lessons learned and insights garnered for real-world experiences on hydrogen project delivery and design. \nHear from the experts on hydrogen electrolysis\, compression\, refueling\, hydrogen process safety\, and many more key topics faced by Australia’s burgeoning hydrogen sector. \nMembers of the Australian Institute of Energy\, Engineers Australia\, and Hydrogen Society of Australia receive a 30% discount on tickets. Contact your member organisation for the promo code to save! Sign into your account on the HSA members portal and access the discount code accessible here: HSA Member Benefits and Discount Page – Masterclass\, or by clicking the button below if you are already logged in. \nIf you are not yet an HSA member\, consider joining before you register for the MasterClass and save. \nRegistration through Eventbrite here \nHSA members discount code available here\nThe NHITM program has been announced\, discover topics and speakers through the agenda below.  \nDownload agenda here – NHITM Program – AgendaNHITM program – Agenda V6
URL:https://wainnovationcalendar.com.au/event/national-hydrogen-industry-technical-masterclass-perth/
LOCATION:Engineers Australia\, 77 St Georges Terrace\, Perth\, Australia
CATEGORIES:Workshop / Masterclass
END:VEVENT
BEGIN:VEVENT
DTSTART;TZID=Australia/Perth:20231008T110000
DTEND;TZID=Australia/Perth:20231008T160000
DTSTAMP:20260424T123444
CREATED:20230926T011709Z
LAST-MODIFIED:20260407T042404Z
UID:10001673-1696762800-1696780800@wainnovationcalendar.com.au
SUMMARY:Australia Hydrogen Day – 5th (Inter)National Hydrogen and Fuel Cell Day
DESCRIPTION:On the 8th of October\, as the world marvels at the significance of the number 1.008 – the atomic weight of Hydrogen – we in Australia celebrate our vision\, our commitment\, and our journey in leading the hydrogen revolution. \nIn 2015\, the United States lit the beacon\, marking the inauguration of the National Hydrogen and Fuel Cell Day. Four years later\, in 2019\, Innovate Australia picked up that mantle\, pioneering the first Australian Hydrogen and Fuel Cell Day under its Hydrogen Society of Australia program. An initiative that blazed its own trail\, becoming an independent entity and taking the solemn pledge to organize and champion the October 8th events year after year. \nWith the collective passion and dedication of the Hydrogen Society of Australia\, Innovate Australia\, and Murdoch University\, our commitment to the hydrogen future shines even more luminously. \nOur national ambition is crystal clear: by 2030\, we envision Australia not merely as a participant but as a beacon of leadership in the hydrogen domain. We’re dreamers with blueprints in hand. Our strategies are adaptive\, innovative\, and tangible. Our hydrogen hubs are the crucibles of transformation\, breeding innovation and synergizing our various energy sectors. And at the core of it all is an unwavering commitment to safety\, sustainability\, and shared prosperity. \nBut this isn’t just Australia’s narrative; it’s penned by every individual. We’re crafting a future where every Australian is a part of this luminous tale – from the metropolises to the heart of our regions. An industry that pledges growth\, job opportunities\, and a verdant\, cleaner environment awaits us. \nThis October 8th\, join us in this grand chapter. Celebrate the strides we’ve taken\, the milestones achieved\, and the limitless horizons that beckon. Together\, let’s write the future. Together\, let’s fuel a greener\, brighter tomorrow. \nAustralia Hydrogen Day – Where history\, science\, and promise converge. \n\n\n\n\nFive years ago Hydrogen Society of Australia brought the event Down Under\, making it Australia’s first (Inter)National Hydrogen and Fuel Cell Day and the very first October 8th official celebration outside the United States.
URL:https://wainnovationcalendar.com.au/event/australia-hydrogen-day-5th-international-hydrogen-and-fuel-cell-day/
LOCATION:90 South Street\, 90 South Street\, Murdoch\, WA\, 6150\, Australia
CATEGORIES:Seminar / Panel Discussion / Conversation
END:VEVENT
BEGIN:VEVENT
DTSTART;TZID=Australia/Perth:20230831T113000
DTEND;TZID=Australia/Perth:20230831T133000
DTSTAMP:20260424T123444
CREATED:20230614T081143Z
LAST-MODIFIED:20260407T061901Z
UID:10001478-1693481400-1693488600@wainnovationcalendar.com.au
SUMMARY:HSA Webinar Series #4: Hydrogen geo-storage: challenges and opportunities
DESCRIPTION:HSA Hybrid Webinar Presentation: Hydrogen geo-storage: challenges and opportunities\nMore details coming soon…\n\nDate \n24th August 2023 \nAbout the presenters \nAlireza Keshavarz – ECU \nThis event is part of  Hydrogen Links\, the HSA Webinar Series \nHydrogen Links\, an Industry Focused Academic Research webinar series presented monthly by HSA with Academic and Industry Collaborators \nThe Hydrogen Society of Australia (HSA) has grown considerably over the past year\, with successful initiatives which have engaged junior researchers\, such as our poster competition on the Australian Hydrogen Day (2022 10 08).  This year\, we wish to further bridge the gap between industry and academia\, launching the Academics webinar series\, on a monthly basis from May onwards. \n \nThe objective of this initiative is both to raise the level of industry awareness and expertise\, and deepen the relationships between industry and academia within the HSA. \nProminent Australian academics will be invited to provide a short overview of their research areas (20-30 mins)\, across the hydrogen ecosystem (ie. hydrogen production\, storage\, and utilization)\, followed by an industry focussed Q&A (30 mins). \n 
URL:https://wainnovationcalendar.com.au/event/hsa-webinar-series-4-hydrogen-geo-storage-challenges-and-opportunities/
LOCATION:Online & In person\, Australia
CATEGORIES:Seminar / Panel Discussion / Conversation
END:VEVENT
BEGIN:VEVENT
DTSTART;TZID=Australia/Perth:20230801T113000
DTEND;TZID=Australia/Perth:20230801T133000
DTSTAMP:20260424T123444
CREATED:20230614T080916Z
LAST-MODIFIED:20260407T061901Z
UID:10001477-1690889400-1690896600@wainnovationcalendar.com.au
SUMMARY:HSA Webinar Series #3: Supply of power and water to remote indigenous communities in the Pilbara
DESCRIPTION:HSA Hybrid Webinar Presentation: Supply of power and water to remote indigenous communities in the Pilbara\nMore details coming soon…\n\nDate \n1st August 2023 \nAbout the presenters \nFurat Dawood & Benny Abraham \nMurdoch & Harry Butler Institute  \n  \nThis event is part of  Hydrogen Links\, the HSA Webinar Series \nHydrogen Links\, an Industry Focused Academic Research webinar series presented monthly by HSA with Academic and Industry Collaborators \nThe Hydrogen Society of Australia (HSA) has grown considerably over the past year\, with successful initiatives which have engaged junior researchers\, such as our poster competition on the Australian Hydrogen Day (2022 10 08).  This year\, we wish to further bridge the gap between industry and academia\, launching the Academics webinar series\, on a monthly basis from May onwards. \n \nThe objective of this initiative is both to raise the level of industry awareness and expertise\, and deepen the relationships between industry and academia within the HSA. \nProminent Australian academics will be invited to provide a short overview of their research areas (20-30 mins)\, across the hydrogen ecosystem (ie. hydrogen production\, storage\, and utilization)\, followed by an industry focussed Q&A (30 mins). \n 
URL:https://wainnovationcalendar.com.au/event/hsa-webinar-series-3-supply-of-power-and-water-to-remote-indigenous-communities-in-the-pilbara/
LOCATION:Online & In-person\, Australia
CATEGORIES:Seminar / Panel Discussion / Conversation
END:VEVENT
BEGIN:VEVENT
DTSTART;TZID=Australia/Perth:20230622T113000
DTEND;TZID=Australia/Perth:20230622T133000
DTSTAMP:20260424T123444
CREATED:20230614T074607Z
LAST-MODIFIED:20260407T061854Z
UID:10001476-1687433400-1687440600@wainnovationcalendar.com.au
SUMMARY:HSA Webinar Series #2: How to unlock zero waste liquid hydrogen storage through the cool properties of cryogenic Hydrogen
DESCRIPTION:How to unlock zero waste liquid hydrogen storage through the cool properties of cryogenic Hydrogen – International Insights Special\n  \nThis is a special addition to the Hydrogen Links series\, offering unique international insights from HSA member correspondent in America\, Liam Turner. Liquid hydrogen\, the freezing fuel at -253 Celsius gave the space age its wings\, Liam now sees its potential to propel humanity into a sustainable energy future. Liam is a PhD Candidate at Monash University\, investigating liquid hydrogen’s opportunity to be both a fuel and a refrigerant.\nTime\n11:30am – 12:30pm: In-person networking \n12:30 – 1:00pm: Presentation (online and in-person) \nCost\nOnline Webinar: FREE \nIn-person: (includes a light lunch and face-to-face networking in Perth.): $15 for members / $25 for non members \n Get your tickets here\n  \nAbout the presenter\nLiam Turner\, Fulbright scholar at Washington State University\, PhD Candidate at Monash University \n \nAs a Fulbright scholar\, Liam has spent the last year experimentally researching liquid hydrogen storage at the Hydrogen Properties for Energy Research (HYPER) Lab at Washington State University in the United States. Liquefying hydrogen at -253oC is just a typical day at HYPER. \nLiam built and operated the largest indoor liquid hydrogen experiment at HYPER while learning a wealth on the design\, operation and safety requirements for liquid Hydrogen systems. \nHis practical liquid Hydrogen experience compliments broader U.S. insights on emerging disruptors technologies which offer the opportunity to transform the way we produce\, store and utilise liquid hydrogen energy across Australia. \nReturning to Australia\, Liam’s mission is help de-risk the opportunity of liquid hydrogen energy storage while helping develop Australian liquid hydrogen expertise training with insights from U.S. experts. \nHSA Webinar Series\nHydrogen Links\, an Industry Focused Academic Research webinar series presented monthly by HSA with Academic and Industry Collaborators \nThe Hydrogen Society of Australia (HSA) has grown considerably over the past year\, with successful initiatives which have engaged junior researchers\, such as our poster competition on the Australian Hydrogen Day (2022 10 08).  This year\, we wish to further bridge the gap between industry and academia\, launching the Academics webinar series\, on a monthly basis from May onwards. \n \nThe objective of this initiative is both to raise the level of industry awareness and expertise\, and deepen the relationships between industry and academia within the HSA. \nProminent Australian academics will be invited to provide a short overview of their research areas (20-30 mins)\, across the hydrogen ecosystem (ie. hydrogen production\, storage\, and utilization)\, followed by an industry focussed Q&A (30 mins). \n 
URL:https://wainnovationcalendar.com.au/event/hsa-hybrid-webinar-how-to-unlock-zero-waste-liquid-hydrogen-storage-through-the-cool-properties-of-cryogenic-hydrogen/
LOCATION:Co.Lab by Liberty\, Level 8/125 Murray St\, Perth\, Western Australia\, 6000\, Australia
CATEGORIES:Seminar / Panel Discussion / Conversation
END:VEVENT
BEGIN:VEVENT
DTSTART;TZID=Australia/Perth:20220413T150000
DTEND;TZID=Australia/Perth:20220413T160000
DTSTAMP:20260424T123444
CREATED:20220403T014315Z
LAST-MODIFIED:20260408T015648Z
UID:10000660-1649862000-1649865600@wainnovationcalendar.com.au
SUMMARY:Hydrogen Society of Australia: H2 World - Module 2
DESCRIPTION:H2 World – Module 2 – Port Kembla Case Study: Australia’s First Hydrogen-Powered Trucks and Refueling Stations in Decarbonizing the Road Freight Industry \nModule 2 – Alan Watkins and Wodek Jakubik – Future of Mobility Port Kembla Case Study: Australia’s First Hydrogen-Powered Trucks and Refueling Stations in Decarbonizing the Road Freight Industry About this Module Coregas’ Executive General Manager and Industrial Specialist Alan Watkins\, along with Coregas’ Innovation Manager Wodek Jakubik discuss heavy freight hydrogen vehicles.
URL:https://wainnovationcalendar.com.au/event/hydrogen-society-of-australia-h2-world-module-2/
LOCATION:TBA\, Australia
CATEGORIES:Workshop / Masterclass
END:VEVENT
END:VCALENDAR