BEGIN:VCALENDAR
VERSION:2.0
PRODID:-//WA Innovation Calendar - ECPv6.15.20//NONSGML v1.0//EN
CALSCALE:GREGORIAN
METHOD:PUBLISH
X-WR-CALNAME:WA Innovation Calendar
X-ORIGINAL-URL:https://wainnovationcalendar.com.au
X-WR-CALDESC:Events for WA Innovation Calendar
REFRESH-INTERVAL;VALUE=DURATION:PT1H
X-Robots-Tag:noindex
X-PUBLISHED-TTL:PT1H
BEGIN:VTIMEZONE
TZID:Australia/Perth
BEGIN:STANDARD
TZOFFSETFROM:+0800
TZOFFSETTO:+0800
TZNAME:AWST
DTSTART:20240101T000000
END:STANDARD
END:VTIMEZONE
BEGIN:VEVENT
DTSTART;TZID=Australia/Perth:20260325T133000
DTEND;TZID=Australia/Perth:20260325T163000
DTSTAMP:20260420T144724
CREATED:20260320T034939Z
LAST-MODIFIED:20260320T034939Z
UID:10004372-1774445400-1774456200@wainnovationcalendar.com.au
SUMMARY:WAWEB3: Innovating in WA - Hubs\, Grants & Go-to-Market Pathways
DESCRIPTION:WA is building a practical\, connected innovation ecosystem designed to turn ideas into investable ventures\, new industries\, and real jobs. This workshop is an insiders map for anyone who wants to build\, partner\, invest\, pilot or expand in WA.  \nAnchored around WA’s state funded innovation hubs – collaborative platforms that connect startups\, SMEs\, corporates\, universities and government – participants will learn where to go to for support\, how to plug into the right networks and how to access pathways that accelerate commercialisation and growth. \nThis is a side event of the Black Swan Summit. Details are here: https://australia.blackswansummit.com/summit-agenda/agnd29-side-event-by-waweb3-innovating-in-western-australia-hubs-grants-go-to-market-pathways
URL:https://wainnovationcalendar.com.au/event/waweb3-innovating-in-wa-hubs-grants-go-to-market-pathways/
LOCATION:The University of Western Australia\, 35 Stirling Highway\, Crawley\, WA\, 6009\, Australia
CATEGORIES:Information Session / Launch,Networking / Group Meetup
END:VEVENT
BEGIN:VEVENT
DTSTART;TZID=Australia/Perth:20260323T080000
DTEND;TZID=Australia/Perth:20260325T170000
DTSTAMP:20260420T144724
CREATED:20260103T063401Z
LAST-MODIFIED:20260130T060522Z
UID:10004076-1774252800-1774458000@wainnovationcalendar.com.au
SUMMARY:Black Swan Summit
DESCRIPTION:Perth-born and globally connected\, Black Swan Summit Australia 2026 brings together visionary builders in Quantum\, AI\, Tokenisation and Green Infrastructure with industry partners\, talent\, policymakers\, thought leaders and capital to build a human-centred\, planet-positive and secure digital economy. \nBuilding the Next Economy\nThe next economy will be built on infrastructure that scales intelligence\, capital and productivity – securely\, sustainably\, and with a human-centred approach. Its foundations will be Next-Generation Green Computing and Data Centres\, Quantum Systems\, AI and Blockchain-based solutions.\nThe program is designed to turn ideas into action – from foresight and R&D to policy\, market adoption and real-world impact. It’s a dynamic space where innovation\, infrastructure and global ambition converge with local opportunity. \n2026 Content Tracks\nExplore Western Australia’s strategic advantage – how geography\, policy\, innovation and geopolitics are shaping its role in global corridors.\nWhy Quantum\, AI and next-generation data centres are now mission-critical infrastructure – from compute and connectivity to security and governance.\nHow capital\, research and policy are converging to turn breakthrough tech into real-world outcomes. \nFeaturing rigorous discussions\, provocative exchanges and inspiring ideas\, the Black Swan Summit Australia will shape understanding of what tech and policy developments mean for your business\, and how you can leverage uncertainties for opportunity through strategic collaborations. \nLearn more here.
URL:https://wainnovationcalendar.com.au/event/black-swan-summit-2/
LOCATION:The University of Western Australia\, 35 Stirling Highway\, Crawley\, WA\, 6009\, Australia
CATEGORIES:Conference / Summit / Symposium
END:VEVENT
BEGIN:VEVENT
DTSTART;TZID=Australia/Perth:20250325T090000
DTEND;TZID=Australia/Perth:20250326T170000
DTSTAMP:20260420T144724
CREATED:20241214T020209Z
LAST-MODIFIED:20260407T024853Z
UID:10002790-1742893200-1743008400@wainnovationcalendar.com.au
SUMMARY:Black Swan Summit
DESCRIPTION:At the Edge of Tomorrow: Machine\, Money\, and Humanity \nThis summit will unite leaders in FinTech\, Web3\, and Green Technology to explore the impact of disruptive innovation. Focusing on Web3 (AI\, DLT\, IoT\, Quantum) and Climate Tech along with Global Green and Sustainable Financial-Technology Research and Development\, the summit aims to equip attendees with insights for driving sustainable growth and adapting to industry shifts. The event offers a unique opportunity to connect with top thinkers and shape strategies for a sustainable global economy. \nWith a focus on research-grounded dialogue and interdisciplinary collaboration\, the Black Swan Summit covers: \n\nUnderstanding and Mitigating Risks: Uncover critical vulnerabilities through research-driven analysis and scenario planning.\nCollaborative Solutions: Shape forward-thinking frameworks that address technological\, financial\, and policy challenges.\nDriving Innovation: Explore opportunities unlocked by technologies such as AI\, quantum computing\, and climate tech.
URL:https://wainnovationcalendar.com.au/event/black-swan-summit/
LOCATION:Winthrop Hall\, 35 Stirling Highway\, Crawley\, Australia
CATEGORIES:Conference / Summit / Symposium
END:VEVENT
END:VCALENDAR