BEGIN:VCALENDAR
VERSION:2.0
PRODID:-//WA Innovation Calendar - ECPv6.15.20//NONSGML v1.0//EN
CALSCALE:GREGORIAN
METHOD:PUBLISH
X-ORIGINAL-URL:https://wainnovationcalendar.com.au
X-WR-CALDESC:Events for WA Innovation Calendar
REFRESH-INTERVAL;VALUE=DURATION:PT1H
X-Robots-Tag:noindex
X-PUBLISHED-TTL:PT1H
BEGIN:VTIMEZONE
TZID:Australia/Perth
BEGIN:STANDARD
TZOFFSETFROM:+0800
TZOFFSETTO:+0800
TZNAME:AWST
DTSTART:20230101T000000
END:STANDARD
END:VTIMEZONE
BEGIN:VEVENT
DTSTART;TZID=Australia/Perth:20260131T080000
DTEND;TZID=Australia/Perth:20260131T090000
DTSTAMP:20260421T043252
CREATED:20251126T053637Z
LAST-MODIFIED:20251126T053637Z
UID:10004036-1769846400-1769850000@wainnovationcalendar.com.au
SUMMARY:DEADLINE: MSWA Multiple Sclerosis & Neurological Care Accelerator
DESCRIPTION:Backing breakthrough technologies to improve life for people with neurological conditions\n\nMSWA and Founders Factory have partnered to fast-track global startups developing innovations that transform care for people living with MS and other neurological conditions. \nThe program supports early-stage ventures harnessing AI\, robotics\, wearables\, and digital health to address multiple sclerosis\, stroke\, Parkinson’s disease\, Huntington’s disease\, motor neurone disease and acquired brain injury. \nFounders gain access to investment\, expert-led workshops\, 1:1 mentoring\, and access to a global network of clinicians\, researchers\, and health tech leaders. Together\, our goal is to turn breakthrough ideas into tangible improvements in care\, mobility\, and independence. \nLearn more and apply here: https://foundersfactory.com/mswa-ms-neurological-care-accelerator/
URL:https://wainnovationcalendar.com.au/event/deadline-mswa-multiple-sclerosis-neurological-care-accelerator/
LOCATION:Apply online\, Australia
CATEGORIES:DEADLINE: Accelerator / Incubator
END:VEVENT
BEGIN:VEVENT
DTSTART;TZID=Australia/Perth:20260130T080000
DTEND;TZID=Australia/Perth:20260130T090000
DTSTAMP:20260421T043252
CREATED:20260128T023443Z
LAST-MODIFIED:20260128T023443Z
UID:10004147-1769760000-1769763600@wainnovationcalendar.com.au
SUMMARY:DEADLINE: WA Government & Founders Factory Nature Tech Program
DESCRIPTION:Operating from Perth\, the Founders Factory and WA Nature Tech Accelerator backs early stage startups (pre-seed to seed) with capital and a four-month program designed to support the development and validation of new environmental technologies. \nLearn more and apply here by 30 Jan 2026: https://foundersfactory.com/western-australia-government-nature-tech-accelerator/
URL:https://wainnovationcalendar.com.au/event/deadline-wa-government-founders-factory-nature-tech-program-2/
LOCATION:Apply online\, Australia
CATEGORIES:DEADLINE: Accelerator / Incubator
END:VEVENT
BEGIN:VEVENT
DTSTART;TZID=Australia/Perth:20241126T150000
DTEND;TZID=Australia/Perth:20241126T180000
DTSTAMP:20260421T043252
CREATED:20241115T042427Z
LAST-MODIFIED:20241115T042427Z
UID:10002736-1732633200-1732644000@wainnovationcalendar.com.au
SUMMARY:WA Investor Office Hours
DESCRIPTION:​Founders Factory is looking to meet Western Australia’s most ambitious climate and deep tech founders. \n​This year\, Founders Factory launched two new programs centred in Perth—a Mining Tech Accelerator with Rio Tinto\, and a Nature Tech Accelerator with the Western Australian Government. Each startup receives seed capital\, a four-month program of operational support covering customer discovery\, marketing/ sales\, building talent\, raising capital amongst other areas\, as well as guidance from government\, access to commercial opportunities and global connections. \n​We’re hosting a WA Investor Office Hours\, where we’re inviting founders the opportunity to come meet our investment team. We’re offering: \n\n​Fundraising & pitching advice\n​Feedback on your investment deck\n​An investor’s perspective on an early business idea\n​Discuss our WA-based accelerator programs and potential suitability\n\n​If you’re WA-based and building in (although not limited to) any of these themes\, we’d love to meet you: \n\n​Nature—biodiversity\, oceans and coastal environments\, regenerative agriculture\, forestry\n​Mining—exploration\, ore & processing\, radical redesign of mining systems\, novel materials\, circularity\, water & waste\n\n​Request a meeting with our investment team through the link above.
URL:https://wainnovationcalendar.com.au/event/wa-investor-office-hours/
LOCATION:online\, Australia
CATEGORIES:Information Session / Launch
END:VEVENT
END:VCALENDAR