BEGIN:VCALENDAR
VERSION:2.0
PRODID:-//WA Innovation Calendar - ECPv6.15.20//NONSGML v1.0//EN
CALSCALE:GREGORIAN
METHOD:PUBLISH
X-WR-CALNAME:WA Innovation Calendar
X-ORIGINAL-URL:https://wainnovationcalendar.com.au
X-WR-CALDESC:Events for WA Innovation Calendar
REFRESH-INTERVAL;VALUE=DURATION:PT1H
X-Robots-Tag:noindex
X-PUBLISHED-TTL:PT1H
BEGIN:VTIMEZONE
TZID:Australia/Perth
BEGIN:STANDARD
TZOFFSETFROM:+0800
TZOFFSETTO:+0800
TZNAME:AWST
DTSTART:20230101T000000
END:STANDARD
END:VTIMEZONE
BEGIN:VEVENT
DTSTART;TZID=Australia/Perth:20240805T080000
DTEND;TZID=Australia/Perth:20240807T170000
DTSTAMP:20260420T124533
CREATED:20240722T033305Z
LAST-MODIFIED:20260407T031308Z
UID:10002376-1722844800-1723050000@wainnovationcalendar.com.au
SUMMARY:Diggers and Dealers Mining Forum
DESCRIPTION:Diggers & Dealers is Australia’s leading mining forum\, combining 66 corporate presentations by listed mining and exploration companies alongside a large exhibition area housing over 159 exhibitors from the sector.  \nDelegates include miners\, explorers\, brokers\, bankers\, investors\, financiers and mining service industries from around the world. A 30 strong media contingent ensures that the proceedings of the Forum are widely reported. Attendance for the recently held 2023 event was 2650. \nThe event provides a unique opportunity for industry professionals to meet and network\, visit regional mine sites\, engage with media\, raise finance\, invest in projects and generally engage with the resources sector at an executive level in a mining community setting\, Kalgoorlie\, the unofficial gold mining capital of Australia.
URL:https://wainnovationcalendar.com.au/event/diggers-and-dealers-mining-forum/
LOCATION:Goldfields Arts Centre\, Cheetham Street\, Kalgoorlie\, Australia
CATEGORIES:Conference / Summit / Symposium
END:VEVENT
END:VCALENDAR