BEGIN:VCALENDAR
VERSION:2.0
PRODID:-//WA Innovation Calendar - ECPv6.15.20//NONSGML v1.0//EN
CALSCALE:GREGORIAN
METHOD:PUBLISH
X-WR-CALNAME:WA Innovation Calendar
X-ORIGINAL-URL:https://wainnovationcalendar.com.au
X-WR-CALDESC:Events for WA Innovation Calendar
REFRESH-INTERVAL;VALUE=DURATION:PT1H
X-Robots-Tag:noindex
X-PUBLISHED-TTL:PT1H
BEGIN:VTIMEZONE
TZID:Australia/Perth
BEGIN:STANDARD
TZOFFSETFROM:+0800
TZOFFSETTO:+0800
TZNAME:AWST
DTSTART:20240101T000000
END:STANDARD
END:VTIMEZONE
BEGIN:VEVENT
DTSTART;TZID=Australia/Perth:20260225T173000
DTEND;TZID=Australia/Perth:20260225T193000
DTSTAMP:20260420T115113
CREATED:20260205T015954Z
LAST-MODIFIED:20260205T015954Z
UID:10004171-1772040600-1772047800@wainnovationcalendar.com.au
SUMMARY:End of Life and Decommissioning
DESCRIPTION:Speakers from Centre of Decommissioning Australia\, Synergy and SIA Partners join together to discuss best practices for responsibly retiring renewable energy assets and traditional infrastructure. This session highlights the growing need for structured end of life strategies as fleets mature and regulatory expectations evolve. \nLearn more and register here: https://www.eventbrite.com.au/e/end-of-life-and-decommissioning-tickets-1982249183669
URL:https://wainnovationcalendar.com.au/event/end-of-life-and-decommissioning/
LOCATION:Brookfield Place\, 125 St Georges Terrace\, Perth\, WA\, 6000\, Australia
CATEGORIES:Seminar / Panel Discussion / Conversation
END:VEVENT
BEGIN:VEVENT
DTSTART;TZID=Australia/Perth:20250610T080000
DTEND;TZID=Australia/Perth:20250611T170000
DTSTAMP:20260420T115113
CREATED:20250321T055111Z
LAST-MODIFIED:20250321T055111Z
UID:10003076-1749542400-1749661200@wainnovationcalendar.com.au
SUMMARY:Decommissioning & Abandonment Summit Australia
DESCRIPTION:Join the biggest-ever D&A conference spanning 3 days. This year’s conference will include 8 sessions covering Offshore Planning\, Regulations & Environmental Impact\, Onshore Decommissioning & Onshore Dismantling of Offshore Structures\, and Offshore Well P&A. \nHighlights include:\n\n400 Decision Makers\n50 expert speakers\n40 tech demos\n8 networking even
URL:https://wainnovationcalendar.com.au/event/decommissioning-abandonment-summit-australia/
LOCATION:Crown Perth\, Great Eastern Highway\, Perth\, WA\, Australia
ORGANIZER;CN="Centre of Decommissioning Australia (CODA)":MAILTO:contact@decommissioning.org.au
END:VEVENT
END:VCALENDAR