BEGIN:VCALENDAR
VERSION:2.0
PRODID:-//WA Innovation Calendar - ECPv6.15.20//NONSGML v1.0//EN
CALSCALE:GREGORIAN
METHOD:PUBLISH
X-ORIGINAL-URL:https://wainnovationcalendar.com.au
X-WR-CALDESC:Events for WA Innovation Calendar
REFRESH-INTERVAL;VALUE=DURATION:PT1H
X-Robots-Tag:noindex
X-PUBLISHED-TTL:PT1H
BEGIN:VTIMEZONE
TZID:Australia/Perth
BEGIN:STANDARD
TZOFFSETFROM:+0800
TZOFFSETTO:+0800
TZNAME:AWST
DTSTART:20230101T000000
END:STANDARD
END:VTIMEZONE
BEGIN:VEVENT
DTSTART;TZID=Australia/Perth:20241031T083000
DTEND;TZID=Australia/Perth:20241101T170000
DTSTAMP:20260422T111322
CREATED:20240721T080746Z
LAST-MODIFIED:20240923T064544Z
UID:10002369-1730363400-1730480400@wainnovationcalendar.com.au
SUMMARY:Automated Mineralogy User Group Meeting 2024
DESCRIPTION:Welcome to the Automated Mineralogy User Group Meeting 2024! \n\n\nDate: Thu Oct 31 – Fri Nov 1 2024 \nTime: 08:30 AM – 17:00 PM \nLocation: The Lantern\, TL Robertson Library\, Curtin University Bentley Campus \nCome join us for a day filled with exciting discussions\, presentations\, and networking opportunities with fellow enthusiasts in the field of automated mineralogy. Whether you’re a seasoned pro or just starting out\, this event is perfect for anyone looking to learn\, share\, and connect with like-minded individuals. \nSpots for in-person attendance are limited\, so register now to avoid missing out on this chance to expand your knowledge and grow your network in the world of automated mineralogy! \nCurrently a student and wanting to attend? Free tickets are available! Get in touch with the AMUG committee at automatedmineralogy@gmail.com with a couple of lines on the relevance of automated mineralogy to you\, and what you’d like to present!
URL:https://wainnovationcalendar.com.au/event/automated-mineralogy-user-group-meeting-2024/
LOCATION:TL Robertson Library\, Kent Street\, Bentley\, WA\, 6102\, Australia
CATEGORIES:Networking / Group Meetup
END:VEVENT
END:VCALENDAR