BEGIN:VCALENDAR
VERSION:2.0
PRODID:-//WA Innovation Calendar - ECPv6.15.20//NONSGML v1.0//EN
CALSCALE:GREGORIAN
METHOD:PUBLISH
X-WR-CALNAME:WA Innovation Calendar
X-ORIGINAL-URL:https://wainnovationcalendar.com.au
X-WR-CALDESC:Events for WA Innovation Calendar
REFRESH-INTERVAL;VALUE=DURATION:PT1H
X-Robots-Tag:noindex
X-PUBLISHED-TTL:PT1H
BEGIN:VTIMEZONE
TZID:Africa/Abidjan
BEGIN:STANDARD
TZOFFSETFROM:+0000
TZOFFSETTO:+0000
TZNAME:GMT
DTSTART:20230101T000000
END:STANDARD
END:VTIMEZONE
BEGIN:VEVENT
DTSTART;TZID=Africa/Abidjan:20241016T080000
DTEND;TZID=Africa/Abidjan:20241016T170000
DTSTAMP:20260424T153854
CREATED:20240805T094540Z
LAST-MODIFIED:20240923T063302Z
UID:10002416-1729065600-1729098000@wainnovationcalendar.com.au
SUMMARY:Australian Zero Homelessness Summit 2024
DESCRIPTION:The Summit provides an opportunity for people and organisations across a broad range of sectors\, industries and levels of government to come together and work towards an end to homelessness in Australia. \nThe Summit will facilitate the opportunity to hear directly from communities around the world that have ended homelessness or are making significant progress towards this goal. It will also showcase the efforts of Australian communities working to end homelessness through Advance to Zero (AtoZ)\, as well as other initiatives under the WAAEH’s 10-year Strategy and the AAEH’s Allied Networks.
URL:https://wainnovationcalendar.com.au/event/australian-zero-homelessness-summit-2024/
LOCATION:Esplanade Hotel\, 46-54 Marine Terrace\, Fremantle WA\, 6160\, Australia
CATEGORIES:Conference / Summit / Symposium
END:VEVENT
END:VCALENDAR