BEGIN:VCALENDAR
VERSION:2.0
PRODID:-//WA Innovation Calendar - ECPv6.15.20//NONSGML v1.0//EN
CALSCALE:GREGORIAN
METHOD:PUBLISH
X-WR-CALNAME:WA Innovation Calendar
X-ORIGINAL-URL:https://wainnovationcalendar.com.au
X-WR-CALDESC:Events for WA Innovation Calendar
REFRESH-INTERVAL;VALUE=DURATION:PT1H
X-Robots-Tag:noindex
X-PUBLISHED-TTL:PT1H
BEGIN:VTIMEZONE
TZID:Australia/Perth
BEGIN:STANDARD
TZOFFSETFROM:+0800
TZOFFSETTO:+0800
TZNAME:AWST
DTSTART:20250101T000000
END:STANDARD
END:VTIMEZONE
BEGIN:VEVENT
DTSTART;TZID=Australia/Perth:20260616T080000
DTEND;TZID=Australia/Perth:20260617T170000
DTSTAMP:20260425T183129
CREATED:20260111T083905Z
LAST-MODIFIED:20260111T083905Z
UID:10004093-1781596800-1781715600@wainnovationcalendar.com.au
SUMMARY:MiningNews Select Perth 2026
DESCRIPTION:An event where resource investors can connect directly with mining companies and explore their projects for potential investment. \nDiscover exciting opportunities\, engage in one-on-one discussions and gain valuable insights into the mining investment landscape. \n 
URL:https://wainnovationcalendar.com.au/event/miningnews-select-perth-2026/
LOCATION:Crown Perth\, Great Eastern Highway\, Perth\, WA\, Australia
CATEGORIES:Conference / Summit / Symposium
END:VEVENT
END:VCALENDAR