BEGIN:VCALENDAR
VERSION:2.0
PRODID:-//WA Innovation Calendar - ECPv6.15.20//NONSGML v1.0//EN
CALSCALE:GREGORIAN
METHOD:PUBLISH
X-WR-CALNAME:WA Innovation Calendar
X-ORIGINAL-URL:https://wainnovationcalendar.com.au
X-WR-CALDESC:Events for WA Innovation Calendar
REFRESH-INTERVAL;VALUE=DURATION:PT1H
X-Robots-Tag:noindex
X-PUBLISHED-TTL:PT1H
BEGIN:VTIMEZONE
TZID:Australia/Perth
BEGIN:STANDARD
TZOFFSETFROM:+0800
TZOFFSETTO:+0800
TZNAME:AWST
DTSTART:20230101T000000
END:STANDARD
END:VTIMEZONE
BEGIN:VEVENT
DTSTART;TZID=Australia/Perth:20240402T080000
DTEND;TZID=Australia/Perth:20240402T090000
DTSTAMP:20260421T021441
CREATED:20240207T062357Z
LAST-MODIFIED:20260407T065301Z
UID:10001886-1712044800-1712048400@wainnovationcalendar.com.au
SUMMARY:DEADLINE: WAITTA INCITE Awards – Project Entries
DESCRIPTION:Get excited – entries for the 2024 INCITE Awards are now open! \nThe INCITE Awards are your platform to amplify the innovative work you’re doing to benefit WA and the wider community. With support from our patron\, neuroscientist and educator Lyn Beazley\, previous INCITE Awards winners and our media partners\, winning at INCITE could be the kick-start you’re looking for. \nEntries are open to WA’s IT and telecommunications industry\, with a range of category awards on offer: \n#Research & #Innovation\n#Startup of the Year\n#Achiever of the Year\n#SocialImpact\nInnovating #Government\n#TransformativeSolutions\n#DigitalInclusion Award\nDr Mal Bryce WA Tech Company of the Year\nPearcey Foundation Western Australian Entrepreneur of the Year\nPeter Fillery Undergraduate Tertiary Student Project of the Year \n\nLink to enter:\nWAITTA INCITE Awards (awardsplatform.com)
URL:https://wainnovationcalendar.com.au/event/deadline-waitta-incite-awards-project-entries-2/
LOCATION:Online via Zoom\, Western Australia\, Australia
CATEGORIES:DEADLINE: Award / Scholarship
END:VEVENT
BEGIN:VEVENT
DTSTART;TZID=Australia/Perth:20240403T160000
DTEND;TZID=Australia/Perth:20240403T180000
DTSTAMP:20260421T021441
CREATED:20240318T041444Z
LAST-MODIFIED:20260407T055740Z
UID:10002029-1712160000-1712167200@wainnovationcalendar.com.au
SUMMARY:‘AI & Assistive Technologies’ with Dr Stephanie Stoll
DESCRIPTION:Join us for a unique opportunity to delve into the future and transformative role of AI in supporting those with disabilities. \n\n\n\n\n\n\n\n\n About the Event: \nDelve into the transformative world of AI and Assistive Technologies with Dr. Stephanie Stoll\, an esteemed international researcher at the forefront of innovation\, as she takes centre stage right here in Perth! \nWith extensive expertise in deep learning and a passion for developing assistive technologies\, Dr. Stoll brings a wealth of knowledge and experience to this special event. \nDr. Stoll will share insights from her pioneering work\, exploring the intersection of computer vision\, computer graphics\, and natural language processing. Learn how AI-powered solutions like Convolutional Neural Networks (CNNs) and Neural Machine Translation (NMT) are revolutionizing the lives of people with disabilities\, from low-cost\, AI-enabled hand prosthetics to innovative cloud-based solutions. \n🎟️ Don’t Miss Your Chance: \nDon’t miss this unique opportunity to network with like-minded professionals and gain invaluable knowledge about the future of assistive technologies. \nGet your tickets now to be part of this inspiring event! Together\, let’s harness the power of AI to create a more inclusive world for everyone. \nDrinks & canapes included. \nThis event is proudly brought to you by the WA Data Science Innovation Hub.
URL:https://wainnovationcalendar.com.au/event/ai-assistive-technologies-with-dr-stephanie-stoll/
LOCATION:Curtin University CBD Precinct\, 13 St Georges Terrace\, Perth\, WA\, 6000\, Australia
CATEGORIES:Networking / Group Meetup,Workshop / Masterclass
END:VEVENT
BEGIN:VEVENT
DTSTART;TZID=Australia/Perth:20240412T080000
DTEND;TZID=Australia/Perth:20240412T090000
DTSTAMP:20260421T021441
CREATED:20240314T040911Z
LAST-MODIFIED:20260409T020942Z
UID:10002019-1712908800-1712912400@wainnovationcalendar.com.au
SUMMARY:DEADLINE: Applications for Cicada x Tech23 TOP 23
DESCRIPTION:Are you at the forefront of addressing the most pressing global issues using deep tech?\nCicada x Tech23\, Australia’s biggest and boldest deep tech festival is back!\nWe are looking for 23 of the nations most forward-thinking startups to present their pioneering work on deep tech’s biggest stage. \nAre you an Australian deep tech founder\, research team\, startup or growing venture working on breakthrough science and technologies with a mission to solve some of the world’s biggest problems?  Is that you? Or someone you know? \n\nApply to be one of the 23 \n\nCicada x Tech23 will take place on Wednesday 7th August in Sydney\, connecting 23 innovators with an audience of industry leaders\, investors and big thinkers. Follow in the footsteps of alumni like Hemedeina\, Rainstick\, Rux Energy\, Samsara Eco\, Uluu and others who have taken their place on this prestigious stage. \nIf you are chosen to be one of the 23 you can expect to…\n↘ Showcase your venture to a curated audience who can support you \n↘ Build your profile on a national stage \n↘ Share your bold vision for the future with other big thinkers \n↘ Build impactful connections with investors\, industry leaders and peers \nThis is your chance to redefine what’s possible and create a brighter future for all. Don’t miss out on this opportunity. Applications are open until 12th April.
URL:https://wainnovationcalendar.com.au/event/deadline-applications-for-cicada-x-tech23-top-23/
LOCATION:Apply online\, Australia
CATEGORIES:DEADLINE: Award / Scholarship
END:VEVENT
BEGIN:VEVENT
DTSTART;TZID=Australia/Perth:20240416T093000
DTEND;TZID=Australia/Perth:20240416T120000
DTSTAMP:20260421T021441
CREATED:20240318T041224Z
LAST-MODIFIED:20260407T055733Z
UID:10002028-1713259800-1713268800@wainnovationcalendar.com.au
SUMMARY:WA Government Tech Investment Update
DESCRIPTION:Empowering Western Australia’s Digital Future: Initiatives\, Strategies\, and Industry Participation \n\n\n\n\n\n\nThe Department of the Premier and Cabinet\, Department of Finance\, Department of Jobs\, Tourism\, Science and Innovation and Australian Information Industry Association have organised this event to inform industry on the $900 million Digital Capability Fund (Fund)\, ICT Procurement framework\, WA Industry Participation Strategy (WAIPS) and the Digital Industries Acceleration Strategy. In addition\, Spatial WA\, a whole of Government initiative set to deliver an Advanced Digital Twin for Western Australia will provide an insight on the $140 million allocated to improve Western Australia’s digital capabilities to accelerate land development approvals and streamline the delivery of key infrastructure projects.
URL:https://wainnovationcalendar.com.au/event/wa-government-tech-investment-update-2/
LOCATION:Parmelia Hilton\, 14 Mill Street\, Perth\, WA\, 6000\, Australia
CATEGORIES:Information Session / Launch,Networking / Group Meetup
ORGANIZER;CN="AIIA":MAILTO:membership@aiia.com.au
END:VEVENT
BEGIN:VEVENT
DTSTART;TZID=Australia/Perth:20240416T180000
DTEND;TZID=Australia/Perth:20240416T210000
DTSTAMP:20260421T021441
CREATED:20240405T075850Z
LAST-MODIFIED:20260407T055810Z
UID:10002076-1713290400-1713301200@wainnovationcalendar.com.au
SUMMARY:She Codes Plus SHOWCASE
DESCRIPTION:She Codes Plus is a unique closing the gender gap in technology. \nStriking a balance between teaching\, inspiring and supporting women in their tech careers\, She Codes Plus caters to women from all stages in their tech journey. \nJoin us on April 16th\, for an exclusive opportunity to see the Perth graduating class for 2024. View the portfolios of the participants and network with other professionals in tech\, and last but by no means least\, hire some amazing women in tech! \nFor the first time we are moving to Perth Town Hall\, doubling our capacity\, so we can welcome women\, business owners\, technical talent and anyone interested in the tech industry along to have meaningful conversations\, networking opportunities\, food and drinks\, and more. \nRECRUITMENT OPPORTUNITIES \nThis showcase is the perfect opportunity to see the talent of women across Perth\, and connect with those looking for new roles in the industry. \nThe cohort have developed a personal portfolio in HTML and CSS\, learned the fundamentals of programming with Python\, created a news website in Django and a crowdfunding website in React. They’ve used git to track their code\, and agile methodologies to create projects in small teams. \nStay tuned for exciting announcements on a panel discussion for the evening. \nDRESS CODE \nBusiness cocktail – its a celebration!
URL:https://wainnovationcalendar.com.au/event/she-codes-plus-showcase/
LOCATION:601 Hay Street\, 601 Hay Street\, Perth\, WA\, 6000\, Australia
CATEGORIES:Showcase / Pitch / Demo / Tour
END:VEVENT
BEGIN:VEVENT
DTSTART;TZID=Australia/Perth:20240418T173000
DTEND;TZID=Australia/Perth:20240418T193000
DTSTAMP:20260421T021441
CREATED:20240414T072535Z
LAST-MODIFIED:20260407T055848Z
UID:10002122-1713461400-1713468600@wainnovationcalendar.com.au
SUMMARY:GDG Perth: Build with AI
DESCRIPTION:These face-to-face series of Build With AI technical workshops and talks are organised by Google Developer Group and Women Techmaker Perth. This hands-on event aims to grow awareness of various AI tools and use them in building impactful products\, services and systems. \n⏱️ Time:\nThursday\, 18 April 2024. (5:30 – 7:30 pm) (In-Person) \nPlace:\nThe Platform\, 256 Adelaide Terrace · Perth\, WA \nSpeakers:\nJosh (Adi Tedjasaputra) \n💻 Bring your laptop to participate in the technical workshop and talk. \nAgenda:\n5:30 PM: Door and Registration Opens\n5:45 PM: Technical Workshop \nMandatory RSVP here:\nhttps://gdg.community.dev/events/details/google-gdg-perth-presents-build-with-ai-technical-workshop-and-talk-introduction-to-vertex-ai/
URL:https://wainnovationcalendar.com.au/event/gdg-perth-build-with-ai/
LOCATION:The Platform\, 256 Adelaide Terrace #3 Perth\, WA 6000 Australia\, Perth\, Australia\, 6000\, Australia
CATEGORIES:Networking / Group Meetup
END:VEVENT
BEGIN:VEVENT
DTSTART;TZID=Australia/Perth:20240419T134500
DTEND;TZID=Australia/Perth:20240419T170000
DTSTAMP:20260421T021441
CREATED:20240414T055215Z
LAST-MODIFIED:20260329T060542Z
UID:10002111-1713534300-1713546000@wainnovationcalendar.com.au
SUMMARY:Discover Engage Connect @ UWA Data Institute Research Bytes
DESCRIPTION:Join the UWA Data Institute as we showcase the latest in Data Science\, Machine Learning and AI Research at UWA. \n\n\n\n\n\n\n\nJoin us for an insightful showcase where you’ll explore the impressive work of our UWA Data Institute Research Clusters. It’s a unique opportunity to uncover synergies\, ignite innovative ideas and forge connections. Don’t miss this chance to connect with fellow innovators and help shape the future of cross disciplinary and industry partnerships at UWA. \nVENUE : UWA EZONE North\, Industry Hub\, Level 1
URL:https://wainnovationcalendar.com.au/event/discover-engage-connect-uwa-data-institute-research-bytes/
LOCATION:The University of Western Australia\, 35 Stirling Highway\, Crawley\, WA\, 6009\, Australia
CATEGORIES:Conference / Summit / Symposium,Networking / Group Meetup
END:VEVENT
BEGIN:VEVENT
DTSTART;TZID=Australia/Perth:20240423T173000
DTEND;TZID=Australia/Perth:20240423T193000
DTSTAMP:20260421T021441
CREATED:20240414T072849Z
LAST-MODIFIED:20260407T055848Z
UID:10002124-1713893400-1713900600@wainnovationcalendar.com.au
SUMMARY:Open Source in the Cloud: The Future of IT
DESCRIPTION:For over twenty years ‘open source’ has evolved to underpin many projects. Whether it be development tools\, application libraries or runtimes\, open source is pervasive. As workloads move to the cloud\, open source continues to evolve and grows in relevance. \nIn this session\, Ricardo Sueiras will explore how we think about open source\, how it continues to provide builders with greater choice\, and how the combination of cloud and open source technology is the future of IT. Ricardo is a UK-based Principal Advocate in Open Source with AWS and joins us as part of his 2024 Australian speaking tour.
URL:https://wainnovationcalendar.com.au/event/open-source-in-the-cloud-the-future-of-it/
LOCATION:AWS Perth Offices\, 9/240 St Georges Terrace\, Perth\, WA\, 6000\, Australia
CATEGORIES:Networking / Group Meetup
END:VEVENT
BEGIN:VEVENT
DTSTART;TZID=Australia/Perth:20240430T060000
DTEND;TZID=Australia/Perth:20240430T070000
DTSTAMP:20260421T021441
CREATED:20240426T053359Z
LAST-MODIFIED:20260409T021023Z
UID:10002160-1714456800-1714460400@wainnovationcalendar.com.au
SUMMARY:DEADLINE: QBE AcceliCITY Resillience Challenge
DESCRIPTION:The Leading Cities’ QBE AcceliCITY Resilience Challenge is a unique opportunity for startups working on smart city solutions to showcase their innovations and gain access to resources\, mentorship\, and support to help them grow and scale their businesses. You will have the chance to compete for city pilot opportunities worth $150\,000 and gain valuable feedback from industry experts and city leaders. \nRegistrations for the competition is now open and will close on April 30th\, 2024. Apply using the link below today. \nFor more info\, visit \nhttps://leadingcities.org/accelicity/8b4d6b3c-bd07-48ad-a35a-ffe5fe33a98e
URL:https://wainnovationcalendar.com.au/event/deadline-qbe-accelicity-resillience-challenge/
LOCATION:Apply online\, Australia
CATEGORIES:DEADLINE: Funding
END:VEVENT
END:VCALENDAR