BEGIN:VCALENDAR
VERSION:2.0
PRODID:-//WA Innovation Calendar - ECPv6.15.20//NONSGML v1.0//EN
CALSCALE:GREGORIAN
METHOD:PUBLISH
X-ORIGINAL-URL:https://wainnovationcalendar.com.au
X-WR-CALDESC:Events for WA Innovation Calendar
REFRESH-INTERVAL;VALUE=DURATION:PT1H
X-Robots-Tag:noindex
X-PUBLISHED-TTL:PT1H
BEGIN:VTIMEZONE
TZID:Australia/Perth
BEGIN:STANDARD
TZOFFSETFROM:+0800
TZOFFSETTO:+0800
TZNAME:AWST
DTSTART:20240101T000000
END:STANDARD
END:VTIMEZONE
BEGIN:VEVENT
DTSTART;TZID=Australia/Perth:20250416T090000
DTEND;TZID=Australia/Perth:20250416T130000
DTSTAMP:20260421T090308
CREATED:20250405T073406Z
LAST-MODIFIED:20250405T073456Z
UID:10003132-1744794000-1744808400@wainnovationcalendar.com.au
SUMMARY:WAAEH Pulse Session
DESCRIPTION:“The Western Australian Alliance to End Homelessness (WAAEH) is an independent coalition of individuals and organisations united by a shared commitment to end homelessness in Western Australia. \nPulse Sessions are a key part of how we drive progress – bringing together community members\, sector stakeholders and experts to learn\, collaborate and develop solutions that address the complex challenges in our homelessness system. \nOur Strategy to end homelessness outlines five critical focus areas: \n\nHousing\nPrevention\nA collaborative approach\nData and research\nCommunity capacity building”
URL:https://wainnovationcalendar.com.au/event/waaeh-pulse-session/
LOCATION:City West Lotteries House\, 2 Delhi Street\, West Perth\, WA\, 6005\, Australia
CATEGORIES:Networking / Group Meetup
END:VEVENT
END:VCALENDAR