BEGIN:VCALENDAR
VERSION:2.0
PRODID:-//WA Innovation Calendar - ECPv6.15.20//NONSGML v1.0//EN
CALSCALE:GREGORIAN
METHOD:PUBLISH
X-WR-CALNAME:WA Innovation Calendar
X-ORIGINAL-URL:https://wainnovationcalendar.com.au
X-WR-CALDESC:Events for WA Innovation Calendar
REFRESH-INTERVAL;VALUE=DURATION:PT1H
X-Robots-Tag:noindex
X-PUBLISHED-TTL:PT1H
BEGIN:VTIMEZONE
TZID:Australia/Perth
BEGIN:STANDARD
TZOFFSETFROM:+0800
TZOFFSETTO:+0800
TZNAME:AWST
DTSTART:20250101T000000
END:STANDARD
END:VTIMEZONE
BEGIN:VEVENT
DTSTART;TZID=Australia/Perth:20260629T080000
DTEND;TZID=Australia/Perth:20260629T090000
DTSTAMP:20260426T065423
CREATED:20260421T070635Z
LAST-MODIFIED:20260421T070635Z
UID:10007538-1782720000-1782723600@wainnovationcalendar.com.au
SUMMARY:DEADLINE: AEA Innovate Grant Round 3
DESCRIPTION:Innovate grants support mid-stage research commercialisation through competitive grants of up to $5 million for a maximum period of 24 months. \nThese grants are available for researchers at Australian universities to collaborate with industry to advance projects that already have laboratory proof-of-concept. \nGrant recipients are expected to be able to increase the technology and commercial readiness of their innovation to reach proof-of-scale. This includes developing and testing prototypes or pilots for new products\, processes or software in an industry-relevant environment.
URL:https://wainnovationcalendar.com.au/event/deadline-aea-innovate-grants-2/
LOCATION:Apply online\, Australia
CATEGORIES:DEADLINE: Funding
END:VEVENT
END:VCALENDAR