BEGIN:VCALENDAR
VERSION:2.0
PRODID:-//WA Innovation Calendar - ECPv6.15.20//NONSGML v1.0//EN
CALSCALE:GREGORIAN
METHOD:PUBLISH
X-WR-CALNAME:WA Innovation Calendar
X-ORIGINAL-URL:https://wainnovationcalendar.com.au
X-WR-CALDESC:Events for WA Innovation Calendar
REFRESH-INTERVAL;VALUE=DURATION:PT1H
X-Robots-Tag:noindex
X-PUBLISHED-TTL:PT1H
BEGIN:VTIMEZONE
TZID:Australia/Perth
BEGIN:STANDARD
TZOFFSETFROM:+0800
TZOFFSETTO:+0800
TZNAME:AWST
DTSTART:20240101T000000
END:STANDARD
END:VTIMEZONE
BEGIN:VEVENT
DTSTART;TZID=Australia/Perth:20250527T173000
DTEND;TZID=Australia/Perth:20250527T200000
DTSTAMP:20260424T221505
CREATED:20250405T071604Z
LAST-MODIFIED:20250405T071604Z
UID:10003126-1748367000-1748376000@wainnovationcalendar.com.au
SUMMARY:Henderson Alliance | Network & Learn
DESCRIPTION:This is a must-attend gathering for industry professionals looking to connect\, collaborate\, and gain insights in a relaxed and engaging environment. Whether you’re a regular attendee or joining us for the first time\, this event is the perfect chance to expand your network and explore new opportunities in the Defence Industry.
URL:https://wainnovationcalendar.com.au/event/henderson-alliance-network-learn/2025-05-27/
LOCATION:Old Courthouse\, 45 Henderson Street\, Fremantle\, WA\, 6160\, Australia
CATEGORIES:Networking / Group Meetup
ATTACH;FMTTYPE=image/png:https://wainnovationcalendar.com.au/wp-content/uploads/2025/04/images.png
END:VEVENT
END:VCALENDAR