BEGIN:VCALENDAR
VERSION:2.0
PRODID:-//WA Innovation Calendar - ECPv6.15.20//NONSGML v1.0//EN
CALSCALE:GREGORIAN
METHOD:PUBLISH
X-WR-CALNAME:WA Innovation Calendar
X-ORIGINAL-URL:https://wainnovationcalendar.com.au
X-WR-CALDESC:Events for WA Innovation Calendar
REFRESH-INTERVAL;VALUE=DURATION:PT1H
X-Robots-Tag:noindex
X-PUBLISHED-TTL:PT1H
BEGIN:VTIMEZONE
TZID:Australia/Perth
BEGIN:STANDARD
TZOFFSETFROM:+0800
TZOFFSETTO:+0800
TZNAME:AWST
DTSTART:20240101T000000
END:STANDARD
END:VTIMEZONE
BEGIN:VEVENT
DTSTART;TZID=Australia/Perth:20250506T080000
DTEND;TZID=Australia/Perth:20250507T170000
DTSTAMP:20260420T172010
CREATED:20241214T050659Z
LAST-MODIFIED:20241214T050659Z
UID:10002791-1746518400-1746637200@wainnovationcalendar.com.au
SUMMARY:The Decarbonised Mine
DESCRIPTION:Join over 600 mine\, mobility\, energy\, carbon\, and finance experts at the 9th annual gathering of those leading the energy shift in Australian mining. \nThe event features two days of presentations\, sessions\, and networking\, including 100+ expert speakers\, 30+ exhibitors\, and hours of content. It will cover the full range of technologies\, strategies\, and solutions being deployed and tested for mine and fleet decarbonisation. \nThe content is created through primary research of key individuals from mining companies in Australia. It will enable miners to benchmark current approaches and fulfil their energy\, climate\, carbon\, and ESG commitments.
URL:https://wainnovationcalendar.com.au/event/energy-and-mines-australia-summit-2/
LOCATION:Perth Convention and Exhibition Centre\, 21 Mounts Bay Road\, Perth\, 6000\, Australia
CATEGORIES:Conference / Summit / Symposium
END:VEVENT
BEGIN:VEVENT
DTSTART;TZID=Australia/Perth:20250507T100000
DTEND;TZID=Australia/Perth:20250507T120000
DTSTAMP:20260420T172010
CREATED:20250314T081813Z
LAST-MODIFIED:20250314T081813Z
UID:10003030-1746612000-1746619200@wainnovationcalendar.com.au
SUMMARY:WAMR x CORE Community Coffee Collab
DESCRIPTION:The first of our May events\, WAMR is partnering with CORE Innovation Hub for a coffee and a chat and meet the local Perth energy\, minerals research and mining ecosystem. \nCommunity Coffee is a great way to meet local innovators\, technologists and entrepreneurs working to solve some of the big challenges. This is your opportunity to connect with CORE members and guests and find out more about the opportunities and the challenges within the sector. \nLocated in the bottom foyer 191 St. Georges Terrace near the cafe. Catering\, soft drinks and water provided and the cafe is open for individually paid coffee orders.
URL:https://wainnovationcalendar.com.au/event/wamr-x-core-community-coffee-collab/
LOCATION:191 St Georges Tce\, 191 St Georges Tce\, Perth\, WA\, 6000\, Australia
CATEGORIES:Networking / Group Meetup
END:VEVENT
BEGIN:VEVENT
DTSTART;TZID=Australia/Perth:20250508T113000
DTEND;TZID=Australia/Perth:20250508T123000
DTSTAMP:20260420T172010
CREATED:20250329T071217Z
LAST-MODIFIED:20250418T084309Z
UID:10003098-1746703800-1746707400@wainnovationcalendar.com.au
SUMMARY:HILT CRC public webinar: Analysis of market and export opportunities for green iron and steel
DESCRIPTION:Join for an insightful exploration of Australia’s unique position in the evolving green iron and steel landscape. This webinar will present findings from two complementary HILT CRC projects that examine the economic\, market and geographical factors shaping Australia’s potential transition from traditional iron ore exporter to green iron and steel innovator.
URL:https://wainnovationcalendar.com.au/event/market-realities-and-export-opportunities-in-green-iron-and-steel/
LOCATION:online\, Australia
CATEGORIES:Seminar / Panel Discussion / Conversation
END:VEVENT
BEGIN:VEVENT
DTSTART;TZID=Australia/Perth:20250514T100000
DTEND;TZID=Australia/Perth:20250514T110000
DTSTAMP:20260420T172010
CREATED:20250412T042029Z
LAST-MODIFIED:20260415T020750Z
UID:10003120-1747216800-1747220400@wainnovationcalendar.com.au
SUMMARY:ARM Hub: Introducting Propel-AIR
DESCRIPTION:Join us for Brew Hub and Connect at the Australian Automation and Robotics Precinct. \nThis morning tea style event is a great opportunity to meet and connect with AARP users the broader robotics innovation ecosystem. \nThis event introduces Propel-AIR – Australia;s first robotics and AI sprint
URL:https://wainnovationcalendar.com.au/event/brew-hub-and-connect-at-the-aarp-february-2-2/
LOCATION:Australian Automation and Robotics Precinct\, Pederick Rd\, Neerabup\, WA\, Australia
CATEGORIES:Networking / Group Meetup
ATTACH;FMTTYPE=image/png:https://wainnovationcalendar.com.au/wp-content/uploads/2025/02/Screenshot-2025-04-05-144316.png
END:VEVENT
BEGIN:VEVENT
DTSTART;TZID=Australia/Perth:20250522T080000
DTEND;TZID=Australia/Perth:20250522T170000
DTSTAMP:20260420T172010
CREATED:20241214T052739Z
LAST-MODIFIED:20250506T073154Z
UID:10002797-1747900800-1747933200@wainnovationcalendar.com.au
SUMMARY:The Digital Mine Summit WA 2025
DESCRIPTION:The mining sector has seen monumental changes through the broad adoption of digital transformation over the past several years. The digital mine summit will bring together senior mining technology and operations leaders to discuss the effective alignment of digitalisation. \nTechnological innovation has found it’s way into almost every corner of mining operations\, from haulage and asset management to operational analytics and sustainability. However with so much concurrent digital transformation comes challenges around alignment\, prioritisation\, optimisation and change management. This summit will explore these themes in detail while fostering opportunities for networking and collaboration \nLearn more HERE
URL:https://wainnovationcalendar.com.au/event/the-digital-mine-summit-wa-2025/
LOCATION:Crown Perth\, Great Eastern Highway\, Perth\, WA\, Australia
CATEGORIES:Conference / Summit / Symposium
END:VEVENT
BEGIN:VEVENT
DTSTART;TZID=Australia/Perth:20250522T100000
DTEND;TZID=Australia/Perth:20250522T160000
DTSTAMP:20260420T172010
CREATED:20250412T072604Z
LAST-MODIFIED:20250412T231036Z
UID:10003181-1747908000-1747929600@wainnovationcalendar.com.au
SUMMARY:WAGCG Meeting Perth
DESCRIPTION:Meeting will be held simultaneously in Perth (Novotel Langley) and Kalgoorlie (Kalgoorlie-Boulder Chamber of Commerce & Industry)\, with a video link between the two venues. \nThe meeting topic will be Geotechnical Instrumentation \nLearn more HERE
URL:https://wainnovationcalendar.com.au/event/wagcg-meeting-perth/
LOCATION:Novotel Perth\, 221 Adelaide Terrace\, Perth\, Western Australia\, WA\, Australia
CATEGORIES:Networking / Group Meetup
END:VEVENT
BEGIN:VEVENT
DTSTART;TZID=Australia/Perth:20250527T120000
DTEND;TZID=Australia/Perth:20250527T130000
DTSTAMP:20260420T172010
CREATED:20250501T065513Z
LAST-MODIFIED:20250501T065513Z
UID:10003239-1748347200-1748350800@wainnovationcalendar.com.au
SUMMARY:RTCM Trailblazer Information Session
DESCRIPTION:Join us for an upcoming information sessions to discover everything you need to know about Curtin Ignition – an intensive program designed to help aspiring entrepreneurs\, innovators\, and business owners turn their ideas into reality. \nIn these sessions\, you’ll learn what Curtin Ignition is\, who the program is designed for\, the invaluable skills and insights you’ll gain\, and the numerous benefits of participating. You’ll also get an inside look at the mentors\, industry experts\, and networks involved\, and receive guidance on how to apply. Don’t miss this opportunity to kickstart your entrepreneurial journey and unlock the potential of your ideas. \nRegister HERE
URL:https://wainnovationcalendar.com.au/event/rtcm-trailblazer-information-session/
LOCATION:online\, Australia
CATEGORIES:Information Session / Launch
ORGANIZER;CN="Curtin Innovation and Entrepreneurship":MAILTO:entrepreneurship@curtin.edu.au
END:VEVENT
BEGIN:VEVENT
DTSTART;TZID=Australia/Perth:20250527T160000
DTEND;TZID=Australia/Perth:20250527T180000
DTSTAMP:20260420T172010
CREATED:20250517T083908Z
LAST-MODIFIED:20260415T020723Z
UID:10003307-1748361600-1748368800@wainnovationcalendar.com.au
SUMMARY:AARP Monthly Sundowner x Cyber West Summit Welcome Reception
DESCRIPTION:Speakers \nWelcome Address – Emma O’Neil\, Director\, Cyber West Hub \nPanel Discussion – “International Spotlight on Cyber”\nChair – Dr Glenn Murray\nScott Flower PhD\, Founder\, CI-ISAC International\nRepresentatives from Philippines & India DelegationsAgenda \n4.00pm: Arrival\, Registration & Networking \n4.10pm: Introduction and Welcome – CORE & Cyber West Summit \n4.20pm: Cyber West Summit Welcome Reception\n \n5.00pm: Networking and Refreshments\nAARP Facility Tour\nTech Demo from AARP User \n6.00pm: Event concludes \nLearn more and register: AARP Monthly Sundowner x Cyber West Summit Welcome Reception 
URL:https://wainnovationcalendar.com.au/event/aarp-monthly-sundowner-x-cyber-west-summit-welcome-reception/
LOCATION:Australian Automation and Robotics Precinct\, Pederick Rd\, Neerabup\, WA\, Australia
CATEGORIES:Networking / Group Meetup
ATTACH;FMTTYPE=image/png:https://wainnovationcalendar.com.au/wp-content/uploads/2025/05/Screenshot-2025-05-17-163828.png
END:VEVENT
BEGIN:VEVENT
DTSTART;TZID=Australia/Perth:20250528T113000
DTEND;TZID=Australia/Perth:20250528T123000
DTSTAMP:20260420T172010
CREATED:20250505T021057Z
LAST-MODIFIED:20250505T021057Z
UID:10003246-1748431800-1748435400@wainnovationcalendar.com.au
SUMMARY:HILT CRC public webinar: Non-hydrogen ironmaking
DESCRIPTION:Professor Geoff Brooks from Swinburne University of Technology will provide insights into technologies that are helping to decarbonise the iron and steel industry. The webinar will explore approaches employing: \n\nElectrolysis: using electrical energy to directly reduce iron ore without fossil fuels\nBiomass: sustainable carbon sources as alternatives to coal and coke\nMetallothermic reduction: using metals with higher affinity for oxygen than iron to reduce iron oxide to metallic iron.\n\nProfessor Brooks will also delve into associated carbon capture\, utilisation and storage (CCUS) technologies essential for transitioning to low-carbon steelmaking\, focusing on recent trials such as Steelanol in Belgium.
URL:https://wainnovationcalendar.com.au/event/hilt-crc-public-webinar-non-hydrogen-ironmaking/
LOCATION:online\, Australia
CATEGORIES:Seminar / Panel Discussion / Conversation
END:VEVENT
END:VCALENDAR