BEGIN:VCALENDAR
VERSION:2.0
PRODID:-//WA Innovation Calendar - ECPv6.15.20//NONSGML v1.0//EN
CALSCALE:GREGORIAN
METHOD:PUBLISH
X-ORIGINAL-URL:https://wainnovationcalendar.com.au
X-WR-CALDESC:Events for WA Innovation Calendar
REFRESH-INTERVAL;VALUE=DURATION:PT1H
X-Robots-Tag:noindex
X-PUBLISHED-TTL:PT1H
BEGIN:VTIMEZONE
TZID:Australia/Perth
BEGIN:STANDARD
TZOFFSETFROM:+0800
TZOFFSETTO:+0800
TZNAME:AWST
DTSTART:20230101T000000
END:STANDARD
END:VTIMEZONE
BEGIN:VEVENT
DTSTART;TZID=Australia/Perth:20240407T200000
DTEND;TZID=Australia/Perth:20240407T220000
DTSTAMP:20260421T160812
CREATED:20240220T090410Z
LAST-MODIFIED:20260407T055709Z
UID:10001923-1712520000-1712527200@wainnovationcalendar.com.au
SUMMARY:The Diary of a CEO: The Business & Life Speaking Tour
DESCRIPTION:Join Entrepreneur\, Investor\, No.1 Best Selling Author and Host of Europe’s Biggest Podcast – ‘The Diary Of A CEO”\, for an insightful and new international lecture series. \nThese talks are tailor-made for aspiring entrepreneurs\, seasoned business owners\, and anyone that dreams of taking their venture\, project or life to the next level. Thinking of starting something one day? Wondering how to take your current project to the next level? This lecture is for you! \nIn this series\, Steven will dissect the intricacies of entrepreneurship\, offering priceless wisdom on how to start\, build\, and scale a thriving business. He’ll unravel the strategies and tactics that have propelled his entrepreneurial success & provide a roadmap for your own success using science backed research\, his interview back catalogue and stories from history. \nLearn how to cultivate the mindset and strategy required to overcome challenges\, stay focused\, and turn your dreams into reality. \nThis is a brand new one of kind event series that will happen once\, and only once!
URL:https://wainnovationcalendar.com.au/event/the-diary-of-a-ceo-the-business-life-speaking-tour/
LOCATION:RAC Arena Perth\, 700 Wellington Street\, Perth\, WA\, 6000\, Australia
CATEGORIES:Showcase / Pitch / Demo / Tour
END:VEVENT
BEGIN:VEVENT
DTSTART;TZID=Australia/Perth:20240416T180000
DTEND;TZID=Australia/Perth:20240416T210000
DTSTAMP:20260421T160812
CREATED:20240405T075850Z
LAST-MODIFIED:20260407T055810Z
UID:10002076-1713290400-1713301200@wainnovationcalendar.com.au
SUMMARY:She Codes Plus SHOWCASE
DESCRIPTION:She Codes Plus is a unique closing the gender gap in technology. \nStriking a balance between teaching\, inspiring and supporting women in their tech careers\, She Codes Plus caters to women from all stages in their tech journey. \nJoin us on April 16th\, for an exclusive opportunity to see the Perth graduating class for 2024. View the portfolios of the participants and network with other professionals in tech\, and last but by no means least\, hire some amazing women in tech! \nFor the first time we are moving to Perth Town Hall\, doubling our capacity\, so we can welcome women\, business owners\, technical talent and anyone interested in the tech industry along to have meaningful conversations\, networking opportunities\, food and drinks\, and more. \nRECRUITMENT OPPORTUNITIES \nThis showcase is the perfect opportunity to see the talent of women across Perth\, and connect with those looking for new roles in the industry. \nThe cohort have developed a personal portfolio in HTML and CSS\, learned the fundamentals of programming with Python\, created a news website in Django and a crowdfunding website in React. They’ve used git to track their code\, and agile methodologies to create projects in small teams. \nStay tuned for exciting announcements on a panel discussion for the evening. \nDRESS CODE \nBusiness cocktail – its a celebration!
URL:https://wainnovationcalendar.com.au/event/she-codes-plus-showcase/
LOCATION:601 Hay Street\, 601 Hay Street\, Perth\, WA\, 6000\, Australia
CATEGORIES:Showcase / Pitch / Demo / Tour
END:VEVENT
BEGIN:VEVENT
DTSTART;TZID=Australia/Perth:20240417T180000
DTEND;TZID=Australia/Perth:20240417T200000
DTSTAMP:20260421T160812
CREATED:20240414T071816Z
LAST-MODIFIED:20260407T055848Z
UID:10002120-1713376800-1713384000@wainnovationcalendar.com.au
SUMMARY:Bloom: Pitch Night
DESCRIPTION:Pitch night is here! 📣📣📣 \nCome see the finest and wildest businesses and ideas that the Bloom community has to offer. \nAt 6pm on April the 17th\, we will have entrepreneurs from all around the Bloom ecosystem (Launchpad\, Orbit\, co-workers\, students and the wider Bloom community) coming to pitch their established businesses or business ideas in the Bloom main lab. Your $5 entry fee will contribute to a pool that will go to the top 3 pitches according to our judging panel 🤑🤑🤑 \nAlso included in your entry fee is plenty of food and drinks (alcoholic and non-alcoholic) for you to enjoy over the course of the night 😋 \nIf you would like to pitch at this event please fill out this form to apply – https://form.typeform.com/to/k… \nSee you there 👋
URL:https://wainnovationcalendar.com.au/event/bloom-pitch-night/
LOCATION:Bloom Lab\, Crawley\, 2 Park Road\, Crawley\, WA\, 6009\, Australia
CATEGORIES:Showcase / Pitch / Demo / Tour
ORGANIZER;CN="Bloom":MAILTO:hello@bloom.org.au
END:VEVENT
BEGIN:VEVENT
DTSTART;TZID=Australia/Perth:20240419T100000
DTEND;TZID=Australia/Perth:20240419T130000
DTSTAMP:20260421T160812
CREATED:20240303T041155Z
LAST-MODIFIED:20260407T035433Z
UID:10001950-1713520800-1713531600@wainnovationcalendar.com.au
SUMMARY:AARP Open Day
DESCRIPTION:We are pleased to invite you to Open Day on 10 April\, 2024. \nThis is your opportunity to tour the Australian Automation and Robotics Precinct (AARP) and learn more about the City of Wanneroo.\nThe AARP is pleased to be hosting Mayor Linda Aitken who will explore the vibrant business community in the City of Wanneroo and answer your questions. \nThe AARP is a dynamic\, collaborative\, accessible and global robotics and automation precinct with the largest test beds in Australia\, and supported by a vibrant\, cross-sector innovation ecosystem. Learn more about how your company can utilise 6 diverse testbeds spread across 51 hectares of dedicated automation and robotics testing space\, just 35 minutes north of Perth\, WA. \nFind out how the AARP is facilitating technology development and innovation development across mining and resources\, energy\, defence\, space\, agriculture\, construction\, logistics\, advanced manufacturing and education. Hear more from the team and understand how you can get involved.
URL:https://wainnovationcalendar.com.au/event/aarp-open-day/
LOCATION:Australian Automation and Robotics Precinct\, Pederick Rd\, Neerabup\, WA\, Australia
CATEGORIES:Showcase / Pitch / Demo / Tour
END:VEVENT
END:VCALENDAR