BEGIN:VCALENDAR
VERSION:2.0
PRODID:-//WA Innovation Calendar - ECPv6.15.20//NONSGML v1.0//EN
CALSCALE:GREGORIAN
METHOD:PUBLISH
X-ORIGINAL-URL:https://wainnovationcalendar.com.au
X-WR-CALDESC:Events for WA Innovation Calendar
REFRESH-INTERVAL;VALUE=DURATION:PT1H
X-Robots-Tag:noindex
X-PUBLISHED-TTL:PT1H
BEGIN:VTIMEZONE
TZID:Australia/Perth
BEGIN:STANDARD
TZOFFSETFROM:+0800
TZOFFSETTO:+0800
TZNAME:AWST
DTSTART:20250101T000000
END:STANDARD
END:VTIMEZONE
BEGIN:VEVENT
DTSTART;TZID=Australia/Perth:20260501T093000
DTEND;TZID=Australia/Perth:20260501T130000
DTSTAMP:20260424T025918
CREATED:20260421T070752Z
LAST-MODIFIED:20260421T070844Z
UID:10007523-1777627800-1777640400@wainnovationcalendar.com.au
SUMMARY:Innovation Shed - Develop Skills. Build Business. Create Momentum.
DESCRIPTION:Innovation Shed is a hands-on learning session for early-stage Perth Innovators\, from idea stage through to pre-revenue businesses. \nWork directly on your idea alongside experienced mentors across six skill stations: Strategy & Validation\, Product Development\, Financial Planning\, Marketing & Growth\, and Innovator Wellbeing & Leadership. Less theory\, more doing\, leave with real progress on your innovation. \nFri 1 May\, Riff: powered by Spacecubed.
URL:https://wainnovationcalendar.com.au/event/innovation-shed-develop-skills-build-business-create-momentum/
LOCATION:Riff\, 45 St Georges Tce\, Perth\, Australia
CATEGORIES:Networking / Group Meetup,Workshop / Masterclass
ATTACH;FMTTYPE=image/png:https://wainnovationcalendar.com.au/wp-content/uploads/2026/04/Innovation-Shed-Event-Image.png
ORGANIZER;CN="With Impact In Mind":MAILTO:paul@withimpactinmind.com
END:VEVENT
BEGIN:VEVENT
DTSTART;TZID=Australia/Perth:20260504T100000
DTEND;TZID=Australia/Perth:20260504T110000
DTSTAMP:20260424T025918
CREATED:20260413T061756Z
LAST-MODIFIED:20260413T061757Z
UID:10007326-1777888800-1777892400@wainnovationcalendar.com.au
SUMMARY:BrewHub and Connect –May
DESCRIPTION:Join for Brew Hub and Connect at the Australian Automation and Robotics Precinct. \nThis morning tea style event is a great opportunity to meet and connect with AARP users the broader robotics innovation ecosystem.
URL:https://wainnovationcalendar.com.au/event/brew-hub-and-connect-at-the-aarp-april26-2/
LOCATION:Australian Automation and Robotics Precinct\, Pederick Rd\, Neerabup\, WA\, Australia
CATEGORIES:Networking / Group Meetup
END:VEVENT
BEGIN:VEVENT
DTSTART;TZID=Australia/Perth:20260506T073000
DTEND;TZID=Australia/Perth:20260506T084500
DTSTAMP:20260424T025918
CREATED:20260422T055519Z
LAST-MODIFIED:20260422T055519Z
UID:10007548-1778052600-1778057100@wainnovationcalendar.com.au
SUMMARY:From Drones to Decisions — How Women are Shaping Resources Technology
DESCRIPTION:From Drones to Decisions — How Women are Shaping Resources Technology \nDr Catherine Ball — Scientific Futurist\, Author & Founder \nFrom tracking turtles off Western Australia’s coastline to advising on the future of autonomous mining\, Dr Catherine Ball has witnessed firsthand how technology is transforming industries. \nIn this keynote\, Catherine will explore how drones\, AI\, robotics and automation are reshaping the resources sector — and why women are uniquely positioned to lead this transformation. Drawing on her experience founding the World of Drones Congress and advising global innovation challenges\, she will challenge attendees to move from passive observers to active architects of mining’s technological future. \nDate: Wednesday 6 May 2026\nTime: 7:30am – 8:45am\nLocation: Perth Convention & Exhibition Centre\nFormat: Sit-down hot breakfast\, keynote and panel discussion\nTicket Type: Add-on event to GRX26 registration or book standalone ticket.
URL:https://wainnovationcalendar.com.au/event/from-drones-to-decisions-how-women-are-shaping-resources-technology/
LOCATION:Perth Convention and Exhibition Centre\, 21 Mounts Bay Road\, Perth\, 6000\, Australia
CATEGORIES:Networking / Group Meetup
END:VEVENT
BEGIN:VEVENT
DTSTART;TZID=Australia/Perth:20260506T073000
DTEND;TZID=Australia/Perth:20260506T090000
DTSTAMP:20260424T025918
CREATED:20260412T053251Z
LAST-MODIFIED:20260412T053251Z
UID:10007316-1778052600-1778058000@wainnovationcalendar.com.au
SUMMARY:Stop Writing Code like it's April 2026!
DESCRIPTION:In this talk\, Aidan Morgan will draw on twelve months of hands-on experimentation with agentic engineering teams assembled for an AI-first delivery model. \nHe’ll introduce a mental model for AI-first delivery\, share how he’s using deterministic tooling to create fast\, automated backpressure to keep agents on track\, and challenge some long-held assumptions about software delivery. \nIf you’ve been wondering how to move beyond “AI-assisted coding” and into genuinely agentic software delivery\, this one’s for you.
URL:https://wainnovationcalendar.com.au/event/stop-writing-code-like-its-april-2026/
LOCATION:Riff\, 45 St Georges Tce\, Perth\, Australia
CATEGORIES:Networking / Group Meetup
ORGANIZER;CN="Morning Startup":MAILTO:contact@morningstartup.com
END:VEVENT
BEGIN:VEVENT
DTSTART;TZID=Australia/Perth:20260506T100000
DTEND;TZID=Australia/Perth:20260506T110000
DTSTAMP:20260424T025918
CREATED:20260409T050101Z
LAST-MODIFIED:20260409T050157Z
UID:10007315-1778061600-1778065200@wainnovationcalendar.com.au
SUMMARY:CORE Community Coffee\, May
DESCRIPTION:Join CORE Innovation Hub for a coffee and a chat and meet the local Perth energy and mining ecosystem.\nCommunity Coffee is a great way to meet local innovators\, technologists and entrepreneurs working to solve some of the big challenges. This is your opportunity to connect with CORE members and guests and find out more about the opportunities and the challenges within the sector.
URL:https://wainnovationcalendar.com.au/event/core-community-coffee-may-2026/
LOCATION:CORE Innovation Hub\, 191 St. Georges Terrrace\, Perth\, WA\, 6000\, Australia
CATEGORIES:Networking / Group Meetup
ATTACH;FMTTYPE=image/webp:https://wainnovationcalendar.com.au/wp-content/uploads/2026/03/Yk2O6vYlRwGcguG3cUvB@responsive-1440.webp
END:VEVENT
BEGIN:VEVENT
DTSTART;TZID=Australia/Perth:20260512T073000
DTEND;TZID=Australia/Perth:20260512T093000
DTSTAMP:20260424T025918
CREATED:20260406T021845Z
LAST-MODIFIED:20260406T021845Z
UID:10004419-1778571000-1778578200@wainnovationcalendar.com.au
SUMMARY:MCCC Business Breakfast - AUKUS & Defence
DESCRIPTION:Explore AUKUS opportunities and learn how SMEs can become defence ready and connect into supply chains at this industry breakfast. \nThe MCCC are partnering with the City of Cockburn to deliver an AUKUS & Defence Industry Breakfast\, bringing together government\, international partners\, and industry to explore the opportunities emerging from AUKUS and the growing role of the Henderson Defence Precinct. \nThis event will provide a high-level strategic overview of AUKUS\, alongside practical insights for SMEs on how to become defence ready and engage with defence supply chains.
URL:https://wainnovationcalendar.com.au/event/mccc-business-breakfast-aukus-defence/
LOCATION:City of Cockburn\, 9 Coleville Crescent\, Spearwood\, WA\, 6163\, Australia
CATEGORIES:Information Session / Launch,Networking / Group Meetup
END:VEVENT
BEGIN:VEVENT
DTSTART;TZID=Australia/Perth:20260512T173000
DTEND;TZID=Australia/Perth:20260512T213000
DTSTAMP:20260424T025918
CREATED:20260111T064406Z
LAST-MODIFIED:20260111T064406Z
UID:10004088-1778607000-1778621400@wainnovationcalendar.com.au
SUMMARY:Energy and Mining Collaboration Speed-Networking May 2026
DESCRIPTION:The event features both structured speed-networking (each person should meet 50+ people across the energy and mining industry over the evening) and unstructured free-flowing networking. \nWith topics\, trends and issues relevant to the many different groups in the region\, the Professional Networking Institute (PNI) is partnering with other industry associations across the Energy and Mining industries. \nLearn more and register here: https://www.eventbrite.com.au/e/energy-and-mining-collaboration-speed-networking-may-2026-tickets-1301704566399
URL:https://wainnovationcalendar.com.au/event/energy-and-mining-collaboration-speed-networking-may-2026/
LOCATION:The Claremont Hotel\, 1 Bay View Terrace\, Perth\, Western Australia\, 6010\, Australia
CATEGORIES:Networking / Group Meetup
END:VEVENT
BEGIN:VEVENT
DTSTART;TZID=Australia/Perth:20260513T090000
DTEND;TZID=Australia/Perth:20260513T160000
DTSTAMP:20260424T025918
CREATED:20260414T024708Z
LAST-MODIFIED:20260414T080659Z
UID:10007328-1778662800-1778688000@wainnovationcalendar.com.au
SUMMARY:The Material Shift – Ecosystem Workshop (Low-Impact Construction Materials)
DESCRIPTION:Shaping the GreenTech Hub’s next challenge in low-impact construction materials\n\nSubmit your EOI for the GreenTech Hub’s Ecosystem Workshop and help shape the direction of our next Innovation Challenge. \nFollowing the close of the GreenTech Hub’s inaugural challenge The Long-Game: Solving Long-Duration Energy Storage\, we invite the ecosystem to contribute to refining our next challenge: The Material Shift: Low Impact Construction Materials. \nWe invite you to express your interest in participating in this collaborative session\, where industry\, research\, and community voices come together to explore opportunities and define priorities. This is your opportunity to contribute insights\, share your expertise\, and help shape impactful solutions for the WA Greentech Hub’s next challenge\, supporting the transition to a net-zero Western Australia. \nWe welcome interest from individuals and organisations across: \n• Energy utilities\n• Mining companies\n• Construction firms and contractors\n• Manufacturing and materials companies\n• Government agencies and regulators\n• Engineering and design consultancies\n• Research institutions and universities\n• Philanthropies and NGOs\n• Corporates with sustainability targets\n• Startups and SMEs
URL:https://wainnovationcalendar.com.au/event/the-material-shift-ecosystem-workshop-low-impact-construction-materials/
LOCATION:Perth WA\, Western Australia\, Australia
CATEGORIES:Networking / Group Meetup,Workshop / Masterclass
ATTACH;FMTTYPE=image/png:https://wainnovationcalendar.com.au/wp-content/uploads/2026/04/EOI-Ecosystem-Workshop_LICM-scaled.png
ORGANIZER;CN="WA GreenTech Hub":MAILTO:hello@greentechwa.com
END:VEVENT
BEGIN:VEVENT
DTSTART;TZID=Australia/Perth:20260521T163000
DTEND;TZID=Australia/Perth:20260521T180000
DTSTAMP:20260424T025918
CREATED:20260413T061756Z
LAST-MODIFIED:20260415T020155Z
UID:10007327-1779381000-1779386400@wainnovationcalendar.com.au
SUMMARY:Bots and Bevs May
DESCRIPTION:Bots & Bevs is a fantastic opportunity to connect with other innovators\, robotics thought leaders and business insiders working right across the robotics\, automation and zero emissions sectors.
URL:https://wainnovationcalendar.com.au/event/brew-hub-and-connect-at-the-aarp-april26-3/
LOCATION:Australian Automation and Robotics Precinct\, Pederick Rd\, Neerabup\, WA\, Australia
CATEGORIES:Networking / Group Meetup
END:VEVENT
BEGIN:VEVENT
DTSTART;TZID=Australia/Perth:20260521T163000
DTEND;TZID=Australia/Perth:20260521T183000
DTSTAMP:20260424T025918
CREATED:20260415T032835Z
LAST-MODIFIED:20260415T032836Z
UID:10007325-1779381000-1779388200@wainnovationcalendar.com.au
SUMMARY:Powering Below: The Future of Subsea Energy
DESCRIPTION:Powering Below: The Future of Subsea Energy\nExploring the technologies\, infrastructure and partnerships shaping the next era of offshore energy systems. As global energy systems evolve\, the role of subsea infrastructure is becoming increasingly critical — from enabling offshore renewables to supporting the transition of traditional oil and gas operations. \nJoin CORE Innovation Hub and Subsea Energy Australia for a special CORE Connect event bringing together industry\, innovators and the broader ecosystem to explore what lies beneath the surface. \nThis session will unpack the technologies shaping subsea energy\, the infrastructure required to support it\, and the partnerships needed to deliver at scale. From electrification and remote operations to emerging opportunities in offshore wind\, carbon capture and subsea processing\, we will dive into the trends redefining the sector. \nExpect a dynamic discussion\, followed by audience Q&A and the opportunity to connect with others working across energy\, resources and technology.
URL:https://wainnovationcalendar.com.au/event/core-connect-may-2026/
LOCATION:Riff\, 45 St Georges Tce\, Perth\, Australia
CATEGORIES:Networking / Group Meetup
ATTACH;FMTTYPE=image/jpeg:https://wainnovationcalendar.com.au/wp-content/uploads/2026/04/1776143956440.jpeg
END:VEVENT
BEGIN:VEVENT
DTSTART;TZID=Australia/Perth:20260521T184500
DTEND;TZID=Australia/Perth:20260521T223000
DTSTAMP:20260424T025918
CREATED:20260406T014931Z
LAST-MODIFIED:20260414T054245Z
UID:10004416-1779389100-1779402600@wainnovationcalendar.com.au
SUMMARY:Off the Record | Real Stories of Medtech
DESCRIPTION:Ready to unwind after AusMedTech? Or couldn’t make it but still want to connect with the WA medtech community? This is the event for you. \nJoin us for a short\, lively panel hosted by Dr Michael Challenor\, where medtech founders share their real\, unfiltered “pound the table” moments – the highs\, the setbacks\, and everything in between. \nWe don’t often talk about failure in Australia\, but behind every “overnight success” is a story of persistence\, pivots and lessons learned. This is your chance to hear those stories\, stripped back and honest\, from those who’ve lived them. \nGrab a drink\, enjoy great food and music\, and settle into an evening of relaxed networking. Whether you’re a founder\, researcher\, investor or industry professional\, it’s the perfect setting to connect\, swap stories and meet others in the ecosystem. \nExpect a fun\, informal (and slightly chaotic) night that goes beyond the usual event format. Don’t miss it – secure your ticket now.
URL:https://wainnovationcalendar.com.au/event/war-stories-of-medtech/
LOCATION:Rocky Ridge Burswood\, 84/88 Goodwood Parade\, Burswood\, WA
CATEGORIES:Networking / Group Meetup,Seminar / Panel Discussion / Conversation
ATTACH;FMTTYPE=image/webp:https://wainnovationcalendar.com.au/wp-content/uploads/2026/04/983c5096-e409-4066-a095-c153f0f98d03.png@responsive-1440.webp
ORGANIZER;CN="Innovate Medtech":MAILTO:info@innovatemed.tech
END:VEVENT
BEGIN:VEVENT
DTSTART;TZID=Australia/Perth:20260522T080000
DTEND;TZID=Australia/Perth:20260522T180000
DTSTAMP:20260424T025918
CREATED:20260406T015246Z
LAST-MODIFIED:20260414T054245Z
UID:10004417-1779436800-1779472800@wainnovationcalendar.com.au
SUMMARY:2026 Medtech Masterclasses
DESCRIPTION:The Medtech Masterclasses is a one-day\, two-stream\, high-impact program delivering practical\, real-world insights across the entire medtech lifecycle. With more than 15 curated sessions\, the program brings together experts and leaders from across the medtech ecosystem to help founders\, startups\, industry participants\, and post-PhD researchers turn innovative ideas into clinical and commercial success. \nThe program is structured into two focused streams: \n\nDeveloping Technical Readiness: covering product development\, regulatory pathways\, clinical trials\, and technical innovation.\nDeveloping Commercial Readiness: covering business strategy\, fundraising\, market access\, and commercialisation.\n\nBuilding on the success of the 2024 program\, the 2026 Medtech Masterclasses will feature leading local and international experts from top organisations\, offering hands-on learning\, actionable strategies\, and valuable networking opportunities that drive meaningful impact across the medtech sector. \nA networking session and dinner will be held after the event\, providing an additional opportunity to connect with speakers\, peers\, and industry leaders. Tickets for the networking dinner are available separately or as part of a package. \nThe Medtech Masterclasses is an official satellite event of AusMedtech.
URL:https://wainnovationcalendar.com.au/event/2026-medtech-masterclasses/
LOCATION:One Two Five by Hub\, 125 St Georges Terrace\, Perth\, WA\, 6000
CATEGORIES:Networking / Group Meetup,Workshop / Masterclass
ATTACH;FMTTYPE=image/webp:https://wainnovationcalendar.com.au/wp-content/uploads/2026/04/5c9114ce-ff57-4cf3-a3da-153db54f3790.png@responsive-1440.webp
ORGANIZER;CN="Innovate Medtech":MAILTO:info@innovatemed.tech
END:VEVENT
BEGIN:VEVENT
DTSTART;TZID=Australia/Perth:20260526T100000
DTEND;TZID=Australia/Perth:20260526T120000
DTSTAMP:20260424T025918
CREATED:20260329T075536Z
LAST-MODIFIED:20260329T075536Z
UID:10004403-1779789600-1779796800@wainnovationcalendar.com.au
SUMMARY:WAMR: Brunch with Dr Ashley McGrath
DESCRIPTION:Join MRIWA x WAMR for a dynamic networking brunch with Dr Ashley McGrath from CEOs for Equity\, as she presents key findings from her groundbreaking PhD research into women’s participation and inclusion in Western Australia’s mining industry. \nAttendees will gain clear\, evidence‑based insight into how operational systems\, leadership practices and workforce design influence attraction\, retention and performance — and how organisations can move beyond isolated initiatives toward coordinated\, high‑impact approaches that deliver measurable change.
URL:https://wainnovationcalendar.com.au/event/wamr-brunch-with-dr-ashley-mcgrath/
LOCATION:Perth WA\, Western Australia\, Australia
CATEGORIES:Networking / Group Meetup
END:VEVENT
BEGIN:VEVENT
DTSTART;TZID=Australia/Perth:20260526T173000
DTEND;TZID=Australia/Perth:20260526T200000
DTSTAMP:20260424T025918
CREATED:20260421T054929Z
LAST-MODIFIED:20260421T061120Z
UID:10007529-1779816600-1779825600@wainnovationcalendar.com.au
SUMMARY:Henderson Alliance  May 2026 IODS Event
DESCRIPTION:Join us for an easygoing networking event alongside IODS 2026\, bringing together professionals from across the defence\, marine and industrial ecosystem. \nWhether you are reconnecting with familiar faces or meeting new ones\, this is your chance to make the most of IODS while enjoying a great atmosphere with the Henderson Alliance community.
URL:https://wainnovationcalendar.com.au/event/henderson-alliance-may-2026-iods-event/
CATEGORIES:Networking / Group Meetup
ATTACH;FMTTYPE=image/webp:https://wainnovationcalendar.com.au/wp-content/uploads/2026/04/9ad2effe-042c-4a6a-a229-88e38fd49223.jpg@responsive-1600.webp
END:VEVENT
END:VCALENDAR