BEGIN:VCALENDAR
VERSION:2.0
PRODID:-//WA Innovation Calendar - ECPv6.15.20//NONSGML v1.0//EN
CALSCALE:GREGORIAN
METHOD:PUBLISH
X-WR-CALNAME:WA Innovation Calendar
X-ORIGINAL-URL:https://wainnovationcalendar.com.au
X-WR-CALDESC:Events for WA Innovation Calendar
REFRESH-INTERVAL;VALUE=DURATION:PT1H
X-Robots-Tag:noindex
X-PUBLISHED-TTL:PT1H
BEGIN:VTIMEZONE
TZID:Australia/Perth
BEGIN:STANDARD
TZOFFSETFROM:+0800
TZOFFSETTO:+0800
TZNAME:AWST
DTSTART:20250101T000000
END:STANDARD
END:VTIMEZONE
BEGIN:VEVENT
DTSTART;TZID=Australia/Perth:20260111T100000
DTEND;TZID=Australia/Perth:20260111T150000
DTSTAMP:20260424T160739
CREATED:20260103T011238Z
LAST-MODIFIED:20260103T011238Z
UID:10004065-1768125600-1768143600@wainnovationcalendar.com.au
SUMMARY:Work on your Tech Projects at She Codes Hack Day
DESCRIPTION:Enter…. She Codes Hack Day! \nThis is your opportunity to do one of three things: \n\nWork on your own projects\, surrounded by other folks who are coding along on their own projects – instant motivation and body doubling.\nMentor and support our She Codes Plus cohort who will be finishing off projects to demo at Showcase on Feb 2nd\nHelp us (the She Team) create new content for the one day workshop tutorials and work on processes
URL:https://wainnovationcalendar.com.au/event/work-on-your-tech-projects-at-she-codes-hack-day/
LOCATION:Riff\, 45 St Georges Tce\, Perth\, Australia
CATEGORIES:Networking / Group Meetup
END:VEVENT
BEGIN:VEVENT
DTSTART;TZID=Australia/Perth:20260128T170000
DTEND;TZID=Australia/Perth:20260128T180000
DTSTAMP:20260424T160739
CREATED:20260103T011728Z
LAST-MODIFIED:20260103T011728Z
UID:10004067-1769619600-1769623200@wainnovationcalendar.com.au
SUMMARY:StartupWA 2026 AGM
DESCRIPTION:The Startup WA 2026 AGM will be held at Riff in Perth CBD. \n📅 Wed 28 Jan\n⏰ 5–6pm + networking drinks afterwards \nAttending the AGM is the best way to hear what they have planned for 2026\, ask questions directly\, and help shape StartupWA’s priorities for the year ahead. All members welcome!
URL:https://wainnovationcalendar.com.au/event/startupwa-2026-agm/
LOCATION:Riff\, 45 St Georges Tce\, Perth\, Australia
CATEGORIES:Networking / Group Meetup
END:VEVENT
BEGIN:VEVENT
DTSTART;TZID=Australia/Perth:20260129T123000
DTEND;TZID=Australia/Perth:20260129T143000
DTSTAMP:20260424T160739
CREATED:20260118T031020Z
LAST-MODIFIED:20260118T031020Z
UID:10004111-1769689800-1769697000@wainnovationcalendar.com.au
SUMMARY:Perth | Blackbird Foundry Roadshow
DESCRIPTION:An event for aspiring founders from research/technical backgrounds\, early teams\, solo builders\, students who ship\, and founders planning a raise in the next 12 months. \nBlackbird are hosting VC learning sessions in cities across Australia and New Zealand covering how venture works in 2026 for deep tech companies\, how to raise well\, and how Foundry helps you get started.
URL:https://wainnovationcalendar.com.au/event/perth-blackbird-foundry-roadshow/
LOCATION:Perth WA\, Western Australia\, Australia
CATEGORIES:Information Session / Launch,Networking / Group Meetup
END:VEVENT
BEGIN:VEVENT
DTSTART;TZID=Australia/Perth:20260129T160000
DTEND;TZID=Australia/Perth:20260129T180000
DTSTAMP:20260424T160739
CREATED:20260115T051903Z
LAST-MODIFIED:20260115T051930Z
UID:10004103-1769702400-1769709600@wainnovationcalendar.com.au
SUMMARY:CTV Community of Interest Networking Event
DESCRIPTION:You’re Invited to the Communities of Interest (COI) meet up for Creative & Tech Innovation bodies and groups as part of the Meshpoints programs. \nEach group is open to pitch for 5 minutes for their 2026 programs and beyond. We’ll form a networking session at the Backlot Cinema from 4-6 pm on 29th January 2026. \nThe COI comprises representatives from industry bodies and agencies across the Creative and tech sectors\, to identify areas of collaboration for projects and partnerships. \nThis is limited to 50 people to attend\, as capacity is limited. \nRSVP via Humantix link or info@creativetechvillage.com
URL:https://wainnovationcalendar.com.au/event/community-of-interest-networking-event/
LOCATION:The Backlot Perth\, 21 Simpson Street\, West Perth\, WA\, 6005\, Australia
CATEGORIES:Networking / Group Meetup
ATTACH;FMTTYPE=image/png:https://wainnovationcalendar.com.au/wp-content/uploads/2026/01/COICTV.png
ORGANIZER;CN="Creative Tech Village":MAILTO:mathew.lewis@ecu.edu.au
END:VEVENT
BEGIN:VEVENT
DTSTART;TZID=Australia/Perth:20260129T173000
DTEND;TZID=Australia/Perth:20260129T203000
DTSTAMP:20260424T160739
CREATED:20260126T015354Z
LAST-MODIFIED:20260126T015354Z
UID:10004131-1769707800-1769718600@wainnovationcalendar.com.au
SUMMARY:Energy Club WA: Industry Sundowner 2026 Energy Industry Market Overview
DESCRIPTION:Featuring Lars Eirik Nicolaisen\, Senior Partner and Deputy CEO of Rystad Energy\, as guest speaker\, at Energy Club WA Industry Sundowner\, joined by Krishan Pal Birda\, VP Upstream Research. Together\, they will deliver an engaging and insightful industry market update. \nRegister here: Energy Club WA: Industry Sundowner 2026 Energy Industry Market Overview
URL:https://wainnovationcalendar.com.au/event/energy-club-wa-industry-sundowner-2026-energy-industry-market-overview/
LOCATION:The Camfield\, 1 Roger MacKay Drive\, Burswood\, WA\, 6100\, Australia
CATEGORIES:Networking / Group Meetup
END:VEVENT
BEGIN:VEVENT
DTSTART;TZID=Australia/Perth:20260131T173000
DTEND;TZID=Australia/Perth:20260131T210000
DTSTAMP:20260424T160739
CREATED:20260115T052245Z
LAST-MODIFIED:20260126T045027Z
UID:10004104-1769880600-1769893200@wainnovationcalendar.com.au
SUMMARY:Blocksquare Web3 Networking
DESCRIPTION:This is a gathering of crypto enthusiasts/ investors\, real estate professionals\, those working in Web3 or interested in how new digital economy technologies are making an impact. \nWhy Attend \n\nLearn where real estate tokenization is heading in 2026 and beyond.\nConnect with investors\, marketplace operators\, and builders in the RWA space.\nGet inspired by local and global success stories from the Blocksquare ecosystem.\n\nWhether you’re in real estate\, finance\, blockchain and crypto or Web3\, this is your opportunity to engage with pioneers leading the tokenization movement.
URL:https://wainnovationcalendar.com.au/event/blocksquare-web3-networking/
LOCATION:Henry’s Rooftop\, Ophir Walk. 901 Riverside Drive\, Perth\, WA\, 6000\, Australia
CATEGORIES:Networking / Group Meetup
ORGANIZER;CN="Blocksquare RWA Regional Hub Perth":MAILTO:karolinekolman@gmail.com
END:VEVENT
END:VCALENDAR