BEGIN:VCALENDAR
VERSION:2.0
PRODID:-//WA Innovation Calendar - ECPv6.15.20//NONSGML v1.0//EN
CALSCALE:GREGORIAN
METHOD:PUBLISH
X-ORIGINAL-URL:https://wainnovationcalendar.com.au
X-WR-CALDESC:Events for WA Innovation Calendar
REFRESH-INTERVAL;VALUE=DURATION:PT1H
X-Robots-Tag:noindex
X-PUBLISHED-TTL:PT1H
BEGIN:VTIMEZONE
TZID:Australia/Perth
BEGIN:STANDARD
TZOFFSETFROM:+0800
TZOFFSETTO:+0800
TZNAME:AWST
DTSTART:20250101T000000
END:STANDARD
END:VTIMEZONE
BEGIN:VEVENT
DTSTART;TZID=Australia/Perth:20260604T080000
DTEND;TZID=Australia/Perth:20260604T090000
DTSTAMP:20260421T225054
CREATED:20260415T041916Z
LAST-MODIFIED:20260415T041916Z
UID:10007509-1780560000-1780563600@wainnovationcalendar.com.au
SUMMARY:DEADLINE: Australasia GreenGown Awards
DESCRIPTION:Applications are now open for the 2026 Green Gown Awards Australasia\, celebrating the institutions and individuals driving sustainability leadership across the tertiary sector. \nThis year includes a new Digital Futures category\, recognising innovative digital projects that enhance sustainability in tertiary education. The biennial Powerful Partnership category also returns\, celebrating high-impact collaborations within and beyond the sector. With a broad mix of organisational and individual categories\, there are plenty of opportunities to showcase your work. \nOrganisational categories are open to any tertiary education establishment – including all post-16 educational institutions such as universities\, colleges\, TAFE\, Polytechnics and learning and skills institutions. Individual categories are open to staff and students of ACTS member organisations.
URL:https://wainnovationcalendar.com.au/event/deadline-green-gown-awards/
LOCATION:Apply online\, Australia
CATEGORIES:DEADLINE: Award / Scholarship
ATTACH;FMTTYPE=image/png:https://wainnovationcalendar.com.au/wp-content/uploads/2026/04/GGAA-Header-Logo@2x.png
END:VEVENT
BEGIN:VEVENT
DTSTART;TZID=Australia/Perth:20260609T080000
DTEND;TZID=Australia/Perth:20260609T090000
DTSTAMP:20260421T225054
CREATED:20260329T064832Z
LAST-MODIFIED:20260329T075236Z
UID:10004399-1780992000-1780995600@wainnovationcalendar.com.au
SUMMARY:DEADLINE: AMDA Innovation Pitchfest and Awards
DESCRIPTION:The Innovation Pitchfest and Awards looks to provide opportunities for innovations across all Technology Readiness Levels (TRLs). This integrated approach ensures that promising ideas\, regardless of their stage of development\, gain recognition\, support\, and the opportunity to contribute to Australia’s defence and aerospace sectors. \nThe Innovation Pitchfest and Awards is presented in collaboration with the Defence Science Institute (DSI)\, the Defence Innovation Partnership (DIP) in SA\, Defence Innovation Network (DIN) in NSW\, Defence Science Centre (DSC) in WA\, and Queensland Defence Alliance (QDSA).
URL:https://wainnovationcalendar.com.au/event/deadline-amda-innovation-pitchfest-and-awards-2026/
LOCATION:Apply online\, Australia
CATEGORIES:DEADLINE: Award / Scholarship
ATTACH;FMTTYPE=image/png:https://wainnovationcalendar.com.au/wp-content/uploads/2025/07/Screenshot-2025-07-19-151730.png
END:VEVENT
BEGIN:VEVENT
DTSTART;TZID=Australia/Perth:20260612T090000
DTEND;TZID=Australia/Perth:20260612T100000
DTSTAMP:20260421T225054
CREATED:20260421T054940Z
LAST-MODIFIED:20260421T061128Z
UID:10007532-1781254800-1781258400@wainnovationcalendar.com.au
SUMMARY:DEADLINE: Australian Export Awards
DESCRIPTION:The Australian Export Awards is one of Australia’s most prestigious and longest running export awards programs. The awards can help you unlock new business opportunities\, build connections\, grow your export business\, and receive global recognition.
URL:https://wainnovationcalendar.com.au/event/deadline-australian-export-awards-4/
LOCATION:Apply online\, Australia
CATEGORIES:DEADLINE: Award / Scholarship
END:VEVENT
END:VCALENDAR